BEGIN:VCALENDAR
VERSION:2.0
PRODID:-//Metro Parks - Central Ohio Park System - ECPv6.15.16.1//NONSGML v1.0//EN
CALSCALE:GREGORIAN
METHOD:PUBLISH
X-WR-CALNAME:Metro Parks - Central Ohio Park System
X-ORIGINAL-URL:https://www.metroparks.net
X-WR-CALDESC:Events for Metro Parks - Central Ohio Park System
REFRESH-INTERVAL;VALUE=DURATION:PT1H
X-Robots-Tag:noindex
X-PUBLISHED-TTL:PT1H
BEGIN:VTIMEZONE
TZID:America/New_York
BEGIN:DAYLIGHT
TZOFFSETFROM:-0500
TZOFFSETTO:-0400
TZNAME:EDT
DTSTART:20220313T070000
END:DAYLIGHT
BEGIN:STANDARD
TZOFFSETFROM:-0400
TZOFFSETTO:-0500
TZNAME:EST
DTSTART:20221106T060000
END:STANDARD
BEGIN:DAYLIGHT
TZOFFSETFROM:-0500
TZOFFSETTO:-0400
TZNAME:EDT
DTSTART:20230312T070000
END:DAYLIGHT
BEGIN:STANDARD
TZOFFSETFROM:-0400
TZOFFSETTO:-0500
TZNAME:EST
DTSTART:20231105T060000
END:STANDARD
BEGIN:DAYLIGHT
TZOFFSETFROM:-0500
TZOFFSETTO:-0400
TZNAME:EDT
DTSTART:20240310T070000
END:DAYLIGHT
BEGIN:STANDARD
TZOFFSETFROM:-0400
TZOFFSETTO:-0500
TZNAME:EST
DTSTART:20241103T060000
END:STANDARD
END:VTIMEZONE
BEGIN:VEVENT
DTSTART;TZID=America/New_York:20230401T110000
DTEND;TZID=America/New_York:20230401T140000
DTSTAMP:20260423T133625
CREATED:20230324T151913Z
LAST-MODIFIED:20230324T152323Z
UID:10000400-1680346800-1680357600@www.metroparks.net
SUMMARY:Hoppin' Hound Hunt
DESCRIPTION:Why should kids have all the fun? Bring your canine friend for a doggone good egg hunt at the dog park! Registration starts 10:30 am. \n  \n 
URL:https://www.metroparks.net/event/hoppin-hound-hunt/
LOCATION:Rocky Fork\, 7180 East Walnut St.\, Westerville\, OH\, 43081\, United States
ATTACH;FMTTYPE=image/jpeg:https://www.metroparks.net/wp-content/uploads/2023/03/QT_DogOnAWalk_LizChristian-scaled-e1679671380201.jpg
END:VEVENT
BEGIN:VEVENT
DTSTART;TZID=America/New_York:20230402T140000
DTEND;TZID=America/New_York:20230402T150000
DTSTAMP:20260423T133625
CREATED:20230324T152419Z
LAST-MODIFIED:20230324T152419Z
UID:10000401-1680444000-1680447600@www.metroparks.net
SUMMARY:Natural Egg Dying
DESCRIPTION:Natural plant materials will be used to create beautiful dyes for your eggs. Learn how to make your own natural dyes\, and try ours. One hard boiled egg per person provided\, but feel free to bring your own too!
URL:https://www.metroparks.net/event/natural-egg-dying/
LOCATION:Blendon Woods\, 4265 E Dublin Granville Road\, Columbus\, 43081\, United States
END:VEVENT
BEGIN:VEVENT
DTSTART;TZID=America/New_York:20230408T110000
DTEND;TZID=America/New_York:20230408T150000
DTSTAMP:20260423T133625
CREATED:20230327T141346Z
LAST-MODIFIED:20230327T141346Z
UID:10000402-1680951600-1680966000@www.metroparks.net
SUMMARY:An Egg-citing Family Fun Day
DESCRIPTION:**Please Note: This is not an egg hunt\, please leave baskets at home** Hop on over for a fun afternoon of “egg-themed” activities. Enjoy an outdoor Easter themed scavenger hunt \, toast marshmallows over the campfire\, play “egg-themed” games inside the nature center and more! A costumed Easter Bunny will be making a special appearance. Candy prizes for the scavenger hunt. \nMeeting location notes- Nature Center: Highbanks Nature Center is the first right after entering the park. Limited parking in the nature center parking lot on busy days. Additional parking available in the Oak Coves Picnic Area. The Oak Coves picnic area\, 10-min walk from the nature center. Follow the paved trail through Oak coves toward the nature center.
URL:https://www.metroparks.net/event/an-egg-citing-family-fun-day/
LOCATION:Highbanks\, 9466 Columbus Pike (US Rt 23 N)\, Lewis Center\, OH\, 43035\, United States
END:VEVENT
BEGIN:VEVENT
DTSTART;TZID=America/New_York:20230415T200000
DTEND;TZID=America/New_York:20230415T213000
DTSTAMP:20260423T133625
CREATED:20230331T154419Z
LAST-MODIFIED:20230331T154419Z
UID:10000403-1681588800-1681594200@www.metroparks.net
SUMMARY:Frog Frenzy
DESCRIPTION:Take a 1-mile round trip walk to a wetland where we’ll listen to and search for mating frogs and toads. Please wear boots if you plan on joining the search as we’ll be wading in cold\, shallow water. Some nets will be available to use but bring your own headlamps or flashlights. Note: Cold weather means very few frogs and toads so hope for warm weather! Meets at the Confluence Area bulletin board\, 3860 Bixby Rd\, Groveport.
URL:https://www.metroparks.net/event/frog-frenzy/
LOCATION:Three Creeks\, 3860 Bixby Road\, Groveport\, OH\, 43125\, United States
ATTACH;FMTTYPE=image/jpeg:https://www.metroparks.net/wp-content/uploads/2023/03/green-frog-in-wetland_INN_May_Mary-Ann-Schell-1-scaled.jpg
END:VEVENT
BEGIN:VEVENT
DTSTART;TZID=America/New_York:20230416T140000
DTEND;TZID=America/New_York:20230416T153000
DTSTAMP:20260423T133625
CREATED:20230410T143738Z
LAST-MODIFIED:20230410T143738Z
UID:10000406-1681653600-1681659000@www.metroparks.net
SUMMARY:Walk Among the Bluebells
DESCRIPTION:Learn about the natural history of Virginia bluebells and other spring wildflowers. on a 1-mile walk. Please wear shoes or boots suitable for muddy\, slippery walking. No pets\, please. Meets at Three Creeks Confluence Area bulletin board\, 3860 Bixby Rd\, Groveport
URL:https://www.metroparks.net/event/walk-among-the-bluebells/
LOCATION:Three Creeks\, 3860 Bixby Road\, Groveport\, OH\, 43125\, United States
ATTACH;FMTTYPE=image/jpeg:https://www.metroparks.net/wp-content/uploads/2015/04/22x9_bluebells_THC_ChuckHughes.jpg
END:VEVENT
BEGIN:VEVENT
DTSTART;TZID=America/New_York:20230416T140000
DTEND;TZID=America/New_York:20230416T160000
DTSTAMP:20260423T133625
CREATED:20230331T154522Z
LAST-MODIFIED:20230331T154730Z
UID:10000404-1681653600-1681660800@www.metroparks.net
SUMMARY:Blacklick Creek Clean-Up
DESCRIPTION:Kick-off Earth Week by removing litter from Blacklick Creek! Take a 2-mile (round-trip) hike to the creek where you will work with staff and other visitors to make the park a better place by picking up litter and debris.
URL:https://www.metroparks.net/event/blacklick-creek-clean-up/
LOCATION:Blacklick Woods\, 6975 East Livingston Ave\, Reynoldsburg\, OH\, 43068\, United States
END:VEVENT
BEGIN:VEVENT
DTSTART;TZID=America/New_York:20230416T140000
DTEND;TZID=America/New_York:20230416T160000
DTSTAMP:20260423T133625
CREATED:20230331T154650Z
LAST-MODIFIED:20230331T154701Z
UID:10000405-1681653600-1681660800@www.metroparks.net
SUMMARY:Plant A Tree at Highbanks
DESCRIPTION:Celebrate Earth Day by helping plant native Ohio trees in an area of the forest where volunteers have been removing invasive plant species. We will be planting native trees to help the forest recover to a healthy ecosystem. Trees have been selected to help pollinators or birds. Trees have been donated by Green Columbus as part of their Earth Day celebration. Please bring a shovel\, work gloves and water bottle. We will be planting off-trail\, please be sure to treat your clothing with tick repellant.. Expect to be get dirty and wear shoes with good traction. Take home a free native Ohio tree after the program. Ages 6+. \nMeeting Location notes; Meet in the Big Meadows Picnic Area. After entering the park\, follow the park road all the way to back of the park and enter the Big Meadows Picnic Area. Meet us in the first parking lot on the RIGHT. Additional parking available in near by parking lots. “Program” signs will be posted in the park to help you find our meeting location.
URL:https://www.metroparks.net/event/plant-a-tree-at-highbanks/
LOCATION:Highbanks\, 9466 Columbus Pike (US Rt 23 N)\, Lewis Center\, OH\, 43035\, United States
END:VEVENT
BEGIN:VEVENT
DTSTART;TZID=America/New_York:20230420T180000
DTEND;TZID=America/New_York:20230420T190000
DTSTAMP:20260423T133625
CREATED:20230410T144332Z
LAST-MODIFIED:20230410T144332Z
UID:10000408-1682013600-1682017200@www.metroparks.net
SUMMARY:Cleanup Hike
DESCRIPTION:Enjoy a hike and clean up the trail as you go! We will provide trash bags and gloves\, meet at the Arrowhead Picnic area at Scioto Grove Metro Park! Snacks provided as a thank you after the hike!
URL:https://www.metroparks.net/event/cleanup-hike/
LOCATION:Scioto Grove\, 5172 Jackson Pike\, Grove City\, OH\, 43123\, United States
END:VEVENT
BEGIN:VEVENT
DTSTART;TZID=America/New_York:20230420T180000
DTEND;TZID=America/New_York:20230420T200000
DTSTAMP:20260423T133625
CREATED:20230410T144117Z
LAST-MODIFIED:20230410T144117Z
UID:10000407-1682013600-1682020800@www.metroparks.net
SUMMARY:Earth Day Cleanup: Invasives\, Trash & Trees\, Oh My!
DESCRIPTION:Dress for an off-trail adventure!!! Help us rid our beautiful park of litter and non-native\, invasive plants such as garlic mustard and honeysuckle. We will also be planting native trees and shrubs. Our trash and invasive plant removal will be focused in the Spring Creek area (including the woods and ravines on either side of it.) The Schrock Lake area is the focus for tree planting and trash. Terrain may be rough\, but flatland options are available near the lake. No strollers\, please. Sign up at: https://www.earthdaycolumbus.org/volunteer \nPlease bring garden/work gloves if you have them and wear long pants and old shoes/boots. We will be OFF-TRAIL. If you are planning on getting into the creek\, wear very old clothes and you may want to bring a change of clothes! Event is rain or shine\, canceled only if lightning.
URL:https://www.metroparks.net/event/earth-day-cleanup-invasives-trash-trees-oh-my/
LOCATION:Sharon Woods\, 6911 Cleveland Ave.\, Columbus\, OH\, 43081\, United States
END:VEVENT
BEGIN:VEVENT
DTSTART;TZID=America/New_York:20230421T190000
DTEND;TZID=America/New_York:20230421T210000
DTSTAMP:20260423T133625
CREATED:20230414T184425Z
LAST-MODIFIED:20230414T184547Z
UID:10000409-1682103600-1682110800@www.metroparks.net
SUMMARY:Sunset Stroll on the Golf Course
DESCRIPTION:Enjoy special access to walk the paths on the Golf Course. Select Evenings Only. Please check in & Check out with a staff member in the Pro Shop.
URL:https://www.metroparks.net/event/sunset-stroll-on-the-golf-course/
LOCATION:Blacklick Woods Golf Course\, 7309 E Livingston Ave\, Reynoldsburg\, OH\, 43068\, United States
ATTACH;FMTTYPE=image/jpeg:https://www.metroparks.net/wp-content/uploads/2014/10/feature-BLGC.jpg
END:VEVENT
BEGIN:VEVENT
DTSTART;TZID=America/New_York:20230422T100000
DTEND;TZID=America/New_York:20230422T130000
DTSTAMP:20260423T133625
CREATED:20230414T184845Z
LAST-MODIFIED:20230414T184845Z
UID:10000411-1682157600-1682168400@www.metroparks.net
SUMMARY:Earth Day Hike
DESCRIPTION:Help staff and volunteers remove invasive garlic mustard during a 4-mile backcountry hike. Helpful invasive species information will be shared as well as identification techniques and ways you can help make a difference in preventing the spread. Terrain at Clear Creek is steep and rugged\, be prepared for elevation gain. Bring work gloves\, wear sturdy hiking shoes and bring water. Meet at the Creekside Meadows Parking Lot\, 23833 Clear Creek Road in Rockbridge.
URL:https://www.metroparks.net/event/earth-day-hike/
LOCATION:Clear Creek\, 185 Clear Creek Road\, Lancaster\, OH\, 43130\, United States
END:VEVENT
BEGIN:VEVENT
DTSTART;TZID=America/New_York:20230422T120000
DTEND;TZID=America/New_York:20230422T140000
DTSTAMP:20260423T133625
CREATED:20230414T184744Z
LAST-MODIFIED:20230414T184744Z
UID:10000410-1682164800-1682172000@www.metroparks.net
SUMMARY:Earth Day: Off-Trail Hike
DESCRIPTION:Take a 2-mile off-trail ramble through the woods. We will pick up trash along the way.
URL:https://www.metroparks.net/event/earth-day-off-trail-hike/
LOCATION:Blendon Woods\, 4265 E Dublin Granville Road\, Columbus\, 43081\, United States
END:VEVENT
BEGIN:VEVENT
DTSTART;TZID=America/New_York:20230424T150000
DTEND;TZID=America/New_York:20230424T160000
DTSTAMP:20260423T133625
CREATED:20230417T150216Z
LAST-MODIFIED:20230417T150216Z
UID:10000412-1682348400-1682352000@www.metroparks.net
SUMMARY:Earth Day Cleanup Hike
DESCRIPTION:Join the naturalist for an Earth Day cleanup hike! Meet by the flagpole.
URL:https://www.metroparks.net/event/earth-day-cleanup-hike/
LOCATION:Glacier Ridge\, 9801 Hyland Croy\, Plain City\, OH\, 43064\, United States
END:VEVENT
BEGIN:VEVENT
DTSTART;TZID=America/New_York:20230426T180000
DTEND;TZID=America/New_York:20230426T200000
DTSTAMP:20260423T133625
CREATED:20230417T150350Z
LAST-MODIFIED:20230417T150350Z
UID:10000413-1682532000-1682539200@www.metroparks.net
SUMMARY:Learn the Ropes
DESCRIPTION:Join Metro Parks Outdoor Adventure and Scioto Audubon Metro Park for a Learn the Ropes program at the climbing wall.\nOpen to all ages\, instruction and equipment are provided. Tennis shoes are the recommended footwear for beginners.
URL:https://www.metroparks.net/event/learn-the-ropes/
LOCATION:Scioto Audubon\, 400 West Whittier St.\, Columbus\, OH\, 43215\, United States
ATTACH;FMTTYPE=image/jpeg:https://www.metroparks.net/wp-content/uploads/2022/11/SAU-wall-and-tower-1200px.jpg
END:VEVENT
BEGIN:VEVENT
DTSTART;TZID=America/New_York:20230429T130000
DTEND;TZID=America/New_York:20230429T160000
DTSTAMP:20260423T133625
CREATED:20230424T171215Z
LAST-MODIFIED:20230424T171215Z
UID:10000415-1682773200-1682784000@www.metroparks.net
SUMMARY:Tree Planting Palooza
DESCRIPTION:Drop by anytime between 1-4pm to celebrate Earth Day and help us plant baby trees in the park. You can even decorate a small flag to mark your tree\, so you can find it each time you visit!
URL:https://www.metroparks.net/event/tree-planting-palooza/
LOCATION:Sharon Woods\, 6911 Cleveland Ave.\, Columbus\, OH\, 43081\, United States
ATTACH;FMTTYPE=image/jpeg:https://www.metroparks.net/wp-content/uploads/2023/04/image_123923953-1-scaled.jpg
END:VEVENT
BEGIN:VEVENT
DTSTART;TZID=America/New_York:20230429T200000
DTEND;TZID=America/New_York:20230429T213000
DTSTAMP:20260423T133625
CREATED:20230417T150530Z
LAST-MODIFIED:20230417T151220Z
UID:10000414-1682798400-1682803800@www.metroparks.net
SUMMARY:Not Too Scary Night Hike
DESCRIPTION:Bring along your favorite stuffy\, wear your jammies\, and stay up late to experience the night forest. We will read a story while we have a cookie and juice\, then go for a walk. You might discover nighttime isn’t so scary after all! Program designed for kids age 3-8\, but all are welcome.
URL:https://www.metroparks.net/event/not-too-scary-night-hike/
LOCATION:Blendon Woods\, 4265 E Dublin Granville Road\, Columbus\, 43081\, United States
END:VEVENT
BEGIN:VEVENT
DTSTART;TZID=America/New_York:20230430T160000
DTEND;TZID=America/New_York:20230430T170000
DTSTAMP:20260423T133625
CREATED:20230428T115700Z
LAST-MODIFIED:20230428T115700Z
UID:10000419-1682870400-1682874000@www.metroparks.net
SUMMARY:Geocaching Kickoff
DESCRIPTION:This event kicks off the 2023 Metro Parks Geocache Trail. Learn about geocaching and this year’s theme. Meet at the Natural Play Area Shelter.
URL:https://www.metroparks.net/event/geocaching-kickoff/
LOCATION:Blendon Woods\, 4265 E Dublin Granville Road\, Columbus\, 43081\, United States
END:VEVENT
END:VCALENDAR