BEGIN:VCALENDAR
VERSION:2.0
PRODID:-//Metro Parks - Central Ohio Park System - ECPv6.15.16.1//NONSGML v1.0//EN
CALSCALE:GREGORIAN
METHOD:PUBLISH
X-ORIGINAL-URL:https://www.metroparks.net
X-WR-CALDESC:Events for Metro Parks - Central Ohio Park System
REFRESH-INTERVAL;VALUE=DURATION:PT1H
X-Robots-Tag:noindex
X-PUBLISHED-TTL:PT1H
BEGIN:VTIMEZONE
TZID:America/New_York
BEGIN:DAYLIGHT
TZOFFSETFROM:-0500
TZOFFSETTO:-0400
TZNAME:EDT
DTSTART:20220313T070000
END:DAYLIGHT
BEGIN:STANDARD
TZOFFSETFROM:-0400
TZOFFSETTO:-0500
TZNAME:EST
DTSTART:20221106T060000
END:STANDARD
BEGIN:DAYLIGHT
TZOFFSETFROM:-0500
TZOFFSETTO:-0400
TZNAME:EDT
DTSTART:20230312T070000
END:DAYLIGHT
BEGIN:STANDARD
TZOFFSETFROM:-0400
TZOFFSETTO:-0500
TZNAME:EST
DTSTART:20231105T060000
END:STANDARD
BEGIN:DAYLIGHT
TZOFFSETFROM:-0500
TZOFFSETTO:-0400
TZNAME:EDT
DTSTART:20240310T070000
END:DAYLIGHT
BEGIN:STANDARD
TZOFFSETFROM:-0400
TZOFFSETTO:-0500
TZNAME:EST
DTSTART:20241103T060000
END:STANDARD
BEGIN:DAYLIGHT
TZOFFSETFROM:-0500
TZOFFSETTO:-0400
TZNAME:EDT
DTSTART:20250309T070000
END:DAYLIGHT
BEGIN:STANDARD
TZOFFSETFROM:-0400
TZOFFSETTO:-0500
TZNAME:EST
DTSTART:20251102T060000
END:STANDARD
END:VTIMEZONE
BEGIN:VEVENT
DTSTART;TZID=America/New_York:20240211T100000
DTEND;TZID=America/New_York:20240211T130000
DTSTAMP:20260423T165830
CREATED:20231115T180321Z
LAST-MODIFIED:20231207T151232Z
UID:10000739-1707645600-1707656400@www.metroparks.net
SUMMARY:Quarry Trails Winter Hike
DESCRIPTION:Gather your friends and family for a hike on any trail at Quarry Trails Metro Park. Refreshments and a treat will be served between 10am and 1pm. \nLearn more about winter hikes by clicking here.
URL:https://www.metroparks.net/event/quarry-trails-winter-hike/
LOCATION:Quarry Trails\, 2600 Dublin Road\, Columbus\, OH\, 43228\, United States
ATTACH;FMTTYPE=image/png:https://www.metroparks.net/wp-content/uploads/2023/11/QT.png
END:VEVENT
BEGIN:VEVENT
DTSTART;TZID=America/New_York:20240210T100000
DTEND;TZID=America/New_York:20240210T130000
DTSTAMP:20260423T165830
CREATED:20231115T180209Z
LAST-MODIFIED:20231207T151136Z
UID:10000738-1707559200-1707570000@www.metroparks.net
SUMMARY:Glacier Ridge Winter Hike
DESCRIPTION:Gather your friends and family for a hike on any trail at Glacier Ridge Metro Park. Refreshments and a treat will be served between 10am and 1pm. \nLearn more about winter hikes by clicking here.
URL:https://www.metroparks.net/event/glacier-ridge-winter-hike/
LOCATION:Glacier Ridge\, 9801 Hyland Croy\, Plain City\, OH\, 43064\, United States
ATTACH;FMTTYPE=image/png:https://www.metroparks.net/wp-content/uploads/2023/11/GLR.png
END:VEVENT
BEGIN:VEVENT
DTSTART;TZID=America/New_York:20240128T100000
DTEND;TZID=America/New_York:20240128T130000
DTSTAMP:20260423T165830
CREATED:20231115T175853Z
LAST-MODIFIED:20231218T143051Z
UID:10000735-1706436000-1706446800@www.metroparks.net
SUMMARY:Scioto Grove Winter Hike
DESCRIPTION:Gather your friends and family for a hike on any trail at Scioto Grove Metro Park. Refreshments and a treat will be served between 10am and 1pm. \nLearn more about winter hikes by clicking here.
URL:https://www.metroparks.net/event/scioto-grove-winter-hike/
LOCATION:Scioto Grove\, 5172 Jackson Pike\, Grove City\, OH\, 43123\, United States
ATTACH;FMTTYPE=image/png:https://www.metroparks.net/wp-content/uploads/2023/11/SGR.png
END:VEVENT
BEGIN:VEVENT
DTSTART;TZID=America/New_York:20240127T100000
DTEND;TZID=America/New_York:20240127T130000
DTSTAMP:20260423T165830
CREATED:20231115T175732Z
LAST-MODIFIED:20231226T141515Z
UID:10000734-1706349600-1706360400@www.metroparks.net
SUMMARY:Clear Creek Winter Hike
DESCRIPTION:Take a self guided hike on any of our public trails and enjoy refreshments at our Barnebey Hambleton area from 10am-1pm. Meet at the Park Office (185 Clear Creek Road\, Lancaster) at 10am for a guided 4-mile backcountry hike. Terrain at Clear Creek is steep and uneven\, wear sturdy hiking shoes and bring water. \nLearn more about winter hikes by clicking here.
URL:https://www.metroparks.net/event/clear-creek-winter-hike/
LOCATION:Clear Creek\, 185 Clear Creek Road\, Lancaster\, OH\, 43130\, United States
ATTACH;FMTTYPE=image/png:https://www.metroparks.net/wp-content/uploads/2023/11/CLC-1.png
END:VEVENT
BEGIN:VEVENT
DTSTART;TZID=America/New_York:20240113T100000
DTEND;TZID=America/New_York:20240113T130000
DTSTAMP:20260423T165830
CREATED:20231115T175116Z
LAST-MODIFIED:20231228T184336Z
UID:10000730-1705140000-1705150800@www.metroparks.net
SUMMARY:Sharon Woods Winter Hike
DESCRIPTION:Gather your friends and family for a hike on any trail at Sharon Woods Metro Park. Refreshments and a treat will be served between 10am and 1pm. \nLearn more about winter hikes by clicking here.
URL:https://www.metroparks.net/event/sharon-woods-winter-hike/
LOCATION:Sharon Woods\, 6911 Cleveland Ave.\, Columbus\, OH\, 43081\, United States
ATTACH;FMTTYPE=image/png:https://www.metroparks.net/wp-content/uploads/2023/11/SHW.png
END:VEVENT
BEGIN:VEVENT
DTSTART;TZID=America/New_York:20240107T100000
DTEND;TZID=America/New_York:20240107T130000
DTSTAMP:20260423T165830
CREATED:20231115T174505Z
LAST-MODIFIED:20231218T142525Z
UID:10000729-1704621600-1704632400@www.metroparks.net
SUMMARY:Walnut Woods Winter Hike
DESCRIPTION:Gather your friends and family for a hike on any trail at Walnut Woods Metro Park. Refreshments and a treat will be served between 10am and 1pm in the Buckeye Area. \nLearn more about winter hikes by clicking here.
URL:https://www.metroparks.net/event/walnut-woods-metro-park/
LOCATION:Walnut Woods\, 6723 Lithopolis Rd\, Groveport\, OH\, 43125\, United States
ATTACH;FMTTYPE=image/png:https://www.metroparks.net/wp-content/uploads/2023/11/WAL.png
END:VEVENT
BEGIN:VEVENT
DTSTART;TZID=America/New_York:20230915T170000
DTEND;TZID=America/New_York:20230916T170000
DTSTAMP:20260423T165830
CREATED:20230523T132814Z
LAST-MODIFIED:20230907T161436Z
UID:10000451-1694797200-1694883600@www.metroparks.net
SUMMARY:SciotoFest
DESCRIPTION:Scioto Fest will be bigger and better than ever this year. All the fun begins at Scioto Audubon Metro Park at 5pm on Friday\, September 15\, 2023 with Yappy Hour\, Try It! climbing wall programs\, river floats\, food trucks\, Nocterra and Land Grant beer\, plus a DJ and live bands.
URL:https://www.metroparks.net/event/sciotofest/
LOCATION:Scioto Audubon\, 400 West Whittier St.\, Columbus\, OH\, 43215\, United States
ATTACH;FMTTYPE=image/jpeg:https://www.metroparks.net/wp-content/uploads/2023/08/bg-sciotofest-tower-rockwall.jpg
END:VEVENT
BEGIN:VEVENT
DTSTART;TZID=America/New_York:20230717T180000
DTEND;TZID=America/New_York:20230717T200000
DTSTAMP:20260423T165830
CREATED:20230626T150456Z
LAST-MODIFIED:20230626T150456Z
UID:10000525-1689616800-1689624000@www.metroparks.net
SUMMARY:Threads of Light - Meet the Artists
DESCRIPTION:Light is Life. An incredible force that connects individual life and the whole of nature. Join the artists of this incredible exhibition\, The Nature Conservancy\, and Metro Parks for an evening of conversation around photography and conservation! \nEngage in presentations\, gaze at the gallery\, network\, and enjoy free wine provided by Friends of Metro Parks!\n6- 7 PM Speakers & Artists\n7-8 PM Mix & Mingle
URL:https://www.metroparks.net/event/threads-of-light-meet-the-artists/
LOCATION:Battelle Darby Creek\, 1775 Darby Creek Drive\, Galloway\, OH\, 43119\, United States
ATTACH;FMTTYPE=image/jpeg:https://www.metroparks.net/wp-content/uploads/2023/06/355129705_652465196923794_4812217254756449684_n.jpg
END:VEVENT
END:VCALENDAR