BEGIN:VCALENDAR
VERSION:2.0
PRODID:-//Metro Parks - Central Ohio Park System - ECPv6.15.16.1//NONSGML v1.0//EN
CALSCALE:GREGORIAN
METHOD:PUBLISH
X-WR-CALNAME:Metro Parks - Central Ohio Park System
X-ORIGINAL-URL:https://www.metroparks.net
X-WR-CALDESC:Events for Metro Parks - Central Ohio Park System
REFRESH-INTERVAL;VALUE=DURATION:PT1H
X-Robots-Tag:noindex
X-PUBLISHED-TTL:PT1H
BEGIN:VTIMEZONE
TZID:America/New_York
BEGIN:DAYLIGHT
TZOFFSETFROM:-0500
TZOFFSETTO:-0400
TZNAME:EDT
DTSTART:20240310T070000
END:DAYLIGHT
BEGIN:STANDARD
TZOFFSETFROM:-0400
TZOFFSETTO:-0500
TZNAME:EST
DTSTART:20241103T060000
END:STANDARD
BEGIN:DAYLIGHT
TZOFFSETFROM:-0500
TZOFFSETTO:-0400
TZNAME:EDT
DTSTART:20250309T070000
END:DAYLIGHT
BEGIN:STANDARD
TZOFFSETFROM:-0400
TZOFFSETTO:-0500
TZNAME:EST
DTSTART:20251102T060000
END:STANDARD
BEGIN:DAYLIGHT
TZOFFSETFROM:-0500
TZOFFSETTO:-0400
TZNAME:EDT
DTSTART:20260308T070000
END:DAYLIGHT
BEGIN:STANDARD
TZOFFSETFROM:-0400
TZOFFSETTO:-0500
TZNAME:EST
DTSTART:20261101T060000
END:STANDARD
END:VTIMEZONE
BEGIN:VEVENT
DTSTART;TZID=America/New_York:20251023T190000
DTEND;TZID=America/New_York:20251023T200000
DTSTAMP:20260420T135714
CREATED:20250930T130551Z
LAST-MODIFIED:20250930T130551Z
UID:10003361-1761246000-1761249600@www.metroparks.net
SUMMARY:Costume Lantern Hike!
DESCRIPTION:No Registration Required! Enjoy a lantern illuminated hike through the Tall Pines area at Walnut Woods Metro Park! Wear your best costume and plan to hike approx. 2 miles! Use address 6833 Richardson Rd\, Groveport.
URL:https://www.metroparks.net/event/costume-lantern-hike-2/2025-10-23/
LOCATION:Walnut Woods\, 6723 Lithopolis Rd\, Groveport\, OH\, 43125\, United States
END:VEVENT
BEGIN:VEVENT
DTSTART;TZID=America/New_York:20251016T190000
DTEND;TZID=America/New_York:20251016T200000
DTSTAMP:20260420T135714
CREATED:20250930T130551Z
LAST-MODIFIED:20250930T130551Z
UID:10003360-1760641200-1760644800@www.metroparks.net
SUMMARY:Costume Lantern Hike!
DESCRIPTION:No Registration Required! Enjoy a lantern illuminated hike through the Tall Pines area at Walnut Woods Metro Park! Wear your best costume and plan to hike approx. 2 miles! Use address 6833 Richardson Rd\, Groveport.
URL:https://www.metroparks.net/event/costume-lantern-hike-2/2025-10-16/
LOCATION:Walnut Woods\, 6723 Lithopolis Rd\, Groveport\, OH\, 43125\, United States
END:VEVENT
BEGIN:VEVENT
DTSTART;TZID=America/New_York:20251008T070000
DTEND;TZID=America/New_York:20251008T083000
DTSTAMP:20260420T135714
CREATED:20250930T131313Z
LAST-MODIFIED:20250930T131313Z
UID:10003370-1759906800-1759912200@www.metroparks.net
SUMMARY:Sunrise Hike
DESCRIPTION:Join us for a hike to watch the beautiful sunrise at Scioto Grove Metro Park! Hike will be approx. 2 miles. Meet staff at the Arrowhead Picnic Area.
URL:https://www.metroparks.net/event/sunrise-hike-3/
LOCATION:Scioto Grove\, 5172 Jackson Pike\, Grove City\, OH\, 43123\, United States
END:VEVENT
BEGIN:VEVENT
DTSTART;TZID=America/New_York:20251006T180000
DTEND;TZID=America/New_York:20251006T193000
DTSTAMP:20260420T135714
CREATED:20250930T131234Z
LAST-MODIFIED:20250930T131234Z
UID:10003369-1759773600-1759779000@www.metroparks.net
SUMMARY:Backpacking Series: Week 6 - Shakedown Hike!
DESCRIPTION:Are you wanting to learn more about backpacking? Join us for a 6-week long series of interactive classes designed as an introduction to backpacking\, building up to an overnight trip at the end! Attendance at all classes is NOT required – however the overnight trip will only be open to those who attend at least one class. Each weeks topic will have two dates to choose from (With the exception of Week 6) in that week so participants can pick the day that works best for them to attend\, you don’t need to attend both dates in the week. Meet at Arrowhead Picnic area at Scioto Grove Metro Park \nPlease note!! We will only have 1 day of Week 6\, on Monday\, October 6th! There will be no Sunday option for the Shakedown Hike. \nThis week we will be going on a backpacking preparation hike! Expect the hike to be approx. a mile in length. Bring a pack and equipment to test your strength and endurance on the trail in a real life backpacking scenario! Meet at the Arrowhead Picnic Area at Scioto Grove Metro Park. \nFall Backpacking Series:\nWeek 1: 4 Essentials & Site Selection\nWeek 2: Water & Waste\nWeek 3: Fuel\, Fire & Food\nWeek 4: Clothing & Foot Care\nWeek 5: Prep\, Safety and Outdoor Ethics\nWeek 6: Shakedown Hike
URL:https://www.metroparks.net/event/backpacking-series-week-6-shakedown-hike-3/
LOCATION:Scioto Grove\, 5172 Jackson Pike\, Grove City\, OH\, 43123\, United States
END:VEVENT
BEGIN:VEVENT
DTSTART;TZID=America/New_York:20251005T130000
DTEND;TZID=America/New_York:20251005T143000
DTSTAMP:20260420T135714
CREATED:20250930T131116Z
LAST-MODIFIED:20250930T131116Z
UID:10003367-1759669200-1759674600@www.metroparks.net
SUMMARY:Backpacking Series: Week 5 - Prep\, Safety\, & Outdoor Ethics
DESCRIPTION:Are you wanting to learn more about backpacking? Join us for a 6-week series of interactive classes designed as an introduction to backpacking\, building up to an overnight trip at the end! Attendance at all classes is NOT required – however\, the overnight trip will only be open to those who attend at least ONE class.\nEach week’s topic will have two dates to choose from in that week – you don’t need to attend both dates in the week. This series is for all ages and all backpacking abilities\, from beginner to experienced backpackers. \nWeek #5: Prep\, Safety\, & Outdoor Ethics. We will learn how to minimize the impact to our environment during this class\, and will prepare for our upcoming overnight trip! Plan for a short hike during this class. \nFall Backpacking Series:\nWeek 1: 4 Essentials & Site Selection\nWeek 2: Water & Waste\nWeek 3: Fuel\, Fire\, & Food\nWeek 4: Clothing & Foot Care\nWeek 5: Prep\, Safety\, & Outdoor Ethics\nWeek 6: Shakedown Hike!
URL:https://www.metroparks.net/event/backpacking-series-week-5-prep-safety-outdoor-ethics-3/
LOCATION:Scioto Grove\, 5172 Jackson Pike\, Grove City\, OH\, 43123\, United States
END:VEVENT
BEGIN:VEVENT
DTSTART;TZID=America/New_York:20250916T160000
DTEND;TZID=America/New_York:20250916T190000
DTSTAMP:20260420T135714
CREATED:20250825T121037Z
LAST-MODIFIED:20250825T121037Z
UID:10003170-1758038400-1758049200@www.metroparks.net
SUMMARY:Evening Kayaking
DESCRIPTION:Come out anytime during the listed times and enjoy kayaking the lake at Quarry Trails Metro Park\, kayaking will be first come first served. Solo\, sit in kayaks available for ages 10+\, max weight: 275Ibs. A couple of tandem kayaks will be available for all ages\, with an adult. Equipment and instruction is provided. Free and fun! \nUse address 2319 Quarry Trails Dr\, Columbus\, OH. Please follow signage and be on the lookout for construction traffic.
URL:https://www.metroparks.net/event/evening-kayaking-4/2025-09-16/
LOCATION:Quarry Trails\, 2600 Dublin Road\, Columbus\, OH\, 43228\, United States
END:VEVENT
BEGIN:VEVENT
DTSTART;TZID=America/New_York:20250909T160000
DTEND;TZID=America/New_York:20250909T190000
DTSTAMP:20260420T135714
CREATED:20250825T121037Z
LAST-MODIFIED:20250825T121037Z
UID:10003169-1757433600-1757444400@www.metroparks.net
SUMMARY:Evening Kayaking
DESCRIPTION:Come out anytime during the listed times and enjoy kayaking the lake at Quarry Trails Metro Park\, kayaking will be first come first served. Solo\, sit in kayaks available for ages 10+\, max weight: 275Ibs. A couple of tandem kayaks will be available for all ages\, with an adult. Equipment and instruction is provided. Free and fun! \nUse address 2319 Quarry Trails Dr\, Columbus\, OH. Please follow signage and be on the lookout for construction traffic.
URL:https://www.metroparks.net/event/evening-kayaking-4/2025-09-09/
LOCATION:Quarry Trails\, 2600 Dublin Road\, Columbus\, OH\, 43228\, United States
END:VEVENT
BEGIN:VEVENT
DTSTART;TZID=America/New_York:20250909T153000
DTEND;TZID=America/New_York:20250909T170000
DTSTAMP:20260420T135714
CREATED:20250825T121157Z
LAST-MODIFIED:20250825T121157Z
UID:10003171-1757431800-1757437200@www.metroparks.net
SUMMARY:Try It! Archery
DESCRIPTION:Come try your hand at this free archery program! Come out anytime between the times listed. All equipment provided. Ages 8+.
URL:https://www.metroparks.net/event/try-it-archery-22/
LOCATION:Scioto Grove\, 5172 Jackson Pike\, Grove City\, OH\, 43123\, United States
END:VEVENT
BEGIN:VEVENT
DTSTART;TZID=America/New_York:20250428T180000
DTEND;TZID=America/New_York:20250428T190000
DTSTAMP:20260420T135714
CREATED:20250328T123023Z
LAST-MODIFIED:20250328T123023Z
UID:10002585-1745863200-1745866800@www.metroparks.net
SUMMARY:Spring Into Yoga
DESCRIPTION:Celebrate the start of Spring with a relaxing yoga class at Scioto Grove Metro Park! Yoga will be at The Grove lodge. We will be outside on the deck\, weather permitting\, and inside in the case of rain. Bring your own mat! Free and fun!
URL:https://www.metroparks.net/event/spring-into-yoga-2/
LOCATION:Scioto Grove\, 5172 Jackson Pike\, Grove City\, OH\, 43123\, United States
END:VEVENT
BEGIN:VEVENT
DTSTART;TZID=America/New_York:20250427T100000
DTEND;TZID=America/New_York:20250427T113000
DTSTAMP:20260420T135714
CREATED:20250328T123358Z
LAST-MODIFIED:20250328T123358Z
UID:10002590-1745748000-1745753400@www.metroparks.net
SUMMARY:Cowboy Campfire Coffee!
DESCRIPTION:Howdy Y’all! Come out to the Lower Sled Hill at Quarry Trails Metro Park to learn how to make Cowboy style Campfire Coffee! All ingredients and equipment will be supplied\, feel free to bring your own reusable mug or cup and fill it up with some warm and toasty fire brewed coffee
URL:https://www.metroparks.net/event/cowboy-campfire-coffee-4/2025-04-27/
LOCATION:Quarry Trails\, 2600 Dublin Road\, Columbus\, OH\, 43228\, United States
END:VEVENT
BEGIN:VEVENT
DTSTART;TZID=America/New_York:20250424T163000
DTEND;TZID=America/New_York:20250424T180000
DTSTAMP:20260420T135714
CREATED:20250328T124542Z
LAST-MODIFIED:20250328T124542Z
UID:10002603-1745512200-1745517600@www.metroparks.net
SUMMARY:Invasive Species Archery!
DESCRIPTION:Learn about common invasive species that are found in the Metro Parks\, and take aim at themed targets during this Invasive Species Archery program! Hate honeysuckle? So do we! Free and fun! Ages 8+ recommended. Meet at the Scioto Grove Archery Range
URL:https://www.metroparks.net/event/invasive-species-archery/
LOCATION:Scioto Grove\, 5172 Jackson Pike\, Grove City\, OH\, 43123\, United States
END:VEVENT
BEGIN:VEVENT
DTSTART;TZID=America/New_York:20250422T173000
DTEND;TZID=America/New_York:20250422T183000
DTSTAMP:20260420T135714
CREATED:20250328T124209Z
LAST-MODIFIED:20250328T124209Z
UID:10002601-1745343000-1745346600@www.metroparks.net
SUMMARY:Earth Day Trot!
DESCRIPTION:Join us for a fast paced hike at Walnut Woods Metro Park this Earth Day! Enjoy the beauty of the Tall Pines area while getting your steps in for the day!! We will hike approx. 2+ miles depending on group preference. Trail is mostly paved and flat. Dog friendly!
URL:https://www.metroparks.net/event/earth-day-trot/
LOCATION:Walnut Woods\, 6723 Lithopolis Rd\, Groveport\, OH\, 43125\, United States
END:VEVENT
BEGIN:VEVENT
DTSTART;TZID=America/New_York:20250417T180000
DTEND;TZID=America/New_York:20250417T190000
DTSTAMP:20260420T135714
CREATED:20250328T124131Z
LAST-MODIFIED:20250328T124131Z
UID:10002600-1744912800-1744916400@www.metroparks.net
SUMMARY:Evening S'mores
DESCRIPTION:Enjoy a toasty s’more around a warm campfire at Quarry Trails Metro Park! Meet at the Basin Parking Lot\, all equipment provided. \nQuarry Trails Metro Park has several separate park entrances. The address is 2319 Quarry Trails Dr\, Columbus\, OH. This is a newly opened entrance. Please follow signage and be on the lookout for construction traffic.
URL:https://www.metroparks.net/event/evening-smores-2/
LOCATION:Quarry Trails\, 2600 Dublin Road\, Columbus\, OH\, 43228\, United States
END:VEVENT
BEGIN:VEVENT
DTSTART;TZID=America/New_York:20250413T100000
DTEND;TZID=America/New_York:20250413T113000
DTSTAMP:20260420T135714
CREATED:20250328T123358Z
LAST-MODIFIED:20250328T123358Z
UID:10002589-1744538400-1744543800@www.metroparks.net
SUMMARY:Cowboy Campfire Coffee!
DESCRIPTION:Howdy Y’all! Come out to the Lower Sled Hill at Quarry Trails Metro Park to learn how to make Cowboy style Campfire Coffee! All ingredients and equipment will be supplied\, feel free to bring your own reusable mug or cup and fill it up with some warm and toasty fire brewed coffee
URL:https://www.metroparks.net/event/cowboy-campfire-coffee-4/2025-04-13/
LOCATION:Quarry Trails\, 2600 Dublin Road\, Columbus\, OH\, 43228\, United States
END:VEVENT
BEGIN:VEVENT
DTSTART;TZID=America/New_York:20250331T180000
DTEND;TZID=America/New_York:20250331T190000
DTSTAMP:20260420T135714
CREATED:20250228T163554Z
LAST-MODIFIED:20250228T163554Z
UID:10002481-1743444000-1743447600@www.metroparks.net
SUMMARY:Adventure Book Club!
DESCRIPTION:Join us for our Monthly Adventure Book Club! No registration necessary\, all are welcome. This months book is “Riverman: An American Odyssey” by Ben McGrath.\nWe will meet at the end of each month to discuss a different book. Meet at The Grove Lodge at Scioto Grove Metro Park. Drinks will be provided!
URL:https://www.metroparks.net/event/adventure-book-club-10/
LOCATION:Scioto Grove\, 5172 Jackson Pike\, Grove City\, OH\, 43123\, United States
ATTACH;FMTTYPE=image/jpeg:https://www.metroparks.net/wp-content/uploads/2025/02/81b5zgRlRgL._AC_UF10001000_QL80_.jpg
END:VEVENT
BEGIN:VEVENT
DTSTART;TZID=America/New_York:20250330T100000
DTEND;TZID=America/New_York:20250330T113000
DTSTAMP:20260420T135714
CREATED:20250228T162500Z
LAST-MODIFIED:20250228T162500Z
UID:10002474-1743328800-1743334200@www.metroparks.net
SUMMARY:Cowboy Campfire Coffee!
DESCRIPTION:Howdy Y’all! Come out to the Lower Sled Hill at Quarry Trails Metro Park to learn how to make Cowboy style Campfire Coffee! All ingredients and equipment will be supplied\, feel free to bring your own reusable mug or cup and fill it up with some warm and toasty fire brewed coffee. \nUse the 2600 Dublin Rd. Park entrance.
URL:https://www.metroparks.net/event/cowboy-campfire-coffee-3/2025-03-30/
LOCATION:Quarry Trails\, 2600 Dublin Road\, Columbus\, OH\, 43228\, United States
ATTACH;FMTTYPE=image/jpeg:https://www.metroparks.net/wp-content/uploads/2025/02/Cowboy-Coffee-QT.jpg
END:VEVENT
BEGIN:VEVENT
DTSTART;TZID=America/New_York:20250327T193000
DTEND;TZID=America/New_York:20250327T210000
DTSTAMP:20260420T135714
CREATED:20250228T164619Z
LAST-MODIFIED:20250228T164619Z
UID:10002489-1743103800-1743109200@www.metroparks.net
SUMMARY:Lantern Hike
DESCRIPTION:Enjoy a Lantern Hike at Walnut Woods Metro Park! Lanterns will be provided. Hike will be approx. 2-miles on paved\, flat terrain. Perfect for all ages! Meet at the Tall Pines Area of Walnut Woods Metro Park.
URL:https://www.metroparks.net/event/lantern-hike-18/
LOCATION:Walnut Woods\, 6723 Lithopolis Rd\, Groveport\, OH\, 43125\, United States
ATTACH;FMTTYPE=image/jpeg:https://www.metroparks.net/wp-content/uploads/2025/02/Lantern-Hike.jpg
END:VEVENT
BEGIN:VEVENT
DTSTART;TZID=America/New_York:20250318T173000
DTEND;TZID=America/New_York:20250318T183000
DTSTAMP:20260420T135714
CREATED:20250228T164231Z
LAST-MODIFIED:20250228T164231Z
UID:10002486-1742319000-1742322600@www.metroparks.net
SUMMARY:Hike to the Swinging Bridge
DESCRIPTION:Join us for a staff-led hike to the famous Scioto Grove Swinging Bridge! The hike will be approx 1.5miles in length and on all natural/gravel trails; be prepared for muddy conditions as this area is in a flood plain.
URL:https://www.metroparks.net/event/hike-to-the-swinging-bridge/
LOCATION:Scioto Grove\, 5172 Jackson Pike\, Grove City\, OH\, 43123\, United States
END:VEVENT
BEGIN:VEVENT
DTSTART;TZID=America/New_York:20250309T100000
DTEND;TZID=America/New_York:20250309T113000
DTSTAMP:20260420T135714
CREATED:20250228T162500Z
LAST-MODIFIED:20250228T162500Z
UID:10002473-1741514400-1741519800@www.metroparks.net
SUMMARY:Cowboy Campfire Coffee!
DESCRIPTION:Howdy Y’all! Come out to the Lower Sled Hill at Quarry Trails Metro Park to learn how to make Cowboy style Campfire Coffee! All ingredients and equipment will be supplied\, feel free to bring your own reusable mug or cup and fill it up with some warm and toasty fire brewed coffee. \nUse the 2600 Dublin Rd. Park entrance.
URL:https://www.metroparks.net/event/cowboy-campfire-coffee-3/2025-03-09/
LOCATION:Quarry Trails\, 2600 Dublin Road\, Columbus\, OH\, 43228\, United States
ATTACH;FMTTYPE=image/jpeg:https://www.metroparks.net/wp-content/uploads/2025/02/Cowboy-Coffee-QT.jpg
END:VEVENT
BEGIN:VEVENT
DTSTART;TZID=America/New_York:20250308T140000
DTEND;TZID=America/New_York:20250308T153000
DTSTAMP:20260420T135714
CREATED:20250228T162925Z
LAST-MODIFIED:20250228T162925Z
UID:10002477-1741442400-1741447800@www.metroparks.net
SUMMARY:Pokémon Go! Hike
DESCRIPTION:Enjoy Pokémon Go! at Homestead Metro Park! Bring your own device to access Pokémon Go! and hike around the park with park staff to find different Pokémon! Meet at the Homestead Barn Shelter. 4675 Cosgray Road\, Hilliard\, Ohio 43206
URL:https://www.metroparks.net/event/pokemon-go-hike-7/
LOCATION:Homestead\, 4675 Cosgray Road\, Hilliard\, OH\, 43026\, United States
END:VEVENT
BEGIN:VEVENT
DTSTART;TZID=America/New_York:20250305T160000
DTEND;TZID=America/New_York:20250305T173000
DTSTAMP:20260420T135714
CREATED:20250228T161555Z
LAST-MODIFIED:20250228T161555Z
UID:10002467-1741190400-1741195800@www.metroparks.net
SUMMARY:Glow Archery
DESCRIPTION:What’s better then archery? GLOW ARCHERY! Come out to the Blacklick Golf Course Pro Shop to enjoy some free and fun\, indoor glow-in-the-dark archery! Ages 8+. All equipment provided.
URL:https://www.metroparks.net/event/glow-archery-3/
LOCATION:Blacklick Woods Golf Course\, 7309 E Livingston Ave\, Reynoldsburg\, OH\, 43068\, United States
END:VEVENT
BEGIN:VEVENT
DTSTART;TZID=America/New_York:20250226T170000
DTEND;TZID=America/New_York:20250226T180000
DTSTAMP:20260420T135714
CREATED:20250128T144517Z
LAST-MODIFIED:20250128T144517Z
UID:10002320-1740589200-1740592800@www.metroparks.net
SUMMARY:Scavenger Hunt!
DESCRIPTION:A strong wind came through Scioto Grove Metro park and scattered all of our equipment! Find all of our missing items hiding around the Arrowhead Picnic area and win a prize! Meet at Arrowhead picnic shelter to get your activity sheet and instruction.
URL:https://www.metroparks.net/event/scavenger-hunt-3/
LOCATION:Scioto Grove\, 5172 Jackson Pike\, Grove City\, OH\, 43123\, United States
END:VEVENT
BEGIN:VEVENT
DTSTART;TZID=America/New_York:20250225T173000
DTEND;TZID=America/New_York:20250225T183000
DTSTAMP:20260420T135714
CREATED:20250128T144336Z
LAST-MODIFIED:20250128T144336Z
UID:10002319-1740504600-1740508200@www.metroparks.net
SUMMARY:Relaxation Yoga
DESCRIPTION:Celebrate self-care and come out to Scioto Grove Metro Park to enjoy yoga indoors! Stay toasty warm while watching the winter wonderland outside from the floor to ceiling windows! This yoga class is perfect for everyone! Free and fun. Meet at The Grove at Scioto Grove Metro Park.
URL:https://www.metroparks.net/event/relaxation-yoga-4/
LOCATION:Scioto Grove\, 5172 Jackson Pike\, Grove City\, OH\, 43123\, United States
END:VEVENT
BEGIN:VEVENT
DTSTART;TZID=America/New_York:20250224T180000
DTEND;TZID=America/New_York:20250224T190000
DTSTAMP:20260420T135714
CREATED:20250128T150133Z
LAST-MODIFIED:20250128T150133Z
UID:10002332-1740420000-1740423600@www.metroparks.net
SUMMARY:Adventure Book Club!
DESCRIPTION:NEW LOCATION!!! Join us for our Monthly Adventure Book Club! No registration necessary\, all are welcome. This months book is “A Walk in the Woods: Rediscovering America on the Appalachian Trail” by Bill Bryson.\nWe will meet at the end of each month to discuss a different book. Meet at The Grove Lodge at Scioto Grove Metro Park
URL:https://www.metroparks.net/event/adventure-book-club-9/
LOCATION:Scioto Grove\, 5172 Jackson Pike\, Grove City\, OH\, 43123\, United States
ATTACH;FMTTYPE=image/jpeg:https://www.metroparks.net/wp-content/uploads/2025/01/91oEsqi7s4L._UF10001000_QL80_.jpg
END:VEVENT
BEGIN:VEVENT
DTSTART;TZID=America/New_York:20250214T100000
DTEND;TZID=America/New_York:20250214T110000
DTSTAMP:20260420T135714
CREATED:20250128T145755Z
LAST-MODIFIED:20250128T145755Z
UID:10002330-1739527200-1739530800@www.metroparks.net
SUMMARY:Morning Lake Hike!
DESCRIPTION:Enjoy the beauty of the lakes in the morning sunlight\, as we hike around Prairie Oaks Metro Park. We will hike approx. 2-miles on easy to moderate trails. Meet at the Lake 3 parking lot (near the restroom) at Darby Bend Lakes\, 2755 Amity Rd.
URL:https://www.metroparks.net/event/morning-lake-hike/
LOCATION:Prairie Oaks\, 3225 Plain City-Georgesville Road\, West Jefferson\, OH\, 43162\, United States
END:VEVENT
BEGIN:VEVENT
DTSTART;TZID=America/New_York:20250208T130000
DTEND;TZID=America/New_York:20250208T160000
DTSTAMP:20260420T135714
CREATED:20250121T180144Z
LAST-MODIFIED:20250121T180144Z
UID:10002278-1739019600-1739030400@www.metroparks.net
SUMMARY:Metro Parks Outdoor Adventure - OPEN HOUSE
DESCRIPTION:Have you ever wondered who or what Metro Parks Outdoor Adventure is and what programs we offer? On February 8th\, join us at Scioto Grove Metro Park\, The Grove lodge\, to learn more about who we are\, what we do\, what programs and equipment we offer\, try a new skill\, and of course gather FREE SWAG! Information tables highlighting different recreation activities will be around for you to wander through and Program staff will be available for any questions you may have! Complimentary snacks and beverages will be provided while you meander amongst the tables and activities.\n1-4pm\, February 8th. The Grove lodge at Scioto Grove Metro Park
URL:https://www.metroparks.net/event/metro-parks-outdoor-adventure-open-house/
LOCATION:Scioto Grove\, 5172 Jackson Pike\, Grove City\, OH\, 43123\, United States
ATTACH;FMTTYPE=image/jpeg:https://www.metroparks.net/wp-content/uploads/2025/01/473994888_1086231483537051_5788460667751942190_n.jpg
END:VEVENT
BEGIN:VEVENT
DTSTART;TZID=America/New_York:20250202T100000
DTEND;TZID=America/New_York:20250202T110000
DTSTAMP:20260420T135714
CREATED:20250128T145053Z
LAST-MODIFIED:20250128T145053Z
UID:10002325-1738490400-1738494000@www.metroparks.net
SUMMARY:Rucking Club
DESCRIPTION:Rucking is a form of fitness that combines strength training with cardio! Join us for our Staff Led Rucking Club. Weight will be provided\, participants are required to bring their own bag to carry weight in (typically some form of back pack). \nParticipants are encouraged to bring their own form of wearable weights (rucking vests\, backpacks filled with gear/water jugs\, etc.)
URL:https://www.metroparks.net/event/rucking-club-2/
LOCATION:Quarry Trails\, 2600 Dublin Road\, Columbus\, OH\, 43228\, United States
END:VEVENT
BEGIN:VEVENT
DTSTART;TZID=America/New_York:20250127T100000
DTEND;TZID=America/New_York:20250127T110000
DTSTAMP:20260420T135714
CREATED:20241231T142127Z
LAST-MODIFIED:20241231T142127Z
UID:10002250-1737972000-1737975600@www.metroparks.net
SUMMARY:Toddler Hike
DESCRIPTION:Join us for a staff-led Toddler Hike around the lakes at Quarry Trails! We will walk as far as possible in the time allotted. We will be on stroller friendly trails
URL:https://www.metroparks.net/event/toddler-hike-13/
LOCATION:Quarry Trails\, 2600 Dublin Road\, Columbus\, OH\, 43228\, United States
END:VEVENT
BEGIN:VEVENT
DTSTART;TZID=America/New_York:20250126T100000
DTEND;TZID=America/New_York:20250126T120000
DTSTAMP:20260420T135714
CREATED:20241231T143431Z
LAST-MODIFIED:20241231T143431Z
UID:10002256-1737885600-1737892800@www.metroparks.net
SUMMARY:Bird BINGO
DESCRIPTION:Calling all bird lovers for a morning of BINGO! Whether you are a long time bird enthusiast or a newbie birder\, you can enjoy a fun game of BINGO with us. Stop by the shelter house from 10-12pm to get your BINGO card and hit the trail!\nThe bird trail will be along our Red Oak Trail which is 0.8 miles long with varying terrain of gravel and dirt paths.\nBinoculars and guide books will be provided!\nThis program is geared for all ages. Meet at the shelter house\, rain or shine!
URL:https://www.metroparks.net/event/bird-bingo/
LOCATION:Glacier Ridge\, 9801 Hyland Croy\, Plain City\, OH\, 43064\, United States
END:VEVENT
BEGIN:VEVENT
DTSTART;TZID=America/New_York:20250125T100000
DTEND;TZID=America/New_York:20250125T110000
DTSTAMP:20260420T135714
CREATED:20241231T142046Z
LAST-MODIFIED:20241231T142046Z
UID:10002249-1737799200-1737802800@www.metroparks.net
SUMMARY:Adventure Book Club!
DESCRIPTION:Join us for our Monthly Adventure Book Club! No registration is necessary; all are welcome. This month’s book is “The Shadow of Kilimanjaro” by Rick Ridgeway.\nWe will meet at the end of each month to discuss a different book. Meet at The Quarry Trails Park office lobby
URL:https://www.metroparks.net/event/adventure-book-club-8/
LOCATION:Quarry Trails\, 2600 Dublin Road\, Columbus\, OH\, 43228\, United States
ATTACH;FMTTYPE=image/jpeg:https://www.metroparks.net/wp-content/uploads/2024/12/81by1K4DieL._AC_UF10001000_QL80_.jpg
END:VEVENT
END:VCALENDAR