BEGIN:VCALENDAR
VERSION:2.0
PRODID:-//Metro Parks - Central Ohio Park System - ECPv6.15.16.1//NONSGML v1.0//EN
CALSCALE:GREGORIAN
METHOD:PUBLISH
X-WR-CALNAME:Metro Parks - Central Ohio Park System
X-ORIGINAL-URL:https://www.metroparks.net
X-WR-CALDESC:Events for Metro Parks - Central Ohio Park System
REFRESH-INTERVAL;VALUE=DURATION:PT1H
X-Robots-Tag:noindex
X-PUBLISHED-TTL:PT1H
BEGIN:VTIMEZONE
TZID:America/New_York
BEGIN:DAYLIGHT
TZOFFSETFROM:-0500
TZOFFSETTO:-0400
TZNAME:EDT
DTSTART:20220313T070000
END:DAYLIGHT
BEGIN:STANDARD
TZOFFSETFROM:-0400
TZOFFSETTO:-0500
TZNAME:EST
DTSTART:20221106T060000
END:STANDARD
BEGIN:DAYLIGHT
TZOFFSETFROM:-0500
TZOFFSETTO:-0400
TZNAME:EDT
DTSTART:20230312T070000
END:DAYLIGHT
BEGIN:STANDARD
TZOFFSETFROM:-0400
TZOFFSETTO:-0500
TZNAME:EST
DTSTART:20231105T060000
END:STANDARD
BEGIN:DAYLIGHT
TZOFFSETFROM:-0500
TZOFFSETTO:-0400
TZNAME:EDT
DTSTART:20240310T070000
END:DAYLIGHT
BEGIN:STANDARD
TZOFFSETFROM:-0400
TZOFFSETTO:-0500
TZNAME:EST
DTSTART:20241103T060000
END:STANDARD
BEGIN:DAYLIGHT
TZOFFSETFROM:-0500
TZOFFSETTO:-0400
TZNAME:EDT
DTSTART:20250309T070000
END:DAYLIGHT
BEGIN:STANDARD
TZOFFSETFROM:-0400
TZOFFSETTO:-0500
TZNAME:EST
DTSTART:20251102T060000
END:STANDARD
END:VTIMEZONE
BEGIN:VEVENT
DTSTART;TZID=America/New_York:20241025T210000
DTEND;TZID=America/New_York:20241025T233000
DTSTAMP:20260420T184602
CREATED:20240926T164055Z
LAST-MODIFIED:20240926T164055Z
UID:10001885-1729890000-1729899000@www.metroparks.net
SUMMARY:Late Nights at the Climbing Wall
DESCRIPTION:Enjoy Late Nights at the Climbing Wall at Scioto Audubon Metro Park! On the 2nd and 4th Fridays of the month\, the climbing wall lights will stay on until midnight for open climb. Please bring your own gear.
URL:https://www.metroparks.net/event/late-nights-at-the-climbing-wall-4/2024-10-25/
LOCATION:Scioto Audubon\, 400 West Whittier St.\, Columbus\, OH\, 43215\, United States
ATTACH;FMTTYPE=image/jpeg:https://www.metroparks.net/wp-content/uploads/2022/11/SAU-wall-and-tower-1200px.jpg
END:VEVENT
BEGIN:VEVENT
DTSTART;TZID=America/New_York:20241025T190000
DTEND;TZID=America/New_York:20241025T210000
DTSTAMP:20260420T184602
CREATED:20240926T164142Z
LAST-MODIFIED:20240926T164142Z
UID:10001886-1729882800-1729890000@www.metroparks.net
SUMMARY:Try it! Climbing
DESCRIPTION:Join us for a late night climb! Outdoor Adventure will be down at the Scioto Audubon Climbing Wall from 7-9pm with equipment and climbing instruction. Try out the climbing wall under the lights at night! Closed toes shoes recommended\, no flip flops. Free and Fun!
URL:https://www.metroparks.net/event/try-it-climbing-5/
LOCATION:Scioto Audubon\, 400 West Whittier St.\, Columbus\, OH\, 43215\, United States
ATTACH;FMTTYPE=image/jpeg:https://www.metroparks.net/wp-content/uploads/2019/03/gallery-spring-SIO_The-Climber_Jesse-Bethea.jpg
END:VEVENT
BEGIN:VEVENT
DTSTART;TZID=America/New_York:20241011T210000
DTEND;TZID=America/New_York:20241011T233000
DTSTAMP:20260420T184602
CREATED:20240926T164055Z
LAST-MODIFIED:20240926T164055Z
UID:10001884-1728680400-1728689400@www.metroparks.net
SUMMARY:Late Nights at the Climbing Wall
DESCRIPTION:Enjoy Late Nights at the Climbing Wall at Scioto Audubon Metro Park! On the 2nd and 4th Fridays of the month\, the climbing wall lights will stay on until midnight for open climb. Please bring your own gear.
URL:https://www.metroparks.net/event/late-nights-at-the-climbing-wall-4/2024-10-11/
LOCATION:Scioto Audubon\, 400 West Whittier St.\, Columbus\, OH\, 43215\, United States
ATTACH;FMTTYPE=image/jpeg:https://www.metroparks.net/wp-content/uploads/2022/11/SAU-wall-and-tower-1200px.jpg
END:VEVENT
BEGIN:VEVENT
DTSTART;TZID=America/New_York:20241001T180000
DTEND;TZID=America/New_York:20241001T190000
DTSTAMP:20260420T184602
CREATED:20240926T163733Z
LAST-MODIFIED:20240926T163733Z
UID:10001881-1727805600-1727809200@www.metroparks.net
SUMMARY:Fall Foliage Hike
DESCRIPTION:Join us for a lovely fall hike through the trails at Prairie Oaks Metro Park! Enjoy the start of central Ohio’s fall foliage. Meet at Darby Bend Lakes\, Lake 1 Shelter House\, the group will go as far as they can within the hour
URL:https://www.metroparks.net/event/fall-foliage-hike-3/
LOCATION:Prairie Oaks\, 3225 Plain City-Georgesville Road\, West Jefferson\, OH\, 43162\, United States
ATTACH;FMTTYPE=image/jpeg:https://www.metroparks.net/wp-content/uploads/2016/10/PRO_22x9_early-fall-color-on-creek_M-Fetherolf.jpg
END:VEVENT
BEGIN:VEVENT
DTSTART;TZID=America/New_York:20240825T130000
DTEND;TZID=America/New_York:20240825T143000
DTSTAMP:20260420T184602
CREATED:20240802T175651Z
LAST-MODIFIED:20240802T175651Z
UID:10001688-1724590800-1724596200@www.metroparks.net
SUMMARY:Backpacking Series: Week 1- Four Essentials & Site Selection
DESCRIPTION:Are you wanting to learn more about backpacking? Join us for a 6-week long series of interactive classes designed as an introduction to backpacking\, building up to an overnight trip at the end! Attendance at all classes is NOT required – however the overnight trip will only be open to those who attend at least one class. Each weeks topic will have two dates to choose from in that week so participants can pick the day that works best for them to attend\, you don’t need to attend both dates in the week. Meet at Arrowhead Picnic area at Scioto Grove Metro Park \nThis week we will be discussing the 4 essentials of backpacking sleep systems as well as information about picking the proper site to spend your night in the wilderness. It is not as easy as simply pitching a tent\, but we will go through all of the steps to set you up for success! We have gear for demonstration\, but you are encouraged to bring your own. Meet at the Arrowhead Picnic Area at Scioto Grove Metro Park. \nFall Backpacking Series:\nWeek 1: 4 Essentials & Site Selection\nWeek 2: Water & Waste\nWeek 3: Fuel\, Fire & Food\nWeek 4: Clothing & Foot Care\nWeek 5: Prep\, Safety and Outdoor Ethics\nWeek 6: Shakedown Hike!
URL:https://www.metroparks.net/event/backpacking-series-week-1-four-essentials-site-selection/2024-08-25/
LOCATION:Scioto Grove\, 5172 Jackson Pike\, Grove City\, OH\, 43123\, United States
END:VEVENT
BEGIN:VEVENT
DTSTART;TZID=America/New_York:20240819T180000
DTEND;TZID=America/New_York:20240819T193000
DTSTAMP:20260420T184602
CREATED:20240802T175651Z
LAST-MODIFIED:20240802T175651Z
UID:10001687-1724090400-1724095800@www.metroparks.net
SUMMARY:Backpacking Series: Week 1- Four Essentials & Site Selection
DESCRIPTION:Are you wanting to learn more about backpacking? Join us for a 6-week long series of interactive classes designed as an introduction to backpacking\, building up to an overnight trip at the end! Attendance at all classes is NOT required – however the overnight trip will only be open to those who attend at least one class. Each weeks topic will have two dates to choose from in that week so participants can pick the day that works best for them to attend\, you don’t need to attend both dates in the week. Meet at Arrowhead Picnic area at Scioto Grove Metro Park \nThis week we will be discussing the 4 essentials of backpacking sleep systems as well as information about picking the proper site to spend your night in the wilderness. It is not as easy as simply pitching a tent\, but we will go through all of the steps to set you up for success! We have gear for demonstration\, but you are encouraged to bring your own. Meet at the Arrowhead Picnic Area at Scioto Grove Metro Park. \nFall Backpacking Series:\nWeek 1: 4 Essentials & Site Selection\nWeek 2: Water & Waste\nWeek 3: Fuel\, Fire & Food\nWeek 4: Clothing & Foot Care\nWeek 5: Prep\, Safety and Outdoor Ethics\nWeek 6: Shakedown Hike!
URL:https://www.metroparks.net/event/backpacking-series-week-1-four-essentials-site-selection/2024-08-19/
LOCATION:Scioto Grove\, 5172 Jackson Pike\, Grove City\, OH\, 43123\, United States
END:VEVENT
BEGIN:VEVENT
DTSTART;TZID=America/New_York:20240729T153000
DTEND;TZID=America/New_York:20240729T170000
DTSTAMP:20260420T184602
CREATED:20240628T132058Z
LAST-MODIFIED:20240628T132058Z
UID:10001543-1722267000-1722272400@www.metroparks.net
SUMMARY:Try It! Archery
DESCRIPTION:Come try your hand at this free archery program! Come out anytime between the times listed. All equipment provided. Ages 8+.
URL:https://www.metroparks.net/event/try-it-archery-10/2024-07-29/
LOCATION:Scioto Grove\, 5172 Jackson Pike\, Grove City\, OH\, 43123\, United States
ATTACH;FMTTYPE=image/jpeg:https://www.metroparks.net/wp-content/uploads/2024/06/POK-Archery-JackRockwood-2024-05-31.jpg
END:VEVENT
BEGIN:VEVENT
DTSTART;TZID=America/New_York:20240729T100000
DTEND;TZID=America/New_York:20240729T110000
DTSTAMP:20260420T184602
CREATED:20240628T132202Z
LAST-MODIFIED:20240628T132202Z
UID:10001544-1722247200-1722250800@www.metroparks.net
SUMMARY:Toddler Hike
DESCRIPTION:Enjoy a hike at Walnut Woods on this slow-paced\, stroller friendly Toddler Hike! The trail will be paved\, and we will hike as far as we can within the hour. Meet at the Tall Pines Area at Walnut Woods Metro Park. 6833 Richardson Rd. Groveport.
URL:https://www.metroparks.net/event/toddler-hike-6/
LOCATION:Walnut Woods\, 6723 Lithopolis Rd\, Groveport\, OH\, 43125\, United States
END:VEVENT
BEGIN:VEVENT
DTSTART;TZID=America/New_York:20240723T143000
DTEND;TZID=America/New_York:20240723T160000
DTSTAMP:20260420T184602
CREATED:20240628T131619Z
LAST-MODIFIED:20240628T131619Z
UID:10001538-1721745000-1721750400@www.metroparks.net
SUMMARY:Try it! Climbing
DESCRIPTION:Come out and climb at this free program! Meet at the Scioto Audubon Metro Park Climbing wall. All equipment provided. Tennis shoes with good tread recommended.
URL:https://www.metroparks.net/event/try-it-climbing-2/2024-07-23/
LOCATION:Scioto Audubon\, 400 West Whittier St.\, Columbus\, OH\, 43215\, United States
END:VEVENT
BEGIN:VEVENT
DTSTART;TZID=America/New_York:20240719T180000
DTEND;TZID=America/New_York:20240719T193000
DTSTAMP:20260420T184602
CREATED:20240628T133500Z
LAST-MODIFIED:20240628T133500Z
UID:10001557-1721412000-1721417400@www.metroparks.net
SUMMARY:50+ SUP
DESCRIPTION:Enjoy SUP or Standup Paddle Boarding at Prairie Oaks Metro Park\, Darby Bend Lakes. Ages 50+ only\, free and fun. Meet at Lake 1 2755 Amity Rd\, Hilliard OH.
URL:https://www.metroparks.net/event/50-sup/
LOCATION:Prairie Oaks\, 3225 Plain City-Georgesville Road\, West Jefferson\, OH\, 43162\, United States
END:VEVENT
BEGIN:VEVENT
DTSTART;TZID=America/New_York:20240716T160000
DTEND;TZID=America/New_York:20240716T180000
DTSTAMP:20260420T184602
CREATED:20240628T133353Z
LAST-MODIFIED:20240628T133353Z
UID:10001555-1721145600-1721152800@www.metroparks.net
SUMMARY:Try It! SUP
DESCRIPTION:Come out and try standup paddle boarding for free at Quarry Trails Metro Park. First come first served. All equipment provided. Ages 10+\nQuarry Trails Metro Park has several park entrances-\n* The closest parking lot to the paddling launch area is off of Trabue Road. The address is 2319 Quarry Trails Dr\, Columbus\, OH. This is a newly opened entrance. Please follow signage and be on the lookout for construction traffic.
URL:https://www.metroparks.net/event/try-it-sup-3/
LOCATION:Quarry Trails\, 2600 Dublin Road\, Columbus\, OH\, 43228\, United States
END:VEVENT
BEGIN:VEVENT
DTSTART;TZID=America/New_York:20240711T160000
DTEND;TZID=America/New_York:20240711T170000
DTSTAMP:20260420T184602
CREATED:20240628T132058Z
LAST-MODIFIED:20240628T132058Z
UID:10001542-1720713600-1720717200@www.metroparks.net
SUMMARY:Try It! Archery
DESCRIPTION:Come try your hand at this free archery program! Come out anytime between the times listed. All equipment provided. Ages 8+.
URL:https://www.metroparks.net/event/try-it-archery-10/2024-07-11/
LOCATION:Scioto Grove\, 5172 Jackson Pike\, Grove City\, OH\, 43123\, United States
ATTACH;FMTTYPE=image/jpeg:https://www.metroparks.net/wp-content/uploads/2024/06/POK-Archery-JackRockwood-2024-05-31.jpg
END:VEVENT
BEGIN:VEVENT
DTSTART;TZID=America/New_York:20240710T120000
DTEND;TZID=America/New_York:20240710T140000
DTSTAMP:20260420T184602
CREATED:20240628T131619Z
LAST-MODIFIED:20240628T131619Z
UID:10001537-1720612800-1720620000@www.metroparks.net
SUMMARY:Try it! Climbing
DESCRIPTION:Come out and climb at this free program! Meet at the Scioto Audubon Metro Park Climbing wall. All equipment provided. Tennis shoes with good tread recommended.
URL:https://www.metroparks.net/event/try-it-climbing-2/2024-07-10/
LOCATION:Scioto Audubon\, 400 West Whittier St.\, Columbus\, OH\, 43215\, United States
END:VEVENT
BEGIN:VEVENT
DTSTART;TZID=America/New_York:20240703T160000
DTEND;TZID=America/New_York:20240703T200000
DTSTAMP:20260420T184602
CREATED:20240628T131619Z
LAST-MODIFIED:20240628T131619Z
UID:10001536-1720022400-1720036800@www.metroparks.net
SUMMARY:Try it! Climbing
DESCRIPTION:Come out and climb at this free program! Meet at the Scioto Audubon Metro Park Climbing wall. All equipment provided. Tennis shoes with good tread recommended.
URL:https://www.metroparks.net/event/try-it-climbing-2/2024-07-03/
LOCATION:Scioto Audubon\, 400 West Whittier St.\, Columbus\, OH\, 43215\, United States
END:VEVENT
BEGIN:VEVENT
DTSTART;TZID=America/New_York:20240622T110000
DTEND;TZID=America/New_York:20240622T140000
DTSTAMP:20260420T184602
CREATED:20240603T131534Z
LAST-MODIFIED:20240603T131534Z
UID:10001415-1719054000-1719064800@www.metroparks.net
SUMMARY:Pride Climb
DESCRIPTION:Join us at Scioto Audubon Climbing Wall for Pride Climb! Metro Parks Outdoor Adventure will be at the wall providing climbing equipment\, belayers\, and instruction! Closed toed shoes are recommended. Free and fun climbing program! \nTake a break from climbing to visit one of the many LGBTQ+ community groups and vendor tables that will be down next to the climbing wall. Yard style games will be setup in the grass for participants to enjoy. \nVendors and booths representing the LGBTQ+ community will be present for the duration of the event.
URL:https://www.metroparks.net/event/pride-climb/
LOCATION:Scioto Audubon\, 400 West Whittier St.\, Columbus\, OH\, 43215\, United States
ATTACH;FMTTYPE=image/jpeg:https://www.metroparks.net/wp-content/uploads/2022/11/SIO_climbers-on-wall_June_Daniel-White-cropped.jpg
END:VEVENT
BEGIN:VEVENT
DTSTART;TZID=America/New_York:20240531T170000
DTEND;TZID=America/New_York:20240531T180000
DTSTAMP:20260420T184602
CREATED:20240429T132123Z
LAST-MODIFIED:20240429T132123Z
UID:10001285-1717174800-1717178400@www.metroparks.net
SUMMARY:Adventure Book Club!
DESCRIPTION:Join us for our Monthly Adventure Book Club! No registration necessary\, all are welcome. This months book is “Touching the Void: The True Story of One Mans Miraculous Survival” By Joe Simpson. We will meet at the end of each month to discuss a different book.\nBring your own hammock or chair to lounge in the trees and chat about this months reading!\nWe will meet at the Dog Park Parking lot\, use the north entrance off of Dublin/Roberts Rd and follow signage to the dog park!\n2600 Dublin Road\, Columbus
URL:https://www.metroparks.net/event/adventure-book-club-2/
LOCATION:Quarry Trails\, 2600 Dublin Road\, Columbus\, OH\, 43228\, United States
ATTACH;FMTTYPE=image/jpeg:https://www.metroparks.net/wp-content/uploads/2024/04/439593945_900532172106984_7238197962008270214_n.jpg
END:VEVENT
BEGIN:VEVENT
DTSTART;TZID=America/New_York:20240428T130000
DTEND;TZID=America/New_York:20240428T150000
DTSTAMP:20260420T184602
CREATED:20240325T144107Z
LAST-MODIFIED:20240325T144107Z
UID:10001188-1714309200-1714316400@www.metroparks.net
SUMMARY:Drop In: Learn about Backpacking
DESCRIPTION:Are you interested in backpacking or backcountry hiking\, but not sure how to get started? Come and explore the possibilities! At our backpacking and hiking open house we’ll have: The 10 essentials to always have with you\, whether hiking or backpacking\nLeave No Trace principles\nEquipment you might use for a day hike or 10 day wilderness hike\nTypical backpacking foods\, recipes\, and nutrition information\nSample hiking plans for the Appalachian Trail\nInformation about backpacking trails 1-4 hours from Columbus\nResource list to help you get started \nMeeting Location Notes: Highbanks Nature Center is the first right after entering the park. There is limited parking in the Nature Center lot on busy days. Additional parking is available in the Oak Coves Picnic Area\, a 10 minute walk from the Nature Center. Follow the paved trail through Oak Coves toward the Nature Center.
URL:https://www.metroparks.net/event/drop-in-learn-about-backpacking/
LOCATION:Highbanks\, 9466 Columbus Pike (US Rt 23 N)\, Lewis Center\, OH\, 43035\, United States
END:VEVENT
BEGIN:VEVENT
DTSTART;TZID=America/New_York:20240415T100000
DTEND;TZID=America/New_York:20240415T110000
DTSTAMP:20260420T184602
CREATED:20240325T135649Z
LAST-MODIFIED:20240325T135649Z
UID:10001156-1713175200-1713178800@www.metroparks.net
SUMMARY:Toddler Hike
DESCRIPTION:Come out an enjoy a staff-led hike for your little ones! We will travel as far as the group can within the hour\, all trails will be suitable for strollers! Meet at the Arrowhead Picnic Shelter
URL:https://www.metroparks.net/event/toddler-hike-3/
LOCATION:Scioto Grove\, 5172 Jackson Pike\, Grove City\, OH\, 43123\, United States
END:VEVENT
BEGIN:VEVENT
DTSTART;TZID=America/New_York:20240413T150000
DTEND;TZID=America/New_York:20240413T160000
DTSTAMP:20260420T184602
CREATED:20240325T135240Z
LAST-MODIFIED:20240325T135240Z
UID:10001152-1713020400-1713024000@www.metroparks.net
SUMMARY:Pokemon Go! Hike
DESCRIPTION:Enjoy playing Pokémon Go at Glacier Ridge Metro Park! Meet staff members at the Shelter House at Glacier Ridge Metro Park.
URL:https://www.metroparks.net/event/pokemon-go-hike/
LOCATION:Glacier Ridge\, 9801 Hyland Croy\, Plain City\, OH\, 43064\, United States
END:VEVENT
BEGIN:VEVENT
DTSTART;TZID=America/New_York:20240331T160000
DTEND;TZID=America/New_York:20240331T170000
DTSTAMP:20260420T184602
CREATED:20240228T155932Z
LAST-MODIFIED:20240228T155932Z
UID:10001116-1711900800-1711904400@www.metroparks.net
SUMMARY:Adventure Book Club!
DESCRIPTION:Join us for our Monthly Adventure Book Club! No registration necessary\, all are welcome. This months book is “Touching the Void: The True Story of One Mans Miraculous Survival” By Joe Simpson. We will meet at the end of each month to discuss a different book.\nBring your own hammock or chair to lounge in the trees and chat about this months reading!\nWe will meet at the Dog Park Parking lot\, use the north entrance off of Dublin/Roberts Rd and follow signage to the dog park!\n2600 Dublin Road\, Columbus
URL:https://www.metroparks.net/event/adventure-book-club/
LOCATION:Quarry Trails\, 2600 Dublin Road\, Columbus\, OH\, 43228\, United States
END:VEVENT
BEGIN:VEVENT
DTSTART;TZID=America/New_York:20240324T110000
DTEND;TZID=America/New_York:20240324T120000
DTSTAMP:20260420T184602
CREATED:20240228T155800Z
LAST-MODIFIED:20240228T155800Z
UID:10001114-1711278000-1711281600@www.metroparks.net
SUMMARY:Intro To Trail Running
DESCRIPTION:This program will be centered around Trail Running! From beginners to experienced runners\, all are welcome!! Join us for a staff led program including trail running through Scioto Grove Metro Park. This program will cover trail running basics as well as a run/jog on the trails. Meet at the Arrowhead Picnic Shelter.
URL:https://www.metroparks.net/event/intro-to-trail-running/2024-03-24/
LOCATION:Scioto Grove\, 5172 Jackson Pike\, Grove City\, OH\, 43123\, United States
END:VEVENT
BEGIN:VEVENT
DTSTART;TZID=America/New_York:20240319T170000
DTEND;TZID=America/New_York:20240319T180000
DTSTAMP:20260420T184602
CREATED:20240228T155325Z
LAST-MODIFIED:20240228T155405Z
UID:10001109-1710867600-1710871200@www.metroparks.net
SUMMARY:Fitness Series: Intro to Rucking
DESCRIPTION:Join us for our fitness series and learn the basics of rucking! Rucking involves hiking with weights. Meet at the climbing wall at Scioto Audubon Metro Park.
URL:https://www.metroparks.net/event/fitness-series-intro-to-rucking/2024-03-19/
LOCATION:Scioto Audubon\, 400 West Whittier St.\, Columbus\, OH\, 43215\, United States
END:VEVENT
BEGIN:VEVENT
DTSTART;TZID=America/New_York:20240312T170000
DTEND;TZID=America/New_York:20240312T183000
DTSTAMP:20260420T184602
CREATED:20240228T155800Z
LAST-MODIFIED:20240228T155800Z
UID:10001113-1710262800-1710268200@www.metroparks.net
SUMMARY:Intro To Trail Running
DESCRIPTION:This program will be centered around Trail Running! From beginners to experienced runners\, all are welcome!! Join us for a staff led program including trail running through Scioto Grove Metro Park. This program will cover trail running basics as well as a run/jog on the trails. Meet at the Arrowhead Picnic Shelter.
URL:https://www.metroparks.net/event/intro-to-trail-running/2024-03-12/
LOCATION:Scioto Grove\, 5172 Jackson Pike\, Grove City\, OH\, 43123\, United States
END:VEVENT
BEGIN:VEVENT
DTSTART;TZID=America/New_York:20240305T170000
DTEND;TZID=America/New_York:20240305T180000
DTSTAMP:20260420T184602
CREATED:20240228T155325Z
LAST-MODIFIED:20240228T155405Z
UID:10001108-1709658000-1709661600@www.metroparks.net
SUMMARY:Fitness Series: Intro to Rucking
DESCRIPTION:Join us for our fitness series and learn the basics of rucking! Rucking involves hiking with weights. Meet at the climbing wall at Scioto Audubon Metro Park.
URL:https://www.metroparks.net/event/fitness-series-intro-to-rucking/2024-03-05/
LOCATION:Scioto Audubon\, 400 West Whittier St.\, Columbus\, OH\, 43215\, United States
END:VEVENT
BEGIN:VEVENT
DTSTART;TZID=America/New_York:20240212T173000
DTEND;TZID=America/New_York:20240212T190000
DTSTAMP:20260420T184602
CREATED:20240130T145638Z
LAST-MODIFIED:20240130T145638Z
UID:10001026-1707759000-1707764400@www.metroparks.net
SUMMARY:Galentine's Archery
DESCRIPTION:Celebrate Galentine’s day with your gal pals with a free archery program! Archery will take place inside the Pro Shop at Blacklick Woods Golf Course! All archery equipment provided. Enjoy a sweet treat too! Ages 8+.
URL:https://www.metroparks.net/event/galentines-archery/
LOCATION:Blacklick Woods Golf Course\, 7309 E Livingston Ave\, Reynoldsburg\, OH\, 43068\, United States
END:VEVENT
BEGIN:VEVENT
DTSTART;TZID=America/New_York:20231227T100000
DTEND;TZID=America/New_York:20231227T110000
DTSTAMP:20260420T184602
CREATED:20231129T140256Z
LAST-MODIFIED:20231129T140256Z
UID:10000801-1703671200-1703674800@www.metroparks.net
SUMMARY:Holiday Hike
DESCRIPTION:Enjoy a hike through Scioto Grove Metro Park this holiday season! Hike will be approx. 2-miles\, meet at the Arrowhead Picnic Area.
URL:https://www.metroparks.net/event/holiday-hike-2/
LOCATION:Scioto Grove\, 5172 Jackson Pike\, Grove City\, OH\, 43123\, United States
END:VEVENT
BEGIN:VEVENT
DTSTART;TZID=America/New_York:20231212T180000
DTEND;TZID=America/New_York:20231212T190000
DTSTAMP:20260420T184602
CREATED:20231129T140530Z
LAST-MODIFIED:20231129T140530Z
UID:10000803-1702404000-1702407600@www.metroparks.net
SUMMARY:Candlelight Yoga
DESCRIPTION:Enjoy a relaxing slow yoga flow at Scioto Grove Metro Park. Perfect for beginners\, and those who want a peaceful practice after a long day! Free and fun. Meet at The Grove indoor facility.
URL:https://www.metroparks.net/event/candlelight-yoga/
LOCATION:Scioto Grove\, 5172 Jackson Pike\, Grove City\, OH\, 43123\, United States
END:VEVENT
BEGIN:VEVENT
DTSTART;TZID=America/New_York:20231130T173000
DTEND;TZID=America/New_York:20231130T183000
DTSTAMP:20260420T184602
CREATED:20231031T170652Z
LAST-MODIFIED:20231031T170652Z
UID:10000725-1701365400-1701369000@www.metroparks.net
SUMMARY:Orienteering and Compass Basics
DESCRIPTION:Orienteering is an outdoor sport that mixes adventure with the serenity of nature! This program will cover the basics of orienteering\, an overview of the equipment used as well as a real world orienteering practice on the trails! Meet at the Grove Lodge\, equipment and instruction are free!
URL:https://www.metroparks.net/event/orienteering-and-compass-basics/
LOCATION:Scioto Grove\, 5172 Jackson Pike\, Grove City\, OH\, 43123\, United States
END:VEVENT
BEGIN:VEVENT
DTSTART;TZID=America/New_York:20231118T120000
DTEND;TZID=America/New_York:20231118T130000
DTSTAMP:20260420T184602
CREATED:20231031T170609Z
LAST-MODIFIED:20231031T170609Z
UID:10000724-1700308800-1700312400@www.metroparks.net
SUMMARY:DIY Paracord Water Bottle Holder
DESCRIPTION:Learn how to make a water bottle holder out of paracord!! All equipment provided\, free and fun! Meet at The Grove at Scioto Grove Metro Park.
URL:https://www.metroparks.net/event/diy-paracord-water-bottle-holder/
LOCATION:Scioto Grove\, 5172 Jackson Pike\, Grove City\, OH\, 43123\, United States
END:VEVENT
BEGIN:VEVENT
DTSTART;TZID=America/New_York:20231010T183000
DTEND;TZID=America/New_York:20231010T191500
DTSTAMP:20260420T184602
CREATED:20230929T184316Z
LAST-MODIFIED:20230929T184316Z
UID:10000666-1696962600-1696965300@www.metroparks.net
SUMMARY:Season of the Harvest Yoga
DESCRIPTION:Enjoy the changing seasons during this slow yoga flow at Scioto Grove Metro Park! The class will take place at The Grove facility. Weather permitting yoga will take place on the deck. In the case of poor weather the class will take place indoors. Free and fun!
URL:https://www.metroparks.net/event/season-of-the-harvest-yoga/
LOCATION:Scioto Grove\, 5172 Jackson Pike\, Grove City\, OH\, 43123\, United States
ATTACH;FMTTYPE=image/png:https://www.metroparks.net/wp-content/uploads/2023/09/Screenshot-2023-09-29-144223.png
END:VEVENT
END:VCALENDAR