BEGIN:VCALENDAR
VERSION:2.0
PRODID:-//Metro Parks - Central Ohio Park System - ECPv6.15.16.1//NONSGML v1.0//EN
CALSCALE:GREGORIAN
METHOD:PUBLISH
X-ORIGINAL-URL:https://www.metroparks.net
X-WR-CALDESC:Events for Metro Parks - Central Ohio Park System
REFRESH-INTERVAL;VALUE=DURATION:PT1H
X-Robots-Tag:noindex
X-PUBLISHED-TTL:PT1H
BEGIN:VTIMEZONE
TZID:America/New_York
BEGIN:DAYLIGHT
TZOFFSETFROM:-0500
TZOFFSETTO:-0400
TZNAME:EDT
DTSTART:20230312T070000
END:DAYLIGHT
BEGIN:STANDARD
TZOFFSETFROM:-0400
TZOFFSETTO:-0500
TZNAME:EST
DTSTART:20231105T060000
END:STANDARD
BEGIN:DAYLIGHT
TZOFFSETFROM:-0500
TZOFFSETTO:-0400
TZNAME:EDT
DTSTART:20240310T070000
END:DAYLIGHT
BEGIN:STANDARD
TZOFFSETFROM:-0400
TZOFFSETTO:-0500
TZNAME:EST
DTSTART:20241103T060000
END:STANDARD
BEGIN:DAYLIGHT
TZOFFSETFROM:-0500
TZOFFSETTO:-0400
TZNAME:EDT
DTSTART:20250309T070000
END:DAYLIGHT
BEGIN:STANDARD
TZOFFSETFROM:-0400
TZOFFSETTO:-0500
TZNAME:EST
DTSTART:20251102T060000
END:STANDARD
BEGIN:DAYLIGHT
TZOFFSETFROM:-0500
TZOFFSETTO:-0400
TZNAME:EDT
DTSTART:20260308T070000
END:DAYLIGHT
BEGIN:STANDARD
TZOFFSETFROM:-0400
TZOFFSETTO:-0500
TZNAME:EST
DTSTART:20261101T060000
END:STANDARD
END:VTIMEZONE
BEGIN:VEVENT
DTSTART;TZID=America/New_York:20250913T140000
DTEND;TZID=America/New_York:20250913T153000
DTSTAMP:20260419T111355
CREATED:20250825T122040Z
LAST-MODIFIED:20250825T122040Z
UID:10003177-1757772000-1757777400@www.metroparks.net
SUMMARY:History of the Hundred Acre Wood
DESCRIPTION:Take a 2-mile off-trail hike while exploring the secrets of this beautiful forest. Wear sturdy shoes; Steep ravines.
URL:https://www.metroparks.net/event/history-of-the-hundred-acre-wood/
LOCATION:100 Acre Wood\, 5280 Cambria Way\, Westerville\, Ohio\, 43081
END:VEVENT
BEGIN:VEVENT
DTSTART;TZID=America/New_York:20250809T110000
DTEND;TZID=America/New_York:20250809T123000
DTSTAMP:20260419T111355
CREATED:20250721T144809Z
LAST-MODIFIED:20250721T144809Z
UID:10003033-1754737200-1754742600@www.metroparks.net
SUMMARY:For Adults: 100 Acre Wood Off Trail Hike
DESCRIPTION:Take a rugged off trail hike through the ravines at the 100 Acre Wood property to see what we can find. Park along street; 5224 Cambria Way.
URL:https://www.metroparks.net/event/for-adults-100-acre-wood-off-trail-hike/
LOCATION:100 Acre Wood\, 5280 Cambria Way\, Westerville\, Ohio\, 43081
END:VEVENT
BEGIN:VEVENT
DTSTART;TZID=America/New_York:20250719T140000
DTEND;TZID=America/New_York:20250719T153000
DTSTAMP:20260419T111355
CREATED:20250617T143245Z
LAST-MODIFIED:20250617T143245Z
UID:10002920-1752933600-1752939000@www.metroparks.net
SUMMARY:100 Acre Wood Off-trail Hike
DESCRIPTION:Explore the hidden gem of the Metro Parks. We will attempt to reach less-traveled areas of the park. Hiking may be strenuous and muddy\, so wear sturdy shoes. Meet at 5220 Cambria Way.
URL:https://www.metroparks.net/event/100-acre-wood-off-trail-hike/
LOCATION:100 Acre Wood\, 5280 Cambria Way\, Westerville\, Ohio\, 43081
END:VEVENT
BEGIN:VEVENT
DTSTART;TZID=America/New_York:20250712T140000
DTEND;TZID=America/New_York:20250712T153000
DTSTAMP:20260419T111355
CREATED:20250617T143445Z
LAST-MODIFIED:20250617T143445Z
UID:10002923-1752328800-1752334200@www.metroparks.net
SUMMARY:Creek Hike at 100 Acre Wood
DESCRIPTION:Take a rugged off-trail wander through the shale stream. Steep descent into the ravine; climbing over fallen trees required. Wear sturdy shoes that can get wet. 6yrs+ Meet at 5220 Cambria Way.
URL:https://www.metroparks.net/event/creek-hike-at-100-acre-wood/
LOCATION:100 Acre Wood\, 5280 Cambria Way\, Westerville\, Ohio\, 43081
END:VEVENT
BEGIN:VEVENT
DTSTART;TZID=America/New_York:20250615T140000
DTEND;TZID=America/New_York:20250615T150000
DTSTAMP:20260419T111355
CREATED:20250521T131259Z
LAST-MODIFIED:20250521T131259Z
UID:10002759-1749996000-1749999600@www.metroparks.net
SUMMARY:Geocaching 100 Acre Wood
DESCRIPTION:Find several geocaches while exploring the forest. Sign up for a free account on geocaching.com before the program. Be prepared for mud. Meet at 5220 Cambria Way.
URL:https://www.metroparks.net/event/geocaching-100-acre-wood/
LOCATION:100 Acre Wood\, 5280 Cambria Way\, Westerville\, Ohio\, 43081
END:VEVENT
BEGIN:VEVENT
DTSTART;TZID=America/New_York:20250504T140000
DTEND;TZID=America/New_York:20250504T160000
DTSTAMP:20260419T111355
CREATED:20250418T132754Z
LAST-MODIFIED:20250418T132754Z
UID:10002640-1746367200-1746374400@www.metroparks.net
SUMMARY:Eagle Hikes
DESCRIPTION:This is the last Sunday to check on the progress of the Bald Eagles at their nest at 100 Acre Woods! Hike 1.5 mi. on flat\, primitive trail. Prepare for mud. Meet at 5225 Cambria Way.
URL:https://www.metroparks.net/event/eagle-hikes-2/
LOCATION:100 Acre Wood\, 5280 Cambria Way\, Westerville\, Ohio\, 43081
END:VEVENT
BEGIN:VEVENT
DTSTART;TZID=America/New_York:20250427T140000
DTEND;TZID=America/New_York:20250427T150000
DTSTAMP:20260419T111355
CREATED:20250324T132614Z
LAST-MODIFIED:20250324T132614Z
UID:10002520-1745762400-1745766000@www.metroparks.net
SUMMARY:Eagle Hike
DESCRIPTION:Join us on Sundays in March to check on the progress of the Bald Eagles at their nest at 100 Acre Woods. Hike 1.5 mi. on a flat\, primitive trail. Prepare for mud. Meet at 5225 Cambria Way.
URL:https://www.metroparks.net/event/eagle-hike-2/2025-04-27/
LOCATION:100 Acre Wood\, 5280 Cambria Way\, Westerville\, Ohio\, 43081
END:VEVENT
BEGIN:VEVENT
DTSTART;TZID=America/New_York:20250427T123000
DTEND;TZID=America/New_York:20250427T133000
DTSTAMP:20260419T111355
CREATED:20250324T132707Z
LAST-MODIFIED:20250324T132707Z
UID:10002521-1745757000-1745760600@www.metroparks.net
SUMMARY:Flower Power at 100 Acre Wood
DESCRIPTION:Enjoy a stroll through an old-growth forest and look for spring wildflowers. Meet at 5220 Cambria Way.
URL:https://www.metroparks.net/event/flower-power-at-100-acre-wood/
LOCATION:100 Acre Wood\, 5280 Cambria Way\, Westerville\, Ohio\, 43081
END:VEVENT
BEGIN:VEVENT
DTSTART;TZID=America/New_York:20250420T140000
DTEND;TZID=America/New_York:20250420T150000
DTSTAMP:20260419T111355
CREATED:20250324T132614Z
LAST-MODIFIED:20250324T132614Z
UID:10002519-1745157600-1745161200@www.metroparks.net
SUMMARY:Eagle Hike
DESCRIPTION:Join us on Sundays in March to check on the progress of the Bald Eagles at their nest at 100 Acre Woods. Hike 1.5 mi. on a flat\, primitive trail. Prepare for mud. Meet at 5225 Cambria Way.
URL:https://www.metroparks.net/event/eagle-hike-2/2025-04-20/
LOCATION:100 Acre Wood\, 5280 Cambria Way\, Westerville\, Ohio\, 43081
END:VEVENT
BEGIN:VEVENT
DTSTART;TZID=America/New_York:20250413T140000
DTEND;TZID=America/New_York:20250413T150000
DTSTAMP:20260419T111355
CREATED:20250324T132614Z
LAST-MODIFIED:20250324T132614Z
UID:10002518-1744552800-1744556400@www.metroparks.net
SUMMARY:Eagle Hike
DESCRIPTION:Join us on Sundays in March to check on the progress of the Bald Eagles at their nest at 100 Acre Woods. Hike 1.5 mi. on a flat\, primitive trail. Prepare for mud. Meet at 5225 Cambria Way.
URL:https://www.metroparks.net/event/eagle-hike-2/2025-04-13/
LOCATION:100 Acre Wood\, 5280 Cambria Way\, Westerville\, Ohio\, 43081
END:VEVENT
BEGIN:VEVENT
DTSTART;TZID=America/New_York:20250406T140000
DTEND;TZID=America/New_York:20250406T150000
DTSTAMP:20260419T111355
CREATED:20250324T132614Z
LAST-MODIFIED:20250324T132614Z
UID:10002517-1743948000-1743951600@www.metroparks.net
SUMMARY:Eagle Hike
DESCRIPTION:Join us on Sundays in March to check on the progress of the Bald Eagles at their nest at 100 Acre Woods. Hike 1.5 mi. on a flat\, primitive trail. Prepare for mud. Meet at 5225 Cambria Way.
URL:https://www.metroparks.net/event/eagle-hike-2/2025-04-06/
LOCATION:100 Acre Wood\, 5280 Cambria Way\, Westerville\, Ohio\, 43081
END:VEVENT
BEGIN:VEVENT
DTSTART;TZID=America/New_York:20250330T140000
DTEND;TZID=America/New_York:20250330T150000
DTSTAMP:20260419T111355
CREATED:20250217T135118Z
LAST-MODIFIED:20250217T135118Z
UID:10002376-1743343200-1743346800@www.metroparks.net
SUMMARY:Eagle Hikes
DESCRIPTION:Join us Sundays in March to check on the progress of the Bald Eagles at their nest at 100AcreWoods. HIke 1.5 mi. on flat\, primitive trail. Prepare for mud. Meet at 5225 Cambria Way.
URL:https://www.metroparks.net/event/eagle-hikes/2025-03-30/
LOCATION:100 Acre Wood\, 5280 Cambria Way\, Westerville\, Ohio\, 43081
ATTACH;FMTTYPE=image/jpeg:https://www.metroparks.net/wp-content/uploads/2020/02/eagles-in-nest_adults-and-babies_PKP_April_John-Anderson.jpg
END:VEVENT
BEGIN:VEVENT
DTSTART;TZID=America/New_York:20250323T140000
DTEND;TZID=America/New_York:20250323T150000
DTSTAMP:20260419T111355
CREATED:20250217T135118Z
LAST-MODIFIED:20250217T135118Z
UID:10002375-1742738400-1742742000@www.metroparks.net
SUMMARY:Eagle Hikes
DESCRIPTION:Join us Sundays in March to check on the progress of the Bald Eagles at their nest at 100AcreWoods. HIke 1.5 mi. on flat\, primitive trail. Prepare for mud. Meet at 5225 Cambria Way.
URL:https://www.metroparks.net/event/eagle-hikes/2025-03-23/
LOCATION:100 Acre Wood\, 5280 Cambria Way\, Westerville\, Ohio\, 43081
ATTACH;FMTTYPE=image/jpeg:https://www.metroparks.net/wp-content/uploads/2020/02/eagles-in-nest_adults-and-babies_PKP_April_John-Anderson.jpg
END:VEVENT
BEGIN:VEVENT
DTSTART;TZID=America/New_York:20250316T140000
DTEND;TZID=America/New_York:20250316T150000
DTSTAMP:20260419T111355
CREATED:20250217T135118Z
LAST-MODIFIED:20250217T135118Z
UID:10002374-1742133600-1742137200@www.metroparks.net
SUMMARY:Eagle Hikes
DESCRIPTION:Join us Sundays in March to check on the progress of the Bald Eagles at their nest at 100AcreWoods. HIke 1.5 mi. on flat\, primitive trail. Prepare for mud. Meet at 5225 Cambria Way.
URL:https://www.metroparks.net/event/eagle-hikes/2025-03-16/
LOCATION:100 Acre Wood\, 5280 Cambria Way\, Westerville\, Ohio\, 43081
ATTACH;FMTTYPE=image/jpeg:https://www.metroparks.net/wp-content/uploads/2020/02/eagles-in-nest_adults-and-babies_PKP_April_John-Anderson.jpg
END:VEVENT
BEGIN:VEVENT
DTSTART;TZID=America/New_York:20250309T140000
DTEND;TZID=America/New_York:20250309T150000
DTSTAMP:20260419T111355
CREATED:20250217T135118Z
LAST-MODIFIED:20250217T135118Z
UID:10002373-1741528800-1741532400@www.metroparks.net
SUMMARY:Eagle Hikes
DESCRIPTION:Join us Sundays in March to check on the progress of the Bald Eagles at their nest at 100AcreWoods. HIke 1.5 mi. on flat\, primitive trail. Prepare for mud. Meet at 5225 Cambria Way.
URL:https://www.metroparks.net/event/eagle-hikes/2025-03-09/
LOCATION:100 Acre Wood\, 5280 Cambria Way\, Westerville\, Ohio\, 43081
ATTACH;FMTTYPE=image/jpeg:https://www.metroparks.net/wp-content/uploads/2020/02/eagles-in-nest_adults-and-babies_PKP_April_John-Anderson.jpg
END:VEVENT
BEGIN:VEVENT
DTSTART;TZID=America/New_York:20250302T140000
DTEND;TZID=America/New_York:20250302T150000
DTSTAMP:20260419T111355
CREATED:20250217T135118Z
LAST-MODIFIED:20250217T135118Z
UID:10002372-1740924000-1740927600@www.metroparks.net
SUMMARY:Eagle Hikes
DESCRIPTION:Join us Sundays in March to check on the progress of the Bald Eagles at their nest at 100AcreWoods. HIke 1.5 mi. on flat\, primitive trail. Prepare for mud. Meet at 5225 Cambria Way.
URL:https://www.metroparks.net/event/eagle-hikes/2025-03-02/
LOCATION:100 Acre Wood\, 5280 Cambria Way\, Westerville\, Ohio\, 43081
ATTACH;FMTTYPE=image/jpeg:https://www.metroparks.net/wp-content/uploads/2020/02/eagles-in-nest_adults-and-babies_PKP_April_John-Anderson.jpg
END:VEVENT
BEGIN:VEVENT
DTSTART;TZID=America/New_York:20250203T100000
DTEND;TZID=America/New_York:20250203T113000
DTSTAMP:20260419T111355
CREATED:20250128T145129Z
LAST-MODIFIED:20250128T145129Z
UID:10002326-1738576800-1738582200@www.metroparks.net
SUMMARY:Ravine Off-trail Hike
DESCRIPTION:Explore the Blendon Ravine property and enjoy hiking through the woods along the Big Walnut Creek! Terrain will be uneven and unimproved\, hiking boots and trekking poles are recommended. Meet at 5280 Cambria Way\, Westerville\, OH 43081\, and a programmer will direct you to park along the street. This property is a separate location from Blendon Woods Metro Park.
URL:https://www.metroparks.net/event/ravine-off-trail-hike/
LOCATION:100 Acre Wood\, 5280 Cambria Way\, Westerville\, Ohio\, 43081
END:VEVENT
BEGIN:VEVENT
DTSTART;TZID=America/New_York:20241228T140000
DTEND;TZID=America/New_York:20241228T153000
DTSTAMP:20260419T111355
CREATED:20241120T153115Z
LAST-MODIFIED:20241120T153115Z
UID:10002057-1735394400-1735399800@www.metroparks.net
SUMMARY:Winter Forest @ The Hundred Acre Wood
DESCRIPTION:Experience the peaceful winter forest on this rugged 1.5-mile off-trail hike. Wear sturdy shoes. Meet at 5220 Cambria Way.
URL:https://www.metroparks.net/event/winter-forest-the-hundred-acre-wood/
LOCATION:100 Acre Wood\, 5280 Cambria Way\, Westerville\, Ohio\, 43081
END:VEVENT
BEGIN:VEVENT
DTSTART;TZID=America/New_York:20241110T173000
DTEND;TZID=America/New_York:20241110T190000
DTSTAMP:20260419T111355
CREATED:20241023T125911Z
LAST-MODIFIED:20241023T125911Z
UID:10001927-1731259800-1731265200@www.metroparks.net
SUMMARY:100 Acre Wood After Dark
DESCRIPTION:Hike 1.5 miles through the dark forest and search for nocturnal animals. Bring a flashlight. Sturdy hiking shoes recommended.
URL:https://www.metroparks.net/event/100-acre-wood-after-dark/
LOCATION:100 Acre Wood\, 5280 Cambria Way\, Westerville\, Ohio\, 43081
END:VEVENT
BEGIN:VEVENT
DTSTART;TZID=America/New_York:20240914T140000
DTEND;TZID=America/New_York:20240914T150000
DTSTAMP:20260419T111355
CREATED:20240822T123205Z
LAST-MODIFIED:20240822T123205Z
UID:10001705-1726322400-1726326000@www.metroparks.net
SUMMARY:Hundred Acre Woods History
DESCRIPTION:Take a 2-mile off-trail hike while exploring the secrets of this beautiful forest. Wear sturdy shoes.
URL:https://www.metroparks.net/event/hundred-acre-woods-history/
LOCATION:100 Acre Wood\, 5280 Cambria Way\, Westerville\, Ohio\, 43081
END:VEVENT
BEGIN:VEVENT
DTSTART;TZID=America/New_York:20240811T100000
DTEND;TZID=America/New_York:20240811T110000
DTSTAMP:20260419T111355
CREATED:20240715T125240Z
LAST-MODIFIED:20240715T125240Z
UID:10001586-1723370400-1723374000@www.metroparks.net
SUMMARY:Creeking for Crayfish @ 100 Acre Wood
DESCRIPTION:Hike through the stream to look for crayfish. Steep hike down to the stream.
URL:https://www.metroparks.net/event/creeking-for-crayfish-100-acre-wood/
LOCATION:100 Acre Wood\, 5280 Cambria Way\, Westerville\, Ohio\, 43081
END:VEVENT
BEGIN:VEVENT
DTSTART;TZID=America/New_York:20240718T103000
DTEND;TZID=America/New_York:20240718T123000
DTSTAMP:20260419T111355
CREATED:20240620T191749Z
LAST-MODIFIED:20240620T191749Z
UID:10001446-1721298600-1721305800@www.metroparks.net
SUMMARY:For Adults 50+: Picnic at the 100 Acre Wood
DESCRIPTION:Pack your lunch to munch after an easy\, 1.5-mile stroll through the forest. Bring something to drink and a chair or blanket to sit on. \nMeet at 5280 Cambria Way. Park along the street. There are no restrooms at this location.
URL:https://www.metroparks.net/event/for-adults-50-picnic-at-the-100-acre-wood/
LOCATION:100 Acre Wood\, 5280 Cambria Way\, Westerville\, Ohio\, 43081
END:VEVENT
BEGIN:VEVENT
DTSTART;TZID=America/New_York:20240714T140000
DTEND;TZID=America/New_York:20240714T153000
DTSTAMP:20260419T111355
CREATED:20240620T192107Z
LAST-MODIFIED:20240620T192107Z
UID:10001450-1720965600-1720971000@www.metroparks.net
SUMMARY:Creek Hike @ The Hundred Acre Wood
DESCRIPTION:Hike about 2 miles to explore the creek. Wear shoes that can get wet. Recommended ages 6 and up. Hike is rugged and steep. Meet at 5220 Cambria Way.
URL:https://www.metroparks.net/event/creek-hike-the-hundred-acre-wood/
LOCATION:100 Acre Wood\, 5280 Cambria Way\, Westerville\, Ohio\, 43081
END:VEVENT
BEGIN:VEVENT
DTSTART;TZID=America/New_York:20240601T150000
DTEND;TZID=America/New_York:20240601T163000
DTSTAMP:20260419T111355
CREATED:20240522T164647Z
LAST-MODIFIED:20240522T164717Z
UID:10001312-1717254000-1717259400@www.metroparks.net
SUMMARY:Geocache the Hundred Acre Wood
DESCRIPTION:Find several geocaches while exploring the forest. Sign up for a free account on geocaching.com before the program. Be prepared for mud.
URL:https://www.metroparks.net/event/geocache-the-hundred-acre-wood/
LOCATION:100 Acre Wood\, 5280 Cambria Way\, Westerville\, Ohio\, 43081
END:VEVENT
BEGIN:VEVENT
DTSTART;TZID=America/New_York:20240428T140000
DTEND;TZID=America/New_York:20240428T160000
DTSTAMP:20260419T111355
CREATED:20240325T144035Z
LAST-MODIFIED:20240325T144035Z
UID:10001187-1714312800-1714320000@www.metroparks.net
SUMMARY:Invasive Removal at Hundred Acre Wood
DESCRIPTION:Bring you gloves or borrow ours to help clear invasive species. Meet at 5220 Cambria Way. Park along the street.
URL:https://www.metroparks.net/event/invasive-removal-at-hundred-acre-wood/
LOCATION:100 Acre Wood\, 5280 Cambria Way\, Westerville\, Ohio\, 43081
END:VEVENT
BEGIN:VEVENT
DTSTART;TZID=America/New_York:20240420T140000
DTEND;TZID=America/New_York:20240420T150000
DTSTAMP:20260419T111355
CREATED:20240325T141602Z
LAST-MODIFIED:20240325T141602Z
UID:10001169-1713621600-1713625200@www.metroparks.net
SUMMARY:Wildflower Wander at 100 Acre Wood
DESCRIPTION:Hike 1.5 mi off trail to search for spring wildflowers. Meet at 5220 Cambria Way
URL:https://www.metroparks.net/event/wildflower-wander-at-100-acre-wood/
LOCATION:100 Acre Wood\, 5280 Cambria Way\, Westerville\, Ohio\, 43081
END:VEVENT
BEGIN:VEVENT
DTSTART;TZID=America/New_York:20240413T140000
DTEND;TZID=America/New_York:20240413T150000
DTSTAMP:20260419T111355
CREATED:20240325T133607Z
LAST-MODIFIED:20240325T134541Z
UID:10001145-1713016800-1713020400@www.metroparks.net
SUMMARY:Eagle Hike @ Hundred Acre Wood
DESCRIPTION:Hike 1.5 miles along a dirt trail to spy on the eagles at their nest. Meet at 5220 Cambria Way. Park along the street.
URL:https://www.metroparks.net/event/eagle-hike-hundred-acre-wood/2024-04-13/
LOCATION:100 Acre Wood\, 5280 Cambria Way\, Westerville\, Ohio\, 43081
ATTACH;FMTTYPE=image/jpeg:https://www.metroparks.net/wp-content/uploads/2020/02/eagle-in-flight-near-nest_HBK_March-2015_Dale-Miller-scaled.jpg
END:VEVENT
BEGIN:VEVENT
DTSTART;TZID=America/New_York:20240406T140000
DTEND;TZID=America/New_York:20240406T150000
DTSTAMP:20260419T111355
CREATED:20240325T133607Z
LAST-MODIFIED:20240325T134541Z
UID:10001134-1712412000-1712415600@www.metroparks.net
SUMMARY:Eagle Hike @ Hundred Acre Wood
DESCRIPTION:Hike 1.5 miles along a dirt trail to spy on the eagles at their nest. Meet at 5220 Cambria Way. Park along the street.
URL:https://www.metroparks.net/event/eagle-hike-hundred-acre-wood/2024-04-06/
LOCATION:100 Acre Wood\, 5280 Cambria Way\, Westerville\, Ohio\, 43081
ATTACH;FMTTYPE=image/jpeg:https://www.metroparks.net/wp-content/uploads/2020/02/eagle-in-flight-near-nest_HBK_March-2015_Dale-Miller-scaled.jpg
END:VEVENT
BEGIN:VEVENT
DTSTART;TZID=America/New_York:20240323T140000
DTEND;TZID=America/New_York:20240323T150000
DTSTAMP:20260419T111355
CREATED:20240226T141604Z
LAST-MODIFIED:20240226T141604Z
UID:10001072-1711202400-1711206000@www.metroparks.net
SUMMARY:Signs of Spring at 100 Acre Wood
DESCRIPTION:Hike 1.5 mi on seep unimproved trail to search for signs of spring and possibly spy in the bald eagles at their nest. Meet at 5220 Cambria Way. Prepare for mud.
URL:https://www.metroparks.net/event/signs-of-spring-at-100-acre-wood/
LOCATION:100 Acre Wood\, 5280 Cambria Way\, Westerville\, Ohio\, 43081
END:VEVENT
BEGIN:VEVENT
DTSTART;TZID=America/New_York:20240316T090000
DTEND;TZID=America/New_York:20240316T103000
DTSTAMP:20260419T111355
CREATED:20240226T140512Z
LAST-MODIFIED:20240226T140512Z
UID:10001064-1710579600-1710585000@www.metroparks.net
SUMMARY:Birding 100 Acre Wood
DESCRIPTION:Follow the 1.5 mi natural surface trail out to the eagle nest viewing area. We will hike slowly to look for birds along the way. Prepare for mud! Meet at 5220 Cambria Way
URL:https://www.metroparks.net/event/birding-100-acre-wood/
LOCATION:100 Acre Wood\, 5280 Cambria Way\, Westerville\, Ohio\, 43081
END:VEVENT
END:VCALENDAR