BEGIN:VCALENDAR
VERSION:2.0
PRODID:-//Metro Parks - Central Ohio Park System - ECPv6.15.16.1//NONSGML v1.0//EN
CALSCALE:GREGORIAN
METHOD:PUBLISH
X-WR-CALNAME:Metro Parks - Central Ohio Park System
X-ORIGINAL-URL:https://www.metroparks.net
X-WR-CALDESC:Events for Metro Parks - Central Ohio Park System
REFRESH-INTERVAL;VALUE=DURATION:PT1H
X-Robots-Tag:noindex
X-PUBLISHED-TTL:PT1H
BEGIN:VTIMEZONE
TZID:America/New_York
BEGIN:DAYLIGHT
TZOFFSETFROM:-0500
TZOFFSETTO:-0400
TZNAME:EDT
DTSTART:20220313T070000
END:DAYLIGHT
BEGIN:STANDARD
TZOFFSETFROM:-0400
TZOFFSETTO:-0500
TZNAME:EST
DTSTART:20221106T060000
END:STANDARD
BEGIN:DAYLIGHT
TZOFFSETFROM:-0500
TZOFFSETTO:-0400
TZNAME:EDT
DTSTART:20230312T070000
END:DAYLIGHT
BEGIN:STANDARD
TZOFFSETFROM:-0400
TZOFFSETTO:-0500
TZNAME:EST
DTSTART:20231105T060000
END:STANDARD
BEGIN:DAYLIGHT
TZOFFSETFROM:-0500
TZOFFSETTO:-0400
TZNAME:EDT
DTSTART:20240310T070000
END:DAYLIGHT
BEGIN:STANDARD
TZOFFSETFROM:-0400
TZOFFSETTO:-0500
TZNAME:EST
DTSTART:20241103T060000
END:STANDARD
BEGIN:DAYLIGHT
TZOFFSETFROM:-0500
TZOFFSETTO:-0400
TZNAME:EDT
DTSTART:20250309T070000
END:DAYLIGHT
BEGIN:STANDARD
TZOFFSETFROM:-0400
TZOFFSETTO:-0500
TZNAME:EST
DTSTART:20251102T060000
END:STANDARD
END:VTIMEZONE
BEGIN:VEVENT
DTSTART;TZID=America/New_York:20240428T140000
DTEND;TZID=America/New_York:20240428T160000
DTSTAMP:20260419T141629
CREATED:20240325T144035Z
LAST-MODIFIED:20240325T144035Z
UID:10001187-1714312800-1714320000@www.metroparks.net
SUMMARY:Invasive Removal at Hundred Acre Wood
DESCRIPTION:Bring you gloves or borrow ours to help clear invasive species. Meet at 5220 Cambria Way. Park along the street.
URL:https://www.metroparks.net/event/invasive-removal-at-hundred-acre-wood/
LOCATION:100 Acre Wood\, 5280 Cambria Way\, Westerville\, Ohio\, 43081
END:VEVENT
BEGIN:VEVENT
DTSTART;TZID=America/New_York:20240420T140000
DTEND;TZID=America/New_York:20240420T150000
DTSTAMP:20260419T141629
CREATED:20240325T141602Z
LAST-MODIFIED:20240325T141602Z
UID:10001169-1713621600-1713625200@www.metroparks.net
SUMMARY:Wildflower Wander at 100 Acre Wood
DESCRIPTION:Hike 1.5 mi off trail to search for spring wildflowers. Meet at 5220 Cambria Way
URL:https://www.metroparks.net/event/wildflower-wander-at-100-acre-wood/
LOCATION:100 Acre Wood\, 5280 Cambria Way\, Westerville\, Ohio\, 43081
END:VEVENT
BEGIN:VEVENT
DTSTART;TZID=America/New_York:20240413T140000
DTEND;TZID=America/New_York:20240413T150000
DTSTAMP:20260419T141629
CREATED:20240325T133607Z
LAST-MODIFIED:20240325T134541Z
UID:10001145-1713016800-1713020400@www.metroparks.net
SUMMARY:Eagle Hike @ Hundred Acre Wood
DESCRIPTION:Hike 1.5 miles along a dirt trail to spy on the eagles at their nest. Meet at 5220 Cambria Way. Park along the street.
URL:https://www.metroparks.net/event/eagle-hike-hundred-acre-wood/2024-04-13/
LOCATION:100 Acre Wood\, 5280 Cambria Way\, Westerville\, Ohio\, 43081
ATTACH;FMTTYPE=image/jpeg:https://www.metroparks.net/wp-content/uploads/2020/02/eagle-in-flight-near-nest_HBK_March-2015_Dale-Miller-scaled.jpg
END:VEVENT
BEGIN:VEVENT
DTSTART;TZID=America/New_York:20240406T140000
DTEND;TZID=America/New_York:20240406T150000
DTSTAMP:20260419T141629
CREATED:20240325T133607Z
LAST-MODIFIED:20240325T134541Z
UID:10001134-1712412000-1712415600@www.metroparks.net
SUMMARY:Eagle Hike @ Hundred Acre Wood
DESCRIPTION:Hike 1.5 miles along a dirt trail to spy on the eagles at their nest. Meet at 5220 Cambria Way. Park along the street.
URL:https://www.metroparks.net/event/eagle-hike-hundred-acre-wood/2024-04-06/
LOCATION:100 Acre Wood\, 5280 Cambria Way\, Westerville\, Ohio\, 43081
ATTACH;FMTTYPE=image/jpeg:https://www.metroparks.net/wp-content/uploads/2020/02/eagle-in-flight-near-nest_HBK_March-2015_Dale-Miller-scaled.jpg
END:VEVENT
BEGIN:VEVENT
DTSTART;TZID=America/New_York:20240323T140000
DTEND;TZID=America/New_York:20240323T150000
DTSTAMP:20260419T141629
CREATED:20240226T141604Z
LAST-MODIFIED:20240226T141604Z
UID:10001072-1711202400-1711206000@www.metroparks.net
SUMMARY:Signs of Spring at 100 Acre Wood
DESCRIPTION:Hike 1.5 mi on seep unimproved trail to search for signs of spring and possibly spy in the bald eagles at their nest. Meet at 5220 Cambria Way. Prepare for mud.
URL:https://www.metroparks.net/event/signs-of-spring-at-100-acre-wood/
LOCATION:100 Acre Wood\, 5280 Cambria Way\, Westerville\, Ohio\, 43081
END:VEVENT
BEGIN:VEVENT
DTSTART;TZID=America/New_York:20240316T090000
DTEND;TZID=America/New_York:20240316T103000
DTSTAMP:20260419T141629
CREATED:20240226T140512Z
LAST-MODIFIED:20240226T140512Z
UID:10001064-1710579600-1710585000@www.metroparks.net
SUMMARY:Birding 100 Acre Wood
DESCRIPTION:Follow the 1.5 mi natural surface trail out to the eagle nest viewing area. We will hike slowly to look for birds along the way. Prepare for mud! Meet at 5220 Cambria Way
URL:https://www.metroparks.net/event/birding-100-acre-wood/
LOCATION:100 Acre Wood\, 5280 Cambria Way\, Westerville\, Ohio\, 43081
END:VEVENT
BEGIN:VEVENT
DTSTART;TZID=America/New_York:20240309T080000
DTEND;TZID=America/New_York:20240309T090000
DTSTAMP:20260419T141629
CREATED:20240226T135219Z
LAST-MODIFIED:20240226T135219Z
UID:10001050-1709971200-1709974800@www.metroparks.net
SUMMARY:Eagle Hike
DESCRIPTION:Take a .75 mi hike on natural surface trail to see if we can spot the eagles at their nest. Prepare for mud!
URL:https://www.metroparks.net/event/eagle-hike/
LOCATION:100 Acre Wood\, 5280 Cambria Way\, Westerville\, Ohio\, 43081
ATTACH;FMTTYPE=image/jpeg:https://www.metroparks.net/wp-content/uploads/2018/08/990px-eagle-in-flight-at-HBK_May_D-Wise.jpg
END:VEVENT
BEGIN:VEVENT
DTSTART;TZID=America/New_York:20240225T140000
DTEND;TZID=America/New_York:20240225T150000
DTSTAMP:20260419T141629
CREATED:20240124T141942Z
LAST-MODIFIED:20240124T141942Z
UID:10000996-1708869600-1708873200@www.metroparks.net
SUMMARY:Are the Eagles Back Yet?
DESCRIPTION:Hike about 1.5 mi on the unimproved trail at 100 Acre Wood to see if the Bald Eagles have returned to their nest. Prepare for mud! Meet at 5220 Cambria Way.
URL:https://www.metroparks.net/event/are-the-eagles-back-yet/
LOCATION:100 Acre Wood\, 5280 Cambria Way\, Westerville\, Ohio\, 43081
ATTACH;FMTTYPE=image/jpeg:https://www.metroparks.net/wp-content/uploads/2021/05/PKP_eagles-in-flight_Jan-6_Kathryn-Cubert.jpg
END:VEVENT
BEGIN:VEVENT
DTSTART;TZID=America/New_York:20240127T140000
DTEND;TZID=America/New_York:20240127T150000
DTSTAMP:20260419T141629
CREATED:20231218T142909Z
LAST-MODIFIED:20231218T145020Z
UID:10000813-1706364000-1706367600@www.metroparks.net
SUMMARY:Off-trail Ramble @ 100 Acre Wood
DESCRIPTION:Meet at 5220 Cambria Way. Explore the hidden gem of MetroParks. We will hike to less-traveled area of this property. Hiking my be strenuous and muddy. Wear good footgear.
URL:https://www.metroparks.net/event/off-trail-ramble-100-acre-wood/
LOCATION:100 Acre Wood\, 5280 Cambria Way\, Westerville\, Ohio\, 43081
END:VEVENT
BEGIN:VEVENT
DTSTART;TZID=America/New_York:20231121T150000
DTEND;TZID=America/New_York:20231121T160000
DTSTAMP:20260419T141629
CREATED:20231023T172340Z
LAST-MODIFIED:20231023T172340Z
UID:10000692-1700578800-1700582400@www.metroparks.net
SUMMARY:For Kids: Hike the Hundred Acre Wood
DESCRIPTION:Prepare for an off-trail adventure through the Hundred Acre Wood property. Wear sturdy shoes! Meet at 5220 Cambria Way. Some sections of the hike will be steep. NOT stroller friendly!
URL:https://www.metroparks.net/event/for-kids-hike-the-hundred-acre-wood/
LOCATION:100 Acre Wood\, 5280 Cambria Way\, Westerville\, Ohio\, 43081
ATTACH;FMTTYPE=image/jpeg:https://www.metroparks.net/wp-content/uploads/2023/03/100AW_overlooking-creek_Jesse-Bethea.jpg
END:VEVENT
BEGIN:VEVENT
DTSTART;TZID=America/New_York:20231027T163000
DTEND;TZID=America/New_York:20231027T173000
DTSTAMP:20260419T141629
CREATED:20230919T163957Z
LAST-MODIFIED:20230919T163957Z
UID:10000634-1698424200-1698427800@www.metroparks.net
SUMMARY:History of the One Hundred Acre Woods
DESCRIPTION:Take a 2-mile off-trail hike while exploring the secrets of this beautiful forest. Wear sturdy shoes; Steep ravines.
URL:https://www.metroparks.net/event/history-of-the-one-hundred-acre-woods/
LOCATION:100 Acre Wood\, 5280 Cambria Way\, Westerville\, Ohio\, 43081
END:VEVENT
BEGIN:VEVENT
DTSTART;TZID=America/New_York:20230818T180000
DTEND;TZID=America/New_York:20230818T190000
DTSTAMP:20260419T141629
CREATED:20230814T165827Z
LAST-MODIFIED:20230814T165827Z
UID:10000572-1692381600-1692385200@www.metroparks.net
SUMMARY:50+ Evening Ravine Hike
DESCRIPTION:Take a 2-mile off-trail hike through the ravines at the Hundred Acre Wood property. Meet at 5220 Cambria Way.
URL:https://www.metroparks.net/event/50-evening-ravine-hike/
LOCATION:100 Acre Wood\, 5280 Cambria Way\, Westerville\, Ohio\, 43081
END:VEVENT
BEGIN:VEVENT
DTSTART;TZID=America/New_York:20230723T140000
DTEND;TZID=America/New_York:20230723T150000
DTSTAMP:20260419T141629
CREATED:20230717T173706Z
LAST-MODIFIED:20230717T173706Z
UID:10000539-1690120800-1690124400@www.metroparks.net
SUMMARY:Tree ID @ the Hundred Acre Woods
DESCRIPTION:Hike 1.5 mi off trail to identify trees and enjoy the forest. Meet at 5220 Cambria Way. Park along the street
URL:https://www.metroparks.net/event/tree-id-the-hundred-acre-woods/
LOCATION:100 Acre Wood\, 5280 Cambria Way\, Westerville\, Ohio\, 43081
END:VEVENT
END:VCALENDAR