BEGIN:VCALENDAR
VERSION:2.0
PRODID:-//Metro Parks - Central Ohio Park System - ECPv6.15.16.1//NONSGML v1.0//EN
CALSCALE:GREGORIAN
METHOD:PUBLISH
X-WR-CALNAME:Metro Parks - Central Ohio Park System
X-ORIGINAL-URL:https://www.metroparks.net
X-WR-CALDESC:Events for Metro Parks - Central Ohio Park System
REFRESH-INTERVAL;VALUE=DURATION:PT1H
X-Robots-Tag:noindex
X-PUBLISHED-TTL:PT1H
BEGIN:VTIMEZONE
TZID:America/New_York
BEGIN:DAYLIGHT
TZOFFSETFROM:-0500
TZOFFSETTO:-0400
TZNAME:EDT
DTSTART:20230312T070000
END:DAYLIGHT
BEGIN:STANDARD
TZOFFSETFROM:-0400
TZOFFSETTO:-0500
TZNAME:EST
DTSTART:20231105T060000
END:STANDARD
BEGIN:DAYLIGHT
TZOFFSETFROM:-0500
TZOFFSETTO:-0400
TZNAME:EDT
DTSTART:20240310T070000
END:DAYLIGHT
BEGIN:STANDARD
TZOFFSETFROM:-0400
TZOFFSETTO:-0500
TZNAME:EST
DTSTART:20241103T060000
END:STANDARD
BEGIN:DAYLIGHT
TZOFFSETFROM:-0500
TZOFFSETTO:-0400
TZNAME:EDT
DTSTART:20250309T070000
END:DAYLIGHT
BEGIN:STANDARD
TZOFFSETFROM:-0400
TZOFFSETTO:-0500
TZNAME:EST
DTSTART:20251102T060000
END:STANDARD
END:VTIMEZONE
BEGIN:VEVENT
DTSTART;TZID=America/New_York:20241018T093000
DTEND;TZID=America/New_York:20241018T103000
DTSTAMP:20260424T124545
CREATED:20240924T143433Z
LAST-MODIFIED:20240924T143433Z
UID:10001866-1729243800-1729247400@www.metroparks.net
SUMMARY:Preschool: Animals That Go Bump in the Night
DESCRIPTION:Learn about “not so scary” nocturnal animals through story\, activities\, and craft. Program best for ages 3-5.
URL:https://www.metroparks.net/event/preschool-animals-that-go-bump-in-the-night/2024-10-18/1/
LOCATION:Battelle Darby Creek\, 1775 Darby Creek Drive\, Galloway\, OH\, 43119\, United States
END:VEVENT
BEGIN:VEVENT
DTSTART;TZID=America/New_York:20241017T180000
DTEND;TZID=America/New_York:20241017T200000
DTSTAMP:20260424T124545
CREATED:20240924T143344Z
LAST-MODIFIED:20240924T143344Z
UID:10001865-1729188000-1729195200@www.metroparks.net
SUMMARY:Full Moon Hike
DESCRIPTION:Take a brisk 4-mile hike through forests and fields. Meet us at the Ranger Station\, 1775 Darby Creek Drive.
URL:https://www.metroparks.net/event/full-moon-hike-13/
LOCATION:Battelle Darby Creek\, 1775 Darby Creek Drive\, Galloway\, OH\, 43119\, United States
ATTACH;FMTTYPE=image/jpeg:https://www.metroparks.net/wp-content/uploads/2019/03/gallery-spring-RKF-full-moon-and-trees_April-Dan-Bissonette.jpg
END:VEVENT
BEGIN:VEVENT
DTSTART;TZID=America/New_York:20241014T160000
DTEND;TZID=America/New_York:20241014T170000
DTSTAMP:20260424T124545
CREATED:20240924T144159Z
LAST-MODIFIED:20240924T144159Z
UID:10001875-1728921600-1728925200@www.metroparks.net
SUMMARY:Princess Walk
DESCRIPTION:Calling all Jr Princesses who love their outfits\, let’s take a magical 1-mile paved walk exploring our enchanted forest. Meet at the Ranger Station\, 1775 Darby Creek Dr.
URL:https://www.metroparks.net/event/princess-walk/
LOCATION:Battelle Darby Creek\, 1775 Darby Creek Drive\, Galloway\, OH\, 43119\, United States
END:VEVENT
BEGIN:VEVENT
DTSTART;TZID=America/New_York:20241012T100000
DTEND;TZID=America/New_York:20241012T120000
DTSTAMP:20260424T124545
CREATED:20240924T144939Z
LAST-MODIFIED:20240924T144939Z
UID:10001878-1728727200-1728734400@www.metroparks.net
SUMMARY:Adults Only: Cemetery Hike
DESCRIPTION:Get your walking boots on and join us for a 4-mile off-trail hike to visit some of our parks hidden pioneer cemeteries and an Adena Mound. Meet us at Little Darby Picnic Area 3711 Gardner Rd. 18+
URL:https://www.metroparks.net/event/adults-only-cemetery-hike-3/
LOCATION:Battelle Darby Creek\, 1775 Darby Creek Drive\, Galloway\, OH\, 43119\, United States
END:VEVENT
BEGIN:VEVENT
DTSTART;TZID=America/New_York:20241005T130000
DTEND;TZID=America/New_York:20241005T160000
DTSTAMP:20260424T124545
CREATED:20240826T172356Z
LAST-MODIFIED:20240826T172356Z
UID:10001759-1728133200-1728144000@www.metroparks.net
SUMMARY:Darby Creek Day
DESCRIPTION:Celebrate everything that makes our creek great! Talk to many of our partnered organizations for tables of fun. All activities are free. \nLocation: Indian Ridge Picnic Area\, 2705 Darby Creek Drive\, Galloway\, OH 43119
URL:https://www.metroparks.net/event/darby-creek-day-2/
LOCATION:Battelle Darby Creek\, 1775 Darby Creek Drive\, Galloway\, OH\, 43119\, United States
ATTACH;FMTTYPE=image/png:https://www.metroparks.net/wp-content/uploads/2024/08/Darby-Creek-Day-1.png
END:VEVENT
BEGIN:VEVENT
DTSTART;TZID=America/New_York:20240929T170000
DTEND;TZID=America/New_York:20240929T183000
DTSTAMP:20260424T124545
CREATED:20240827T172725Z
LAST-MODIFIED:20240827T172725Z
UID:10001774-1727629200-1727634600@www.metroparks.net
SUMMARY:Sunday Evening Bird Walk
DESCRIPTION:Take a 1.5 mile\, accessible hike to look for fall birds. All skill levels welcome. Limited supply of binoculars available to borrow. Trail is paved\, and includes one hill. Ages 12+.
URL:https://www.metroparks.net/event/sunday-evening-bird-walk/
LOCATION:Battelle Darby Creek\, 1775 Darby Creek Drive\, Galloway\, OH\, 43119\, United States
ATTACH;FMTTYPE=image/jpeg:https://www.metroparks.net/wp-content/uploads/2021/07/SLR_schoolkids-birdwatching_A_Krava.jpg
END:VEVENT
BEGIN:VEVENT
DTSTART;TZID=America/New_York:20240927T203000
DTEND;TZID=America/New_York:20240927T220000
DTSTAMP:20260424T124545
CREATED:20240827T172608Z
LAST-MODIFIED:20240827T172608Z
UID:10001772-1727469000-1727474400@www.metroparks.net
SUMMARY:Night Hike
DESCRIPTION:Let’s take a 2-mile interpretive hike through the forests and prairies under the starlight. Meet at the Indian Ridge Bulletin Board\, 2705 Darby Creek Dr.
URL:https://www.metroparks.net/event/night-hike-13/
LOCATION:Battelle Darby Creek\, 1775 Darby Creek Drive\, Galloway\, OH\, 43119\, United States
END:VEVENT
BEGIN:VEVENT
DTSTART;TZID=America/New_York:20240927T170000
DTEND;TZID=America/New_York:20240927T180000
DTSTAMP:20260424T124545
CREATED:20240827T172534Z
LAST-MODIFIED:20240827T172534Z
UID:10001771-1727456400-1727460000@www.metroparks.net
SUMMARY:Minecraft!
DESCRIPTION:Go on a scavenger hunt to look for things from Minecraft in Darby’s woods! Followed by a short craft. Best for ages 5+.
URL:https://www.metroparks.net/event/minecraft/
LOCATION:Battelle Darby Creek\, 1775 Darby Creek Drive\, Galloway\, OH\, 43119\, United States
END:VEVENT
BEGIN:VEVENT
DTSTART;TZID=America/New_York:20240917T190000
DTEND;TZID=America/New_York:20240917T210000
DTSTAMP:20260424T124545
CREATED:20240827T172221Z
LAST-MODIFIED:20240827T172221Z
UID:10001768-1726599600-1726606800@www.metroparks.net
SUMMARY:Full Moon Hike
DESCRIPTION:Take a brisk 4-mile hike through forests and fields. Meet us at the Ranger Station\, 1775 Darby Creek Drive.
URL:https://www.metroparks.net/event/full-moon-hike-12/
LOCATION:Battelle Darby Creek\, 1775 Darby Creek Drive\, Galloway\, OH\, 43119\, United States
ATTACH;FMTTYPE=image/jpeg:https://www.metroparks.net/wp-content/uploads/2022/06/full-moon-dan-bissonette.jpg
END:VEVENT
BEGIN:VEVENT
DTSTART;TZID=America/New_York:20240915T150000
DTEND;TZID=America/New_York:20240915T170000
DTSTAMP:20260424T124545
CREATED:20240827T172035Z
LAST-MODIFIED:20240827T172035Z
UID:10001767-1726412400-1726419600@www.metroparks.net
SUMMARY:Doe'nt Miss
DESCRIPTION:Learn about the life history of deer\, and get a chance to practice some archery and atlatl throwing at a Deer Camp! Ages 12+. Meet at the Nature Center Overflow Lot.
URL:https://www.metroparks.net/event/doent-miss/
LOCATION:Battelle Darby Creek\, 1775 Darby Creek Drive\, Galloway\, OH\, 43119\, United States
ATTACH;FMTTYPE=image/jpeg:https://www.metroparks.net/wp-content/uploads/2023/07/scott-ICON-deer-ears.jpg
END:VEVENT
BEGIN:VEVENT
DTSTART;TZID=America/New_York:20240913T110000
DTEND;TZID=America/New_York:20240913T120000
DTSTAMP:20260424T124545
CREATED:20240827T171956Z
LAST-MODIFIED:20240827T171956Z
UID:10001766-1726225200-1726228800@www.metroparks.net
SUMMARY:Preschool: Bats
DESCRIPTION:Learn about bats through stories\, activities and a craft. Ages 3-5.
URL:https://www.metroparks.net/event/preschool-bats/2024-09-13/2/
LOCATION:Battelle Darby Creek\, 1775 Darby Creek Drive\, Galloway\, OH\, 43119\, United States
ATTACH;FMTTYPE=image/jpeg:https://www.metroparks.net/wp-content/uploads/2023/11/Egyptian-fruit-bat_icon.jpg
END:VEVENT
BEGIN:VEVENT
DTSTART;TZID=America/New_York:20240913T093000
DTEND;TZID=America/New_York:20240913T223000
DTSTAMP:20260424T124545
CREATED:20240827T171956Z
LAST-MODIFIED:20240827T171956Z
UID:10001765-1726219800-1726266600@www.metroparks.net
SUMMARY:Preschool: Bats
DESCRIPTION:Learn about bats through stories\, activities and a craft. Ages 3-5.
URL:https://www.metroparks.net/event/preschool-bats/2024-09-13/1/
LOCATION:Battelle Darby Creek\, 1775 Darby Creek Drive\, Galloway\, OH\, 43119\, United States
ATTACH;FMTTYPE=image/jpeg:https://www.metroparks.net/wp-content/uploads/2023/11/Egyptian-fruit-bat_icon.jpg
END:VEVENT
BEGIN:VEVENT
DTSTART;TZID=America/New_York:20240912T130000
DTEND;TZID=America/New_York:20240912T140000
DTSTAMP:20260424T124545
CREATED:20240827T171850Z
LAST-MODIFIED:20240827T171850Z
UID:10001764-1726146000-1726149600@www.metroparks.net
SUMMARY:Amazing Animal Adaptations
DESCRIPTION:Learn about different Ohio animals and their adaptations that help protect them in the wild. Great for ages 5+.
URL:https://www.metroparks.net/event/amazing-animal-adaptations/
LOCATION:Battelle Darby Creek\, 1775 Darby Creek Drive\, Galloway\, OH\, 43119\, United States
END:VEVENT
BEGIN:VEVENT
DTSTART;TZID=America/New_York:20240907T140000
DTEND;TZID=America/New_York:20240907T150000
DTSTAMP:20260424T124545
CREATED:20240827T171814Z
LAST-MODIFIED:20240827T171814Z
UID:10001763-1725717600-1725721200@www.metroparks.net
SUMMARY:Cicadian Rhythm
DESCRIPTION:Buzz around on a 1-mile accessible hike along the Hawthorn Loop learning about cicadas and how they sing! Meet at the Ranger Station.
URL:https://www.metroparks.net/event/cicadian-rhythm/
LOCATION:Battelle Darby Creek\, 1775 Darby Creek Drive\, Galloway\, OH\, 43119\, United States
END:VEVENT
BEGIN:VEVENT
DTSTART;TZID=America/New_York:20240906T160000
DTEND;TZID=America/New_York:20240906T170000
DTSTAMP:20260424T124545
CREATED:20240827T171655Z
LAST-MODIFIED:20240827T171655Z
UID:10001761-1725638400-1725642000@www.metroparks.net
SUMMARY:Forest Bathing
DESCRIPTION:Join a naturalist in some good ol’ nature therapy! Feel free to bring something to sit on that’s easy to carry as we take a quarter-mile hike and practice some quiet\, stress-relieving techniques surrounded by trees. Meet at the Ranger Station\, best for ages 12+.
URL:https://www.metroparks.net/event/forest-bathing-7/
LOCATION:Battelle Darby Creek\, 1775 Darby Creek Drive\, Galloway\, OH\, 43119\, United States
END:VEVENT
BEGIN:VEVENT
DTSTART;TZID=America/New_York:20240901T130000
DTEND;TZID=America/New_York:20240901T140000
DTSTAMP:20260424T124545
CREATED:20240827T171620Z
LAST-MODIFIED:20240827T171620Z
UID:10001760-1725195600-1725199200@www.metroparks.net
SUMMARY:Darling Dragonflies
DESCRIPTION:Join a naturalist to learn about dragonflies through stories and create a darling dragonfly craft! For ages 5+.
URL:https://www.metroparks.net/event/darling-dragonflies/
LOCATION:Battelle Darby Creek\, 1775 Darby Creek Drive\, Galloway\, OH\, 43119\, United States
ATTACH;FMTTYPE=image/jpeg:https://www.metroparks.net/wp-content/uploads/2019/12/swift-setwing-download-990px.jpg
END:VEVENT
BEGIN:VEVENT
DTSTART;TZID=America/New_York:20240831T080000
DTEND;TZID=America/New_York:20240831T090000
DTSTAMP:20260424T124545
CREATED:20240802T180646Z
LAST-MODIFIED:20240802T180753Z
UID:10001696-1725091200-1725094800@www.metroparks.net
SUMMARY:Outdoor Adventure Run Club!
DESCRIPTION:Join us for a fun morning of running the trails at Battelle Darby Creek Metro Park! Loops will be mapped out\, feel free to run at your own pace!\nMeet at the Ranger Station\n1775 Darby Creek Drive Galloway\, OH 43119
URL:https://www.metroparks.net/event/outdoor-adventure-run-club-2/2024-08-31/
LOCATION:Battelle Darby Creek\, 1775 Darby Creek Drive\, Galloway\, OH\, 43119\, United States
END:VEVENT
BEGIN:VEVENT
DTSTART;TZID=America/New_York:20240830T170000
DTEND;TZID=America/New_York:20240830T180000
DTSTAMP:20260424T124545
CREATED:20240729T150515Z
LAST-MODIFIED:20240729T150515Z
UID:10001654-1725037200-1725040800@www.metroparks.net
SUMMARY:Un-Nature Hike
DESCRIPTION:Join a naturalist on a forested scavenger hunt\, looking for things that don’t belong! Great for kids\, 0.4mile walk.
URL:https://www.metroparks.net/event/un-nature-hike/
LOCATION:Battelle Darby Creek\, 1775 Darby Creek Drive\, Galloway\, OH\, 43119\, United States
END:VEVENT
BEGIN:VEVENT
DTSTART;TZID=America/New_York:20240827T203000
DTEND;TZID=America/New_York:20240827T213000
DTSTAMP:20260424T124545
CREATED:20240729T150305Z
LAST-MODIFIED:20240729T150305Z
UID:10001650-1724790600-1724794200@www.metroparks.net
SUMMARY:Bat Brigade
DESCRIPTION:We are the night. Well\, let’s at least explore the night with one of our most famous nocturnals\, bats\, on this 1-mile hike. Meet at the Indian Ridge Bulletin Board\, 2705 Darby Creek Dr.
URL:https://www.metroparks.net/event/bat-brigade/
LOCATION:Battelle Darby Creek\, 1775 Darby Creek Drive\, Galloway\, OH\, 43119\, United States
ATTACH;FMTTYPE=image/jpeg:https://www.metroparks.net/wp-content/uploads/2023/11/Egyptian-fruit-bat_icon.jpg
END:VEVENT
BEGIN:VEVENT
DTSTART;TZID=America/New_York:20240825T103000
DTEND;TZID=America/New_York:20240825T123000
DTSTAMP:20260424T124545
CREATED:20240729T145934Z
LAST-MODIFIED:20240729T145934Z
UID:10001647-1724581800-1724589000@www.metroparks.net
SUMMARY:For Adults: Calm Down Hike
DESCRIPTION:Want to learn how to channel your inner nature aspect? Take a 3-mile hike and learn about all the cool and colorful things to touch and explore. Ages 18+. Little Darby Picnic Area\, 3711 Gardner Rd.
URL:https://www.metroparks.net/event/for-adults-calm-down-hike/
LOCATION:Battelle Darby Creek\, 1775 Darby Creek Drive\, Galloway\, OH\, 43119\, United States
END:VEVENT
BEGIN:VEVENT
DTSTART;TZID=America/New_York:20240823T180000
DTEND;TZID=America/New_York:20240823T190000
DTSTAMP:20260424T124545
CREATED:20240729T145603Z
LAST-MODIFIED:20240729T145603Z
UID:10001644-1724436000-1724439600@www.metroparks.net
SUMMARY:Bison
DESCRIPTION:Join a naturalist to learn about bison. Expect a short walk to the bison pasture.
URL:https://www.metroparks.net/event/bison-2/
LOCATION:Battelle Darby Creek\, 1775 Darby Creek Drive\, Galloway\, OH\, 43119\, United States
ATTACH;FMTTYPE=image/png:https://www.metroparks.net/wp-content/uploads/2019/08/bison-990px-shedding-its-winter-coat_BDC_TC.png
END:VEVENT
BEGIN:VEVENT
DTSTART;TZID=America/New_York:20240823T100000
DTEND;TZID=America/New_York:20240823T110000
DTSTAMP:20260424T124545
CREATED:20240729T145526Z
LAST-MODIFIED:20240729T145526Z
UID:10001643-1724407200-1724410800@www.metroparks.net
SUMMARY:Forest Bathing
DESCRIPTION:Join a naturalist in some good ol’ nature therapy! Feel free to bring something to sit on that’s easy to carry as we take a short hike and practice some quiet\, stress-relieving techniques surrounded by greenery. Ages 7+. Meet at the Ranger Station\, 1775 Darby Creek Dr.
URL:https://www.metroparks.net/event/forest-bathing-6/
LOCATION:Battelle Darby Creek\, 1775 Darby Creek Drive\, Galloway\, OH\, 43119\, United States
ATTACH;FMTTYPE=image/jpeg:https://www.metroparks.net/wp-content/uploads/2017/06/1080p_HBK_autumn-morning_GI.jpg
END:VEVENT
BEGIN:VEVENT
DTSTART;TZID=America/New_York:20240819T200000
DTEND;TZID=America/New_York:20240819T220000
DTSTAMP:20260424T124545
CREATED:20240729T144904Z
LAST-MODIFIED:20240729T144904Z
UID:10001638-1724097600-1724104800@www.metroparks.net
SUMMARY:Full Moon Hike
DESCRIPTION:Take a brisk 4-mile hike through forests and fields. Meet us at the Ranger Station\, 1775 Darby Creek Drive.
URL:https://www.metroparks.net/event/full-moon-hike-11/
LOCATION:Battelle Darby Creek\, 1775 Darby Creek Drive\, Galloway\, OH\, 43119\, United States
ATTACH;FMTTYPE=image/jpeg:https://www.metroparks.net/wp-content/uploads/2022/06/full-moon-dan-bissonette.jpg
END:VEVENT
BEGIN:VEVENT
DTSTART;TZID=America/New_York:20240818T130000
DTEND;TZID=America/New_York:20240818T150000
DTSTAMP:20260424T124545
CREATED:20240724T171954Z
LAST-MODIFIED:20240724T171954Z
UID:10001621-1723986000-1723993200@www.metroparks.net
SUMMARY:Summer Sunday Splash
DESCRIPTION:Stop by anytime between 1-3pm for some drop-by creeking. Join the Naturalists as we search for crawdads\, fish\, and aquatic bugs. Closed-toed shoes recommended. Creeking supplies provided. Follow signs from Ranger Station.
URL:https://www.metroparks.net/event/summer-sunday-splash-2/2024-08-18/
LOCATION:Battelle Darby Creek\, 1775 Darby Creek Drive\, Galloway\, OH\, 43119\, United States
END:VEVENT
BEGIN:VEVENT
DTSTART;TZID=America/New_York:20240817T080000
DTEND;TZID=America/New_York:20240817T090000
DTSTAMP:20260424T124545
CREATED:20240802T180646Z
LAST-MODIFIED:20240802T180753Z
UID:10001697-1723881600-1723885200@www.metroparks.net
SUMMARY:Outdoor Adventure Run Club!
DESCRIPTION:Join us for a fun morning of running the trails at Battelle Darby Creek Metro Park! Loops will be mapped out\, feel free to run at your own pace!\nMeet at the Ranger Station\n1775 Darby Creek Drive Galloway\, OH 43119
URL:https://www.metroparks.net/event/outdoor-adventure-run-club-2/2024-08-17/
LOCATION:Battelle Darby Creek\, 1775 Darby Creek Drive\, Galloway\, OH\, 43119\, United States
END:VEVENT
BEGIN:VEVENT
DTSTART;TZID=America/New_York:20240816T110000
DTEND;TZID=America/New_York:20240816T120000
DTSTAMP:20260424T124545
CREATED:20240729T144506Z
LAST-MODIFIED:20240729T144506Z
UID:10001635-1723806000-1723809600@www.metroparks.net
SUMMARY:Preschool: Monarchs
DESCRIPTION:Learn about Monarch butterflies through story\, activities\, and craft. Ages 3-5.
URL:https://www.metroparks.net/event/preschool-monarchs/2024-08-16/2/
LOCATION:Battelle Darby Creek\, 1775 Darby Creek Drive\, Galloway\, OH\, 43119\, United States
ATTACH;FMTTYPE=image/jpeg:https://www.metroparks.net/wp-content/uploads/2015/01/monarch-butterfly-on-goldenrod_PRO_MF.jpg
END:VEVENT
BEGIN:VEVENT
DTSTART;TZID=America/New_York:20240816T093000
DTEND;TZID=America/New_York:20240816T103000
DTSTAMP:20260424T124545
CREATED:20240729T144506Z
LAST-MODIFIED:20240729T144506Z
UID:10001634-1723800600-1723804200@www.metroparks.net
SUMMARY:Preschool: Monarchs
DESCRIPTION:Learn about Monarch butterflies through story\, activities\, and craft. Ages 3-5.
URL:https://www.metroparks.net/event/preschool-monarchs/2024-08-16/1/
LOCATION:Battelle Darby Creek\, 1775 Darby Creek Drive\, Galloway\, OH\, 43119\, United States
ATTACH;FMTTYPE=image/jpeg:https://www.metroparks.net/wp-content/uploads/2015/01/monarch-butterfly-on-goldenrod_PRO_MF.jpg
END:VEVENT
BEGIN:VEVENT
DTSTART;TZID=America/New_York:20240813T143000
DTEND;TZID=America/New_York:20240813T153000
DTSTAMP:20260424T124545
CREATED:20240724T172549Z
LAST-MODIFIED:20240724T172549Z
UID:10001624-1723559400-1723563000@www.metroparks.net
SUMMARY:Junior Naturalist: Outdoor Survival
DESCRIPTION:Learn how to read a map\, use a compass\, and help find a lost visitor in the park with a park ranger. Meet at the Ranger Station\, 1775 Darby Creek Dr.
URL:https://www.metroparks.net/event/junior-naturalist-outdoor-survival/
LOCATION:Battelle Darby Creek\, 1775 Darby Creek Drive\, Galloway\, OH\, 43119\, United States
END:VEVENT
BEGIN:VEVENT
DTSTART;TZID=America/New_York:20240811T130000
DTEND;TZID=America/New_York:20240811T150000
DTSTAMP:20260424T124545
CREATED:20240724T171954Z
LAST-MODIFIED:20240724T171954Z
UID:10001620-1723381200-1723388400@www.metroparks.net
SUMMARY:Summer Sunday Splash
DESCRIPTION:Stop by anytime between 1-3pm for some drop-by creeking. Join the Naturalists as we search for crawdads\, fish\, and aquatic bugs. Closed-toed shoes recommended. Creeking supplies provided. Follow signs from Ranger Station.
URL:https://www.metroparks.net/event/summer-sunday-splash-2/2024-08-11/
LOCATION:Battelle Darby Creek\, 1775 Darby Creek Drive\, Galloway\, OH\, 43119\, United States
END:VEVENT
BEGIN:VEVENT
DTSTART;TZID=America/New_York:20240810T180000
DTEND;TZID=America/New_York:20240810T190000
DTSTAMP:20260424T124545
CREATED:20240724T171906Z
LAST-MODIFIED:20240724T171906Z
UID:10001619-1723312800-1723316400@www.metroparks.net
SUMMARY:For Adults: Book in the Nook
DESCRIPTION:Take an hour out of your busy day & relax out in nature with a good book in our hammock nook! Bring yourself\, a good book\, your bookish friends\, & a hammock if you have one. Limited supply of hammocks available to borrow.
URL:https://www.metroparks.net/event/for-adults-book-in-the-nook/
LOCATION:Battelle Darby Creek\, 1775 Darby Creek Drive\, Galloway\, OH\, 43119\, United States
END:VEVENT
END:VCALENDAR