BEGIN:VCALENDAR
VERSION:2.0
PRODID:-//Metro Parks - Central Ohio Park System - ECPv6.15.16.1//NONSGML v1.0//EN
CALSCALE:GREGORIAN
METHOD:PUBLISH
X-WR-CALNAME:Metro Parks - Central Ohio Park System
X-ORIGINAL-URL:https://www.metroparks.net
X-WR-CALDESC:Events for Metro Parks - Central Ohio Park System
REFRESH-INTERVAL;VALUE=DURATION:PT1H
X-Robots-Tag:noindex
X-PUBLISHED-TTL:PT1H
BEGIN:VTIMEZONE
TZID:America/New_York
BEGIN:DAYLIGHT
TZOFFSETFROM:-0500
TZOFFSETTO:-0400
TZNAME:EDT
DTSTART:20220313T070000
END:DAYLIGHT
BEGIN:STANDARD
TZOFFSETFROM:-0400
TZOFFSETTO:-0500
TZNAME:EST
DTSTART:20221106T060000
END:STANDARD
BEGIN:DAYLIGHT
TZOFFSETFROM:-0500
TZOFFSETTO:-0400
TZNAME:EDT
DTSTART:20230312T070000
END:DAYLIGHT
BEGIN:STANDARD
TZOFFSETFROM:-0400
TZOFFSETTO:-0500
TZNAME:EST
DTSTART:20231105T060000
END:STANDARD
BEGIN:DAYLIGHT
TZOFFSETFROM:-0500
TZOFFSETTO:-0400
TZNAME:EDT
DTSTART:20240310T070000
END:DAYLIGHT
BEGIN:STANDARD
TZOFFSETFROM:-0400
TZOFFSETTO:-0500
TZNAME:EST
DTSTART:20241103T060000
END:STANDARD
END:VTIMEZONE
BEGIN:VEVENT
DTSTART;TZID=America/New_York:20230930T130000
DTEND;TZID=America/New_York:20230930T160000
DTSTAMP:20260425T082309
CREATED:20230912T123752Z
LAST-MODIFIED:20230912T123752Z
UID:10000627-1696078800-1696089600@www.metroparks.net
SUMMARY:Darby Creek Day
DESCRIPTION:Celebrate everything that makes our creek great! Talk to many of our partnered organizations for tables of fun. Enjoy music\, archery\, crafts\, meet live animals and splash in the creek. All activities (except the food trucks) are free! Meet us at the Indian Ridge Picnic Area\, 2705 Darby Creek Dr\, or check out our Facebook page for more information.
URL:https://www.metroparks.net/event/darby-creek-day/
LOCATION:Battelle Darby Creek\, 1775 Darby Creek Drive\, Galloway\, OH\, 43119\, United States
ATTACH;FMTTYPE=image/jpeg:https://www.metroparks.net/wp-content/uploads/2023/09/370511529_692733822896931_588027840195056398_n.jpg
END:VEVENT
BEGIN:VEVENT
DTSTART;TZID=America/New_York:20230920T160000
DTEND;TZID=America/New_York:20230920T170000
DTSTAMP:20260425T082309
CREATED:20230912T121443Z
LAST-MODIFIED:20230912T121443Z
UID:10000614-1695225600-1695229200@www.metroparks.net
SUMMARY:Nature Journals
DESCRIPTION:Join us to make your own nature journals and take a small hike to begin to fill the pages!
URL:https://www.metroparks.net/event/nature-journals/
LOCATION:Battelle Darby Creek\, 1775 Darby Creek Drive\, Galloway\, OH\, 43119\, United States
END:VEVENT
BEGIN:VEVENT
DTSTART;TZID=America/New_York:20230920T080000
DTEND;TZID=America/New_York:20230920T090000
DTSTAMP:20260425T082309
CREATED:20230912T121514Z
LAST-MODIFIED:20230912T121514Z
UID:10000615-1695196800-1695200400@www.metroparks.net
SUMMARY:Adults Only: Archery
DESCRIPTION:Ages 18+. Come take a shot at archery. Learn the basics\, or just get an opportunity to shoot some arrows.
URL:https://www.metroparks.net/event/adults-only-archery/
LOCATION:Battelle Darby Creek\, 1775 Darby Creek Drive\, Galloway\, OH\, 43119\, United States
END:VEVENT
BEGIN:VEVENT
DTSTART;TZID=America/New_York:20230910T100000
DTEND;TZID=America/New_York:20230910T110000
DTSTAMP:20260425T082309
CREATED:20230905T123215Z
LAST-MODIFIED:20230905T123215Z
UID:10000606-1694340000-1694343600@www.metroparks.net
SUMMARY:Forest Bathing
DESCRIPTION:Join a naturalist in some good ol’ nature therapy! Feel free to bring something to sit on that’s easy to carry as we take a short hike and practice some quiet\, stress-relieving techniques surrounded by trees. Meet at the Ranger Station\, best for ages 7+.
URL:https://www.metroparks.net/event/forest-bathing/
LOCATION:Battelle Darby Creek\, 1775 Darby Creek Drive\, Galloway\, OH\, 43119\, United States
END:VEVENT
BEGIN:VEVENT
DTSTART;TZID=America/New_York:20230830T200000
DTEND;TZID=America/New_York:20230830T220000
DTSTAMP:20260425T082309
CREATED:20230818T140306Z
LAST-MODIFIED:20230818T140306Z
UID:10000589-1693425600-1693432800@www.metroparks.net
SUMMARY:Full Moon Hike
DESCRIPTION:Take a brisk 4-mile hike through forests and fields. Meet us at the Ranger Station\, 1775 Darby Creek Drive.
URL:https://www.metroparks.net/event/full-moon-hike-2/
LOCATION:Battelle Darby Creek\, 1775 Darby Creek Drive\, Galloway\, OH\, 43119\, United States
END:VEVENT
BEGIN:VEVENT
DTSTART;TZID=America/New_York:20230825T210000
DTEND;TZID=America/New_York:20230825T220000
DTSTAMP:20260425T082309
CREATED:20230818T135516Z
LAST-MODIFIED:20230818T135516Z
UID:10000583-1692997200-1693000800@www.metroparks.net
SUMMARY:Night Hike
DESCRIPTION:Let’s take a 2-mile interpretive hike through the forests and prairies under the starlight. Meet at the Indian Ridge Picnic Area Bulletin Board.
URL:https://www.metroparks.net/event/night-hike-3/
LOCATION:Battelle Darby Creek\, 1775 Darby Creek Drive\, Galloway\, OH\, 43119\, United States
END:VEVENT
BEGIN:VEVENT
DTSTART;TZID=America/New_York:20230823T210000
DTEND;TZID=America/New_York:20230823T220000
DTSTAMP:20260425T082309
CREATED:20230818T135328Z
LAST-MODIFIED:20230818T135328Z
UID:10000581-1692824400-1692828000@www.metroparks.net
SUMMARY:Bats
DESCRIPTION:It’s bats! This is us putting up the bat signal to come learn about our park’s bats on this 1-mile hike. Meet at the Indian Ridge Bulletin Board.
URL:https://www.metroparks.net/event/bats/
LOCATION:Battelle Darby Creek\, 1775 Darby Creek Drive\, Galloway\, OH\, 43119\, United States
END:VEVENT
BEGIN:VEVENT
DTSTART;TZID=America/New_York:20230810T160000
DTEND;TZID=America/New_York:20230810T190000
DTSTAMP:20260425T082309
CREATED:20230807T155708Z
LAST-MODIFIED:20230807T155708Z
UID:10000563-1691683200-1691694000@www.metroparks.net
SUMMARY:Touch-a-Truck
DESCRIPTION:Explore the BIG equipment\, and learn about the machines that help our park and city run.
URL:https://www.metroparks.net/event/touch-a-truck-2/
LOCATION:Battelle Darby Creek\, 1775 Darby Creek Drive\, Galloway\, OH\, 43119\, United States
END:VEVENT
BEGIN:VEVENT
DTSTART;TZID=America/New_York:20230808T110000
DTEND;TZID=America/New_York:20230808T130000
DTSTAMP:20260425T082309
CREATED:20230731T134926Z
LAST-MODIFIED:20230731T134926Z
UID:10000560-1691492400-1691499600@www.metroparks.net
SUMMARY:Archery Experience
DESCRIPTION:Ages 8+. Come take a shot at archery. Learn the basics\, or just get an opportunity to shoot some arrows.
URL:https://www.metroparks.net/event/archery-experience/
LOCATION:Battelle Darby Creek\, 1775 Darby Creek Drive\, Galloway\, OH\, 43119\, United States
END:VEVENT
BEGIN:VEVENT
DTSTART;TZID=America/New_York:20230801T200000
DTEND;TZID=America/New_York:20230801T220000
DTSTAMP:20260425T082309
CREATED:20230731T134056Z
LAST-MODIFIED:20230731T134056Z
UID:10000550-1690920000-1690927200@www.metroparks.net
SUMMARY:Full Moon Hike
DESCRIPTION:Take a brisk 4-mile hike through forests and fields. Meet us at the Ranger Station\, 1775 Darby Creek Drive.
URL:https://www.metroparks.net/event/full-moon-hike/
LOCATION:Battelle Darby Creek\, 1775 Darby Creek Drive\, Galloway\, OH\, 43119\, United States
ATTACH;FMTTYPE=image/jpeg:https://www.metroparks.net/wp-content/uploads/2019/03/gallery-spring-RKF-full-moon-and-trees_April-Dan-Bissonette.jpg
END:VEVENT
BEGIN:VEVENT
DTSTART;TZID=America/New_York:20230728T090000
DTEND;TZID=America/New_York:20230728T220000
DTSTAMP:20260425T082309
CREATED:20230724T131556Z
LAST-MODIFIED:20230724T131556Z
UID:10000545-1690534800-1690581600@www.metroparks.net
SUMMARY:Night Hike
DESCRIPTION:Let’s take a 2-mile interpretive hike through the forests and prairies under the starlight. Meet at the Indian Ridge Picnic Area Bulletin Board.
URL:https://www.metroparks.net/event/night-hike-2/
LOCATION:Battelle Darby Creek\, 1775 Darby Creek Drive\, Galloway\, OH\, 43119\, United States
END:VEVENT
BEGIN:VEVENT
DTSTART;TZID=America/New_York:20230717T180000
DTEND;TZID=America/New_York:20230717T200000
DTSTAMP:20260425T082309
CREATED:20230626T150456Z
LAST-MODIFIED:20230626T150456Z
UID:10000525-1689616800-1689624000@www.metroparks.net
SUMMARY:Threads of Light - Meet the Artists
DESCRIPTION:Light is Life. An incredible force that connects individual life and the whole of nature. Join the artists of this incredible exhibition\, The Nature Conservancy\, and Metro Parks for an evening of conversation around photography and conservation! \nEngage in presentations\, gaze at the gallery\, network\, and enjoy free wine provided by Friends of Metro Parks!\n6- 7 PM Speakers & Artists\n7-8 PM Mix & Mingle
URL:https://www.metroparks.net/event/threads-of-light-meet-the-artists/
LOCATION:Battelle Darby Creek\, 1775 Darby Creek Drive\, Galloway\, OH\, 43119\, United States
ATTACH;FMTTYPE=image/jpeg:https://www.metroparks.net/wp-content/uploads/2023/06/355129705_652465196923794_4812217254756449684_n.jpg
END:VEVENT
BEGIN:VEVENT
DTSTART;TZID=America/New_York:20230623T210000
DTEND;TZID=America/New_York:20230623T220000
DTSTAMP:20260425T082309
CREATED:20230622T123705Z
LAST-MODIFIED:20230622T123705Z
UID:10000477-1687554000-1687557600@www.metroparks.net
SUMMARY:Night Hike
DESCRIPTION:Let’s take a 2-mile interpretive hike through the forest and prairies under the starlight.
URL:https://www.metroparks.net/event/night-hike/
LOCATION:Battelle Darby Creek\, 1775 Darby Creek Drive\, Galloway\, OH\, 43119\, United States
END:VEVENT
BEGIN:VEVENT
DTSTART;TZID=America/New_York:20230617T120000
DTEND;TZID=America/New_York:20230617T140000
DTSTAMP:20260425T082309
CREATED:20230612T162515Z
LAST-MODIFIED:20230612T162515Z
UID:10000472-1687003200-1687010400@www.metroparks.net
SUMMARY:Bison Baby Shower
DESCRIPTION:Drop by the Summer Bison Pasture anytime between 12-2pm to enjoy some baby shower games and help us celebrate the impending summer arrivals! Follow the signs from the Nature Center parking lot to the Bison Pasture.
URL:https://www.metroparks.net/event/bison-baby-shower/
LOCATION:Battelle Darby Creek\, 1775 Darby Creek Drive\, Galloway\, OH\, 43119\, United States
ATTACH;FMTTYPE=image/jpeg:https://www.metroparks.net/wp-content/uploads/2018/08/990px-BDC-bison-in-fall-and-winter-paddock-2_M-Fetherolf-1.jpg
END:VEVENT
BEGIN:VEVENT
DTSTART;TZID=America/New_York:20230529T120000
DTEND;TZID=America/New_York:20230529T160000
DTSTAMP:20260425T082309
CREATED:20230523T130848Z
LAST-MODIFIED:20230523T130848Z
UID:10000450-1685361600-1685376000@www.metroparks.net
SUMMARY:Open House Creeking
DESCRIPTION:Explore the Big Darby Creek with the naturalists! Follow the signs from the ranger station at Cedar Ridge down to the creek and join us anytime between 12am – 4pm to look for some of the critters that call Darby Creek home. Visitors are welcome to get in the creek\, or just observe some of the animals we have caught from the shore. Limited supply of nets and buckets provided. Dress to get wet!
URL:https://www.metroparks.net/event/open-house-creeking/
LOCATION:Battelle Darby Creek\, 1775 Darby Creek Drive\, Galloway\, OH\, 43119\, United States
END:VEVENT
BEGIN:VEVENT
DTSTART;TZID=America/New_York:20230519T180000
DTEND;TZID=America/New_York:20230519T190000
DTSTAMP:20260425T082309
CREATED:20230515T164237Z
LAST-MODIFIED:20230517T185537Z
UID:10000432-1684519200-1684522800@www.metroparks.net
SUMMARY:Campfire Corral
DESCRIPTION:Join us for an evening around the campfire filled with sticky\, fun campfire desserts and good conversation between staff and visitors alike! Meet at the Ranger Station 1775 Darby Creek Drive\, Galloway\, Ohio 43119.
URL:https://www.metroparks.net/event/campfire-corral/
LOCATION:Battelle Darby Creek\, 1775 Darby Creek Drive\, Galloway\, OH\, 43119\, United States
ATTACH;FMTTYPE=image/jpeg:https://www.metroparks.net/wp-content/uploads/2017/06/QT-bonfire-party-1080p.jpg
END:VEVENT
BEGIN:VEVENT
DTSTART;TZID=America/New_York:20230513T080000
DTEND;TZID=America/New_York:20230513T100000
DTSTAMP:20260425T082309
CREATED:20230508T184212Z
LAST-MODIFIED:20230508T184212Z
UID:10000427-1683964800-1683972000@www.metroparks.net
SUMMARY:Big Day Bird Hike
DESCRIPTION:Take a 2-mile hike to look for warblers\, orioles\, tanagers\, and other colorful birds. Learn how to use eBird to keep a list of what birds you see and hear. No experience required. Limited supply of binoculars available to borrow. Trail is unimproved with moderate hills. Ages 18+ \nMeet at Indian Ridge Area.
URL:https://www.metroparks.net/event/big-day-bird-hike/
LOCATION:Battelle Darby Creek\, 1775 Darby Creek Drive\, Galloway\, OH\, 43119\, United States
END:VEVENT
END:VCALENDAR