BEGIN:VCALENDAR
VERSION:2.0
PRODID:-//Metro Parks - Central Ohio Park System - ECPv6.15.16.1//NONSGML v1.0//EN
CALSCALE:GREGORIAN
METHOD:PUBLISH
X-ORIGINAL-URL:https://www.metroparks.net
X-WR-CALDESC:Events for Metro Parks - Central Ohio Park System
REFRESH-INTERVAL;VALUE=DURATION:PT1H
X-Robots-Tag:noindex
X-PUBLISHED-TTL:PT1H
BEGIN:VTIMEZONE
TZID:America/New_York
BEGIN:DAYLIGHT
TZOFFSETFROM:-0500
TZOFFSETTO:-0400
TZNAME:EDT
DTSTART:20220313T070000
END:DAYLIGHT
BEGIN:STANDARD
TZOFFSETFROM:-0400
TZOFFSETTO:-0500
TZNAME:EST
DTSTART:20221106T060000
END:STANDARD
BEGIN:DAYLIGHT
TZOFFSETFROM:-0500
TZOFFSETTO:-0400
TZNAME:EDT
DTSTART:20230312T070000
END:DAYLIGHT
BEGIN:STANDARD
TZOFFSETFROM:-0400
TZOFFSETTO:-0500
TZNAME:EST
DTSTART:20231105T060000
END:STANDARD
BEGIN:DAYLIGHT
TZOFFSETFROM:-0500
TZOFFSETTO:-0400
TZNAME:EDT
DTSTART:20240310T070000
END:DAYLIGHT
BEGIN:STANDARD
TZOFFSETFROM:-0400
TZOFFSETTO:-0500
TZNAME:EST
DTSTART:20241103T060000
END:STANDARD
BEGIN:DAYLIGHT
TZOFFSETFROM:-0500
TZOFFSETTO:-0400
TZNAME:EDT
DTSTART:20250309T070000
END:DAYLIGHT
BEGIN:STANDARD
TZOFFSETFROM:-0400
TZOFFSETTO:-0500
TZNAME:EST
DTSTART:20251102T060000
END:STANDARD
BEGIN:DAYLIGHT
TZOFFSETFROM:-0500
TZOFFSETTO:-0400
TZNAME:EDT
DTSTART:20260308T070000
END:DAYLIGHT
BEGIN:STANDARD
TZOFFSETFROM:-0400
TZOFFSETTO:-0500
TZNAME:EST
DTSTART:20261101T060000
END:STANDARD
END:VTIMEZONE
BEGIN:VEVENT
DTSTART;TZID=America/New_York:20250107T173000
DTEND;TZID=America/New_York:20250107T190000
DTSTAMP:20260419T140706
CREATED:20241231T140200Z
LAST-MODIFIED:20241231T140200Z
UID:10002224-1736271000-1736276400@www.metroparks.net
SUMMARY:Try It! Archery
DESCRIPTION:Enjoy the thrill and fun of archery this winter while being toasty warm inside at the Blacklick Woods Golf Course!! Archery will be indoors at the Golf Course Pro Shop! All equipment provided\, fun and free! Ages 8+.
URL:https://www.metroparks.net/event/try-it-archery-16/2025-01-07/
LOCATION:Blacklick Woods Golf Course\, 7309 E Livingston Ave\, Reynoldsburg\, OH\, 43068\, United States
ATTACH;FMTTYPE=image/jpeg:https://www.metroparks.net/wp-content/uploads/2023/05/Golf-course-archery-and-wine-and-nine_Erin-Whitman-e1732631461941.jpg
END:VEVENT
BEGIN:VEVENT
DTSTART;TZID=America/New_York:20250105T140000
DTEND;TZID=America/New_York:20250105T153000
DTSTAMP:20260419T140706
CREATED:20241231T140200Z
LAST-MODIFIED:20241231T140200Z
UID:10002223-1736085600-1736091000@www.metroparks.net
SUMMARY:Try It! Archery
DESCRIPTION:Enjoy the thrill and fun of archery this winter while being toasty warm inside at the Blacklick Woods Golf Course!! Archery will be indoors at the Golf Course Pro Shop! All equipment provided\, fun and free! Ages 8+.
URL:https://www.metroparks.net/event/try-it-archery-16/2025-01-05/
LOCATION:Blacklick Woods Golf Course\, 7309 E Livingston Ave\, Reynoldsburg\, OH\, 43068\, United States
ATTACH;FMTTYPE=image/jpeg:https://www.metroparks.net/wp-content/uploads/2023/05/Golf-course-archery-and-wine-and-nine_Erin-Whitman-e1732631461941.jpg
END:VEVENT
BEGIN:VEVENT
DTSTART;TZID=America/New_York:20241231T173000
DTEND;TZID=America/New_York:20241231T190000
DTSTAMP:20260419T140706
CREATED:20241126T143239Z
LAST-MODIFIED:20241126T143239Z
UID:10002123-1735666200-1735671600@www.metroparks.net
SUMMARY:Try It! Archery
DESCRIPTION:Enjoy the thrill and fun of archery this winter while being toasty warm inside at the Blacklick Woods Golf Course!! Archery will be indoors at the Golf Course Pro Shop! All equipment provided\, fun and free! Ages 8+. \nMetro Parks Outdoor Adventure is hosting a Toys for Tots toy drive!\nDonate a new toy at any Outdoor Adventure program between December 1st and December 17th and you’ll be entered into a raffle. The winner will be awarded a private Outdoor Adventure program of their choice for themselves and up to 9 guests! Program options include: Archery\, Rock Climbing\, Kayaking or Stand-up paddle boarding (seasonal). Date will be selected upon visitor and staff availability. \nDonation Guidelines\nConsider gifting to under served age groups such as infants and teens.\nSchool supplies are accepted as well!\nNO food or edible donations. NO realistic looking toy weapons. Such items will not be distributed.
URL:https://www.metroparks.net/event/try-it-archery-15/2024-12-31/
LOCATION:Blacklick Woods Golf Course\, 7309 E Livingston Ave\, Reynoldsburg\, OH\, 43068\, United States
ATTACH;FMTTYPE=image/jpeg:https://www.metroparks.net/wp-content/uploads/2023/05/Golf-course-archery-and-wine-and-nine_Erin-Whitman-e1732631461941.jpg
END:VEVENT
BEGIN:VEVENT
DTSTART;TZID=America/New_York:20241217T173000
DTEND;TZID=America/New_York:20241217T190000
DTSTAMP:20260419T140706
CREATED:20241126T143239Z
LAST-MODIFIED:20241126T143239Z
UID:10002122-1734456600-1734462000@www.metroparks.net
SUMMARY:Try It! Archery
DESCRIPTION:Enjoy the thrill and fun of archery this winter while being toasty warm inside at the Blacklick Woods Golf Course!! Archery will be indoors at the Golf Course Pro Shop! All equipment provided\, fun and free! Ages 8+. \nMetro Parks Outdoor Adventure is hosting a Toys for Tots toy drive!\nDonate a new toy at any Outdoor Adventure program between December 1st and December 17th and you’ll be entered into a raffle. The winner will be awarded a private Outdoor Adventure program of their choice for themselves and up to 9 guests! Program options include: Archery\, Rock Climbing\, Kayaking or Stand-up paddle boarding (seasonal). Date will be selected upon visitor and staff availability. \nDonation Guidelines\nConsider gifting to under served age groups such as infants and teens.\nSchool supplies are accepted as well!\nNO food or edible donations. NO realistic looking toy weapons. Such items will not be distributed.
URL:https://www.metroparks.net/event/try-it-archery-15/2024-12-17/
LOCATION:Blacklick Woods Golf Course\, 7309 E Livingston Ave\, Reynoldsburg\, OH\, 43068\, United States
ATTACH;FMTTYPE=image/jpeg:https://www.metroparks.net/wp-content/uploads/2023/05/Golf-course-archery-and-wine-and-nine_Erin-Whitman-e1732631461941.jpg
END:VEVENT
BEGIN:VEVENT
DTSTART;TZID=America/New_York:20241210T173000
DTEND;TZID=America/New_York:20241210T190000
DTSTAMP:20260419T140706
CREATED:20241126T143239Z
LAST-MODIFIED:20241126T143239Z
UID:10002121-1733851800-1733857200@www.metroparks.net
SUMMARY:Try It! Archery
DESCRIPTION:Enjoy the thrill and fun of archery this winter while being toasty warm inside at the Blacklick Woods Golf Course!! Archery will be indoors at the Golf Course Pro Shop! All equipment provided\, fun and free! Ages 8+. \nMetro Parks Outdoor Adventure is hosting a Toys for Tots toy drive!\nDonate a new toy at any Outdoor Adventure program between December 1st and December 17th and you’ll be entered into a raffle. The winner will be awarded a private Outdoor Adventure program of their choice for themselves and up to 9 guests! Program options include: Archery\, Rock Climbing\, Kayaking or Stand-up paddle boarding (seasonal). Date will be selected upon visitor and staff availability. \nDonation Guidelines\nConsider gifting to under served age groups such as infants and teens.\nSchool supplies are accepted as well!\nNO food or edible donations. NO realistic looking toy weapons. Such items will not be distributed.
URL:https://www.metroparks.net/event/try-it-archery-15/2024-12-10/
LOCATION:Blacklick Woods Golf Course\, 7309 E Livingston Ave\, Reynoldsburg\, OH\, 43068\, United States
ATTACH;FMTTYPE=image/jpeg:https://www.metroparks.net/wp-content/uploads/2023/05/Golf-course-archery-and-wine-and-nine_Erin-Whitman-e1732631461941.jpg
END:VEVENT
BEGIN:VEVENT
DTSTART;TZID=America/New_York:20241203T173000
DTEND;TZID=America/New_York:20241203T190000
DTSTAMP:20260419T140706
CREATED:20241126T143239Z
LAST-MODIFIED:20241126T143239Z
UID:10002120-1733247000-1733252400@www.metroparks.net
SUMMARY:Try It! Archery
DESCRIPTION:Enjoy the thrill and fun of archery this winter while being toasty warm inside at the Blacklick Woods Golf Course!! Archery will be indoors at the Golf Course Pro Shop! All equipment provided\, fun and free! Ages 8+. \nMetro Parks Outdoor Adventure is hosting a Toys for Tots toy drive!\nDonate a new toy at any Outdoor Adventure program between December 1st and December 17th and you’ll be entered into a raffle. The winner will be awarded a private Outdoor Adventure program of their choice for themselves and up to 9 guests! Program options include: Archery\, Rock Climbing\, Kayaking or Stand-up paddle boarding (seasonal). Date will be selected upon visitor and staff availability. \nDonation Guidelines\nConsider gifting to under served age groups such as infants and teens.\nSchool supplies are accepted as well!\nNO food or edible donations. NO realistic looking toy weapons. Such items will not be distributed.
URL:https://www.metroparks.net/event/try-it-archery-15/2024-12-03/
LOCATION:Blacklick Woods Golf Course\, 7309 E Livingston Ave\, Reynoldsburg\, OH\, 43068\, United States
ATTACH;FMTTYPE=image/jpeg:https://www.metroparks.net/wp-content/uploads/2023/05/Golf-course-archery-and-wine-and-nine_Erin-Whitman-e1732631461941.jpg
END:VEVENT
BEGIN:VEVENT
DTSTART;TZID=America/New_York:20241015T183000
DTEND;TZID=America/New_York:20241015T190000
DTSTAMP:20260419T140706
CREATED:20240924T143812Z
LAST-MODIFIED:20240924T143812Z
UID:10001871-1729017000-1729018800@www.metroparks.net
SUMMARY:Wine & Canvas
DESCRIPTION:Join us for an evening of painting. Follow along with step-by-step instructions and paint an autumn owl scene. Materials and instruction provided. Beer and wine available for purchase\, card payment only.
URL:https://www.metroparks.net/event/wine-canvas-3/
LOCATION:Blacklick Woods Golf Course\, 7309 E Livingston Ave\, Reynoldsburg\, OH\, 43068\, United States
END:VEVENT
BEGIN:VEVENT
DTSTART;TZID=America/New_York:20241004T190000
DTEND;TZID=America/New_York:20241004T220000
DTSTAMP:20260419T140706
CREATED:20240712T123449Z
LAST-MODIFIED:20240712T123449Z
UID:10001579-1728068400-1728079200@www.metroparks.net
SUMMARY:Outdoor Movie Night - Ghostbusters: Frozen Empire
DESCRIPTION:Join Metro Parks at Scioto Audubon Metro Park for a FREE screening of The Big Year. Movies start at dark. Bring a chair or blanket and join us on the 9th green! \nFree Popcorn and Smores\nThe Pro Shop will also be open for other Snack & Drinks PurchasesWe are a Cashless Facility\, Card Payments only.\n\nMovie Synopsis:\n“The Spengler family returns to the iconic New York City firehouse where the original Ghostbusters have taken ghost-busting to the next level. When the discovery of an ancient artifact unleashes an evil force\, Ghostbusters new and old must unite to protect their home and save the world from a second ice age.”\n\nMovie rated PG-13
URL:https://www.metroparks.net/event/outdoor-movie-night-ghostbusters-frozen-empire/
LOCATION:Blacklick Woods Golf Course\, 7309 E Livingston Ave\, Reynoldsburg\, OH\, 43068\, United States
ATTACH;FMTTYPE=image/png:https://www.metroparks.net/wp-content/uploads/2024/07/Outdoor-Movie-Nights-2024-v2-1.png
END:VEVENT
BEGIN:VEVENT
DTSTART;TZID=America/New_York:20240307T170000
DTEND;TZID=America/New_York:20240307T180000
DTSTAMP:20260419T140706
CREATED:20240228T155520Z
LAST-MODIFIED:20240228T155520Z
UID:10001111-1709830800-1709834400@www.metroparks.net
SUMMARY:Glow Archery
DESCRIPTION:What’s better then archery? GLOW ARCHERY! Come out to the Blacklick Golf Course Pro Shop to enjoy some free and fun\, indoor glow-in-the-dark archery! Ages 8+. All equipment provided.
URL:https://www.metroparks.net/event/glow-archery/
LOCATION:Blacklick Woods Golf Course\, 7309 E Livingston Ave\, Reynoldsburg\, OH\, 43068\, United States
END:VEVENT
BEGIN:VEVENT
DTSTART;TZID=America/New_York:20240225T110000
DTEND;TZID=America/New_York:20240225T150000
DTSTAMP:20260419T140706
CREATED:20231102T165020Z
LAST-MODIFIED:20231102T165039Z
UID:10000727-1708858800-1708873200@www.metroparks.net
SUMMARY:Winter Hike Celebration!
DESCRIPTION:Join us at Blacklick Woods Golf Course to celebrate the end of winter hikes! Collect your patches here\, and visit Friends of Metro Parks. There will be games\, food trucks\, and other activities.
URL:https://www.metroparks.net/event/winter-hike-celebration-2/
LOCATION:Blacklick Woods Golf Course\, 7309 E Livingston Ave\, Reynoldsburg\, OH\, 43068\, United States
ATTACH;FMTTYPE=image/jpeg:https://www.metroparks.net/wp-content/uploads/2022/11/BGC_StaffWinterHikeFinale-e1671041215208.jpeg
END:VEVENT
BEGIN:VEVENT
DTSTART;TZID=America/New_York:20240222T130000
DTEND;TZID=America/New_York:20240222T143000
DTSTAMP:20260419T140706
CREATED:20240130T150046Z
LAST-MODIFIED:20240130T150046Z
UID:10001030-1708606800-1708612200@www.metroparks.net
SUMMARY:Archery\, Board Games\, and Campfires at the Golf Course
DESCRIPTION:Enjoy a Try it! Archery program while getting the chance to play some board games in the Pro Shop\, and enjoy a s’more around the campfire at Blacklick Woods Golf Course! Archery is for ages 8+. All other activities are open for all ages!
URL:https://www.metroparks.net/event/archery-board-games-and-campfires-at-the-golf-course/
LOCATION:Blacklick Woods Golf Course\, 7309 E Livingston Ave\, Reynoldsburg\, OH\, 43068\, United States
END:VEVENT
BEGIN:VEVENT
DTSTART;TZID=America/New_York:20240212T173000
DTEND;TZID=America/New_York:20240212T190000
DTSTAMP:20260419T140706
CREATED:20240130T145638Z
LAST-MODIFIED:20240130T145638Z
UID:10001026-1707759000-1707764400@www.metroparks.net
SUMMARY:Galentine's Archery
DESCRIPTION:Celebrate Galentine’s day with your gal pals with a free archery program! Archery will take place inside the Pro Shop at Blacklick Woods Golf Course! All archery equipment provided. Enjoy a sweet treat too! Ages 8+.
URL:https://www.metroparks.net/event/galentines-archery/
LOCATION:Blacklick Woods Golf Course\, 7309 E Livingston Ave\, Reynoldsburg\, OH\, 43068\, United States
END:VEVENT
BEGIN:VEVENT
DTSTART;TZID=America/New_York:20240110T130000
DTEND;TZID=America/New_York:20240110T143000
DTSTAMP:20260419T140706
CREATED:20231228T174743Z
LAST-MODIFIED:20231228T174743Z
UID:10000857-1704891600-1704897000@www.metroparks.net
SUMMARY:Try It! Archery
DESCRIPTION:Enjoy the thrill and fun of archery this winter while being toasty warm inside at the Blacklick Woods Golf Course!! Archery will be indoors at the Golf Course Pro Shop! All equipment provided\, fun and free! Ages 8+.
URL:https://www.metroparks.net/event/try-it-archery-5/
LOCATION:Blacklick Woods Golf Course\, 7309 E Livingston Ave\, Reynoldsburg\, OH\, 43068\, United States
ATTACH;FMTTYPE=image/jpeg:https://www.metroparks.net/wp-content/uploads/2018/11/SGR_Robin-shoots-arrow-on-static-archery-course_June-30-2017_vg.jpg
END:VEVENT
BEGIN:VEVENT
DTSTART;TZID=America/New_York:20230927T183000
DTEND;TZID=America/New_York:20230927T200000
DTSTAMP:20260419T140706
CREATED:20230912T123302Z
LAST-MODIFIED:20230912T123302Z
UID:10000624-1695839400-1695844800@www.metroparks.net
SUMMARY:Wine & Canvas
DESCRIPTION:Join us for an evening of painting. Follow along with step by step instructions to paint a view into the miniature world beneath our feet. All materials will be provided. Wine and beer will be available for purchase with debit or credit card.
URL:https://www.metroparks.net/event/wine-canvas-2/
LOCATION:Blacklick Woods Golf Course\, 7309 E Livingston Ave\, Reynoldsburg\, OH\, 43068\, United States
END:VEVENT
BEGIN:VEVENT
DTSTART;TZID=America/New_York:20230825T190000
DTEND;TZID=America/New_York:20230825T203000
DTSTAMP:20260419T140706
CREATED:20230804T130220Z
LAST-MODIFIED:20230807T155406Z
UID:10000509-1692990000-1692995400@www.metroparks.net
SUMMARY:Movie Night! Happy Gilmore
DESCRIPTION:Bring a chair and join us for a movie night at your favorite Metro Parks! All events are free and start at dusk.
URL:https://www.metroparks.net/event/movie-night-happy-gilmore/
LOCATION:Blacklick Woods Golf Course\, 7309 E Livingston Ave\, Reynoldsburg\, OH\, 43068\, United States
ATTACH;FMTTYPE=image/jpeg:https://www.metroparks.net/wp-content/uploads/2023/08/hg.jpg
END:VEVENT
BEGIN:VEVENT
DTSTART;TZID=America/New_York:20230728T190000
DTEND;TZID=America/New_York:20230728T210000
DTSTAMP:20260419T140706
CREATED:20230707T125542Z
LAST-MODIFIED:20230710T174756Z
UID:10000507-1690570800-1690578000@www.metroparks.net
SUMMARY:Movie Night! Lightyear
DESCRIPTION:Bring a chair and join us for a movie night at your favorite Metro Parks! All events are free and start at dusk.
URL:https://www.metroparks.net/event/movie-night-lightyear/
LOCATION:Blacklick Woods Golf Course\, 7309 E Livingston Ave\, Reynoldsburg\, OH\, 43068\, United States
ATTACH;FMTTYPE=image/jpeg:https://www.metroparks.net/wp-content/uploads/2023/06/lightyear.jpg
END:VEVENT
BEGIN:VEVENT
DTSTART;TZID=America/New_York:20230719T183000
DTEND;TZID=America/New_York:20230719T200000
DTSTAMP:20260419T140706
CREATED:20230706T150627Z
LAST-MODIFIED:20230710T174750Z
UID:10000527-1689791400-1689796800@www.metroparks.net
SUMMARY:Wine & Canvas
DESCRIPTION:Join us for an evening of painting. Follow along step-by-step as we paint a raccoon. Materials and instruction provided. Wine and beer available for purchase by credit card.
URL:https://www.metroparks.net/event/wine-canvas/
LOCATION:Blacklick Woods Golf Course\, 7309 E Livingston Ave\, Reynoldsburg\, OH\, 43068\, United States
END:VEVENT
BEGIN:VEVENT
DTSTART;TZID=America/New_York:20230526T190000
DTEND;TZID=America/New_York:20230526T210000
DTSTAMP:20260419T140706
CREATED:20230523T125632Z
LAST-MODIFIED:20230523T125632Z
UID:10000444-1685127600-1685134800@www.metroparks.net
SUMMARY:Sunset Stroll on the Golf Course
DESCRIPTION:Enjoy special access to walk the paths on the Golf Course. Select Evenings Only. Please check in & Check out with a staff member in the Pro Shop.
URL:https://www.metroparks.net/event/sunset-stroll-on-the-golf-course-2/
LOCATION:Blacklick Woods Golf Course\, 7309 E Livingston Ave\, Reynoldsburg\, OH\, 43068\, United States
END:VEVENT
BEGIN:VEVENT
DTSTART;TZID=America/New_York:20230421T190000
DTEND;TZID=America/New_York:20230421T210000
DTSTAMP:20260419T140706
CREATED:20230414T184425Z
LAST-MODIFIED:20230414T184547Z
UID:10000409-1682103600-1682110800@www.metroparks.net
SUMMARY:Sunset Stroll on the Golf Course
DESCRIPTION:Enjoy special access to walk the paths on the Golf Course. Select Evenings Only. Please check in & Check out with a staff member in the Pro Shop.
URL:https://www.metroparks.net/event/sunset-stroll-on-the-golf-course/
LOCATION:Blacklick Woods Golf Course\, 7309 E Livingston Ave\, Reynoldsburg\, OH\, 43068\, United States
ATTACH;FMTTYPE=image/jpeg:https://www.metroparks.net/wp-content/uploads/2014/10/feature-BLGC.jpg
END:VEVENT
BEGIN:VEVENT
DTSTART;TZID=America/New_York:20230226T110000
DTEND;TZID=America/New_York:20230226T150000
DTSTAMP:20260419T140706
CREATED:20221121T220914Z
LAST-MODIFIED:20221214T180703Z
UID:10000010-1677409200-1677423600@www.metroparks.net
SUMMARY:WINTER HIKE CELEBRATION!
DESCRIPTION:Sunday\, February 26\, 2023 11am-3pm at Blacklick Golf Course\nHike along the paths of our Audubon Sanctuary Golf Course\, collect your Winter Hike patch or Friends of Metro Parks hiking stick and medallion\, enjoy hot chocolate\, warm up by the fire and search for wooden ornaments along the trail.
URL:https://www.metroparks.net/event/winter-hike-celebration/
LOCATION:Blacklick Woods Golf Course\, 7309 E Livingston Ave\, Reynoldsburg\, OH\, 43068\, United States
ATTACH;FMTTYPE=image/jpeg:https://www.metroparks.net/wp-content/uploads/2022/11/BGC_StaffWinterHikeFinale-e1671041215208.jpeg
END:VEVENT
BEGIN:VEVENT
DTSTART;TZID=America/New_York:20230218T193000
DTEND;TZID=America/New_York:20230218T210000
DTSTAMP:20260419T140706
CREATED:20230206T135129Z
LAST-MODIFIED:20230206T135129Z
UID:10000387-1676748600-1676754000@www.metroparks.net
SUMMARY:Winter Astronomy
DESCRIPTION:Join the Columbus Astronomy Society as we search the sky for constellations\, planets and more at Blacklick Woods Golf Course.
URL:https://www.metroparks.net/event/winter-astronomy/
LOCATION:Blacklick Woods Golf Course\, 7309 E Livingston Ave\, Reynoldsburg\, OH\, 43068\, United States
END:VEVENT
END:VCALENDAR