BEGIN:VCALENDAR
VERSION:2.0
PRODID:-//Metro Parks - Central Ohio Park System - ECPv6.15.16.1//NONSGML v1.0//EN
CALSCALE:GREGORIAN
METHOD:PUBLISH
X-WR-CALNAME:Metro Parks - Central Ohio Park System
X-ORIGINAL-URL:https://www.metroparks.net
X-WR-CALDESC:Events for Metro Parks - Central Ohio Park System
REFRESH-INTERVAL;VALUE=DURATION:PT1H
X-Robots-Tag:noindex
X-PUBLISHED-TTL:PT1H
BEGIN:VTIMEZONE
TZID:America/New_York
BEGIN:DAYLIGHT
TZOFFSETFROM:-0500
TZOFFSETTO:-0400
TZNAME:EDT
DTSTART:20220313T070000
END:DAYLIGHT
BEGIN:STANDARD
TZOFFSETFROM:-0400
TZOFFSETTO:-0500
TZNAME:EST
DTSTART:20221106T060000
END:STANDARD
BEGIN:DAYLIGHT
TZOFFSETFROM:-0500
TZOFFSETTO:-0400
TZNAME:EDT
DTSTART:20230312T070000
END:DAYLIGHT
BEGIN:STANDARD
TZOFFSETFROM:-0400
TZOFFSETTO:-0500
TZNAME:EST
DTSTART:20231105T060000
END:STANDARD
BEGIN:DAYLIGHT
TZOFFSETFROM:-0500
TZOFFSETTO:-0400
TZNAME:EDT
DTSTART:20240310T070000
END:DAYLIGHT
BEGIN:STANDARD
TZOFFSETFROM:-0400
TZOFFSETTO:-0500
TZNAME:EST
DTSTART:20241103T060000
END:STANDARD
END:VTIMEZONE
BEGIN:VEVENT
DTSTART;TZID=America/New_York:20231215T170000
DTEND;TZID=America/New_York:20231215T190000
DTSTAMP:20260419T100843
CREATED:20231127T185636Z
LAST-MODIFIED:20231127T185636Z
UID:10000774-1702659600-1702666800@www.metroparks.net
SUMMARY:Winter Hike - Campfire & Hot Cocoa
DESCRIPTION:Take a half-mile hike along the Buttonbush Trail under the twinkling lights and stop by the Nature Center to enjoy a campfire and hot cocoa.
URL:https://www.metroparks.net/event/winter-hike-campfire-hot-cocoa/2023-12-15/
LOCATION:Blacklick Woods\, 6975 East Livingston Ave\, Reynoldsburg\, OH\, 43068\, United States
END:VEVENT
BEGIN:VEVENT
DTSTART;TZID=America/New_York:20231212T183000
DTEND;TZID=America/New_York:20231212T193000
DTSTAMP:20260419T100843
CREATED:20231120T144711Z
LAST-MODIFIED:20231120T144711Z
UID:10000771-1702405800-1702409400@www.metroparks.net
SUMMARY:For Adults 50+: Cookie Decorating
DESCRIPTION:Join naturalist and baker extraordinaire\, Shannon\, as we sprinkle on the holiday magic with a cookie decorating class that will get you icing like a pro in no time. You’ll learn the basics of designing festive treats such as a snowman\, pine tree and gingerbread man. It’s the perfect way to get your sweet tooth in the spirit of the season. Pre-baked sugar cookies and icing will be ready and waiting for you. Participants will have fun\, get to share their decorated sugar cookie creations at the end\, and of course\, taste testing is part of the deal! \nMeet at the Beech Maple Lodge
URL:https://www.metroparks.net/event/for-adults-50-cookie-decorating/
LOCATION:Blacklick Woods\, 6975 East Livingston Ave\, Reynoldsburg\, OH\, 43068\, United States
END:VEVENT
BEGIN:VEVENT
DTSTART;TZID=America/New_York:20231208T170000
DTEND;TZID=America/New_York:20231208T190000
DTSTAMP:20260419T100843
CREATED:20231127T185636Z
LAST-MODIFIED:20231127T185636Z
UID:10000773-1702054800-1702062000@www.metroparks.net
SUMMARY:Winter Hike - Campfire & Hot Cocoa
DESCRIPTION:Take a half-mile hike along the Buttonbush Trail under the twinkling lights and stop by the Nature Center to enjoy a campfire and hot cocoa.
URL:https://www.metroparks.net/event/winter-hike-campfire-hot-cocoa/2023-12-08/
LOCATION:Blacklick Woods\, 6975 East Livingston Ave\, Reynoldsburg\, OH\, 43068\, United States
END:VEVENT
BEGIN:VEVENT
DTSTART;TZID=America/New_York:20231203T153000
DTEND;TZID=America/New_York:20231203T170000
DTSTAMP:20260419T100843
CREATED:20231120T141826Z
LAST-MODIFIED:20231120T141826Z
UID:10000753-1701617400-1701622800@www.metroparks.net
SUMMARY:For Adults 50+: The Swamp in Winter
DESCRIPTION:Take an easy 2-mile stroll in the swamp forest. Stay after the program to enjoy the winter lights. \nMeet at the Nature Center
URL:https://www.metroparks.net/event/for-adults-50-the-swamp-in-winter/
LOCATION:Blacklick Woods\, 6975 East Livingston Ave\, Reynoldsburg\, OH\, 43068\, United States
END:VEVENT
BEGIN:VEVENT
DTSTART;TZID=America/New_York:20231201T170000
DTEND;TZID=America/New_York:20231201T190000
DTSTAMP:20260419T100843
CREATED:20231127T185636Z
LAST-MODIFIED:20231127T185636Z
UID:10000772-1701450000-1701457200@www.metroparks.net
SUMMARY:Winter Hike - Campfire & Hot Cocoa
DESCRIPTION:Take a half-mile hike along the Buttonbush Trail under the twinkling lights and stop by the Nature Center to enjoy a campfire and hot cocoa.
URL:https://www.metroparks.net/event/winter-hike-campfire-hot-cocoa/2023-12-01/
LOCATION:Blacklick Woods\, 6975 East Livingston Ave\, Reynoldsburg\, OH\, 43068\, United States
END:VEVENT
BEGIN:VEVENT
DTSTART;TZID=America/New_York:20231125T140000
DTEND;TZID=America/New_York:20231125T150000
DTSTAMP:20260419T100843
CREATED:20231023T172802Z
LAST-MODIFIED:20231023T172802Z
UID:10000697-1700920800-1700924400@www.metroparks.net
SUMMARY:Fall Fungi
DESCRIPTION:Take a 1.5-mile hike through the forest to look for and learn about mushrooms.
URL:https://www.metroparks.net/event/fall-fungi/
LOCATION:Blacklick Woods\, 6975 East Livingston Ave\, Reynoldsburg\, OH\, 43068\, United States
ATTACH;FMTTYPE=image/jpeg:https://www.metroparks.net/wp-content/uploads/2018/03/1080p_Molitierno-Arthur_BLK_Fungi_100.jpg
END:VEVENT
BEGIN:VEVENT
DTSTART;TZID=America/New_York:20231124T100000
DTEND;TZID=America/New_York:20231124T120000
DTSTAMP:20260419T100843
CREATED:20231023T172525Z
LAST-MODIFIED:20231023T172525Z
UID:10000694-1700820000-1700827200@www.metroparks.net
SUMMARY:Gobble Hobble
DESCRIPTION:Join a naturalist on a 6-mile hike of all the trails at Blacklick Woods to burn off that Thanksgiving meal. Meet at the Trading Post in the Ash Grove Picnic Area.
URL:https://www.metroparks.net/event/gobble-hobble/
LOCATION:Blacklick Woods\, 6975 East Livingston Ave\, Reynoldsburg\, OH\, 43068\, United States
ATTACH;FMTTYPE=image/jpeg:https://www.metroparks.net/wp-content/uploads/2021/01/turkey.jpg
END:VEVENT
BEGIN:VEVENT
DTSTART;TZID=America/New_York:20231118T130000
DTEND;TZID=America/New_York:20231118T150000
DTSTAMP:20260419T100843
CREATED:20231023T172245Z
LAST-MODIFIED:20231023T172245Z
UID:10000691-1700312400-1700319600@www.metroparks.net
SUMMARY:Blacklick Hunger Games
DESCRIPTION:Let the Blacklick Hunger Games begin. Test your archery skills like Katniss\, blend into your surroundings like Peeta\, and compete in a Hunger Games themed scavenger hunt. May the odds be ever in your favor.
URL:https://www.metroparks.net/event/blacklick-hunger-games/
LOCATION:Blacklick Woods\, 6975 East Livingston Ave\, Reynoldsburg\, OH\, 43068\, United States
ATTACH;FMTTYPE=image/jpeg:https://www.metroparks.net/wp-content/uploads/2019/03/archery-program_boy-and-volunteer_BLN_Oct_Gil-Sears.jpg
END:VEVENT
BEGIN:VEVENT
DTSTART;TZID=America/New_York:20231110T170000
DTEND;TZID=America/New_York:20231110T180000
DTSTAMP:20260419T100843
CREATED:20231023T171720Z
LAST-MODIFIED:20231023T171720Z
UID:10000685-1699635600-1699639200@www.metroparks.net
SUMMARY:Dutch Oven Cooking
DESCRIPTION:Enjoy a campfire with some yummy foods prepared with dutch ovens.
URL:https://www.metroparks.net/event/dutch-oven-cooking/
LOCATION:Blacklick Woods\, 6975 East Livingston Ave\, Reynoldsburg\, OH\, 43068\, United States
END:VEVENT
BEGIN:VEVENT
DTSTART;TZID=America/New_York:20231104T130000
DTEND;TZID=America/New_York:20231104T150000
DTSTAMP:20260419T100843
CREATED:20231023T171321Z
LAST-MODIFIED:20231023T171321Z
UID:10000681-1699102800-1699110000@www.metroparks.net
SUMMARY:Fall Fun Day
DESCRIPTION:Gather for a day of fun before it gets too cold! Join us for s’mores\, crafts\, and a campfire.
URL:https://www.metroparks.net/event/fall-fun-day/
LOCATION:Blacklick Woods\, 6975 East Livingston Ave\, Reynoldsburg\, OH\, 43068\, United States
ATTACH;FMTTYPE=image/jpeg:https://www.metroparks.net/wp-content/uploads/2023/10/SLR_50FallFestCampfire_LizChristian-scaled.jpg
END:VEVENT
BEGIN:VEVENT
DTSTART;TZID=America/New_York:20231028T170000
DTEND;TZID=America/New_York:20231028T180000
DTSTAMP:20260419T100843
CREATED:20230925T180846Z
LAST-MODIFIED:20230925T180846Z
UID:10000656-1698512400-1698516000@www.metroparks.net
SUMMARY:Fall Fire Fun
DESCRIPTION:Learn how to build a campfire\, some fire safety tips and cook a classic campfire meal.
URL:https://www.metroparks.net/event/fall-fire-fun/
LOCATION:Blacklick Woods\, 6975 East Livingston Ave\, Reynoldsburg\, OH\, 43068\, United States
ATTACH;FMTTYPE=image/jpeg:https://www.metroparks.net/wp-content/uploads/2019/03/gallery-spring-QTR-bonfire-party-1080p.jpg
END:VEVENT
BEGIN:VEVENT
DTSTART;TZID=America/New_York:20231026T170000
DTEND;TZID=America/New_York:20231026T190000
DTSTAMP:20260419T100843
CREATED:20230925T180622Z
LAST-MODIFIED:20230925T180630Z
UID:10000654-1698339600-1698346800@www.metroparks.net
SUMMARY:Trick-or-Treat Trail
DESCRIPTION:Families will take a half-mile walk along the Buttonbush Trail while collecting treats. Trick-or-treaters and their families are encouraged to wear costumes.
URL:https://www.metroparks.net/event/trick-or-treat-trail/
LOCATION:Blacklick Woods\, 6975 East Livingston Ave\, Reynoldsburg\, OH\, 43068\, United States
END:VEVENT
BEGIN:VEVENT
DTSTART;TZID=America/New_York:20231022T150000
DTEND;TZID=America/New_York:20231022T160000
DTSTAMP:20260419T100843
CREATED:20230925T180527Z
LAST-MODIFIED:20230925T180527Z
UID:10000653-1697986800-1697990400@www.metroparks.net
SUMMARY:Fall Colors Hike
DESCRIPTION:Join a naturalist on a 1.25-mile walk through the Walter Tucker Nature Preserve to enjoy the fall foliage.
URL:https://www.metroparks.net/event/fall-colors-hike/
LOCATION:Blacklick Woods\, 6975 East Livingston Ave\, Reynoldsburg\, OH\, 43068\, United States
ATTACH;FMTTYPE=image/jpeg:https://www.metroparks.net/wp-content/uploads/2014/10/feature-BLK1-1.jpg
END:VEVENT
BEGIN:VEVENT
DTSTART;TZID=America/New_York:20231014T100000
DTEND;TZID=America/New_York:20231014T233000
DTSTAMP:20260419T100843
CREATED:20230925T175242Z
LAST-MODIFIED:20230925T175242Z
UID:10000645-1697277600-1697326200@www.metroparks.net
SUMMARY:Hike All Trails
DESCRIPTION:Join a naturalist for a 6-mile hike of all the trails at Blacklick Woods. Meet at the Trading Post in Ash Grove Picnic Area.
URL:https://www.metroparks.net/event/hike-all-trails/
LOCATION:Blacklick Woods\, 6975 East Livingston Ave\, Reynoldsburg\, OH\, 43068\, United States
END:VEVENT
BEGIN:VEVENT
DTSTART;TZID=America/New_York:20231004T150000
DTEND;TZID=America/New_York:20231004T170000
DTSTAMP:20260419T100843
CREATED:20230925T174331Z
LAST-MODIFIED:20230925T174331Z
UID:10000637-1696431600-1696438800@www.metroparks.net
SUMMARY:After School Archery
DESCRIPTION:Take aim at fall themed targets and learn a new skill – archery. Equipment and basic instruction provided.
URL:https://www.metroparks.net/event/after-school-archery/
LOCATION:Blacklick Woods\, 6975 East Livingston Ave\, Reynoldsburg\, OH\, 43068\, United States
END:VEVENT
BEGIN:VEVENT
DTSTART;TZID=America/New_York:20230921T180000
DTEND;TZID=America/New_York:20230921T190000
DTSTAMP:20260419T100843
CREATED:20230912T121546Z
LAST-MODIFIED:20230912T121546Z
UID:10000616-1695319200-1695322800@www.metroparks.net
SUMMARY:Wildflowers Throughout the Season
DESCRIPTION:Take a 1-mile walk through an open field and learn what wildflowers are blooming in September.
URL:https://www.metroparks.net/event/wildflowers-throughout-the-season/
LOCATION:Blacklick Woods\, 6975 East Livingston Ave\, Reynoldsburg\, OH\, 43068\, United States
END:VEVENT
BEGIN:VEVENT
DTSTART;TZID=America/New_York:20230910T150000
DTEND;TZID=America/New_York:20230910T160000
DTSTAMP:20260419T100843
CREATED:20230905T123041Z
LAST-MODIFIED:20230905T123041Z
UID:10000604-1694358000-1694361600@www.metroparks.net
SUMMARY:Nature Tram
DESCRIPTION:Take a tram ride through the park.
URL:https://www.metroparks.net/event/nature-tram/
LOCATION:Blacklick Woods\, 6975 East Livingston Ave\, Reynoldsburg\, OH\, 43068\, United States
ATTACH;FMTTYPE=image/jpeg:https://www.metroparks.net/wp-content/uploads/2023/08/1200px_BLK_senior-shindig-tram-1.jpg
END:VEVENT
BEGIN:VEVENT
DTSTART;TZID=America/New_York:20230822T150000
DTEND;TZID=America/New_York:20230822T170000
DTSTAMP:20260419T100843
CREATED:20230818T135252Z
LAST-MODIFIED:20230818T135252Z
UID:10000580-1692716400-1692723600@www.metroparks.net
SUMMARY:Pokémon Adventure
DESCRIPTION:Did you know that many Pokémon are based on real animals? Take a half-mile hike to learn about some of the fun critters that inspired Pokémon.
URL:https://www.metroparks.net/event/pokemon-adventure/
LOCATION:Blacklick Woods\, 6975 East Livingston Ave\, Reynoldsburg\, OH\, 43068\, United States
END:VEVENT
BEGIN:VEVENT
DTSTART;TZID=America/New_York:20230816T110000
DTEND;TZID=America/New_York:20230816T120000
DTSTAMP:20260419T100843
CREATED:20230814T165530Z
LAST-MODIFIED:20230814T165530Z
UID:10000569-1692183600-1692187200@www.metroparks.net
SUMMARY:Nature Kids: Birdwatching
DESCRIPTION:Come learn about common Ohio birds and take a half-mile hike to see what birds we can find.
URL:https://www.metroparks.net/event/nature-kids-birdwatching/
LOCATION:Blacklick Woods\, 6975 East Livingston Ave\, Reynoldsburg\, OH\, 43068\, United States
END:VEVENT
BEGIN:VEVENT
DTSTART;TZID=America/New_York:20230812T140000
DTEND;TZID=America/New_York:20230812T160000
DTSTAMP:20260419T100843
CREATED:20230807T160648Z
LAST-MODIFIED:20230807T160648Z
UID:10000567-1691848800-1691856000@www.metroparks.net
SUMMARY:Summer Fun Day
DESCRIPTION:Enjoy a fun-filled summer afternoon at the park! Borrow a kite or bring your own\, play with bubbles\, draw with chalk and enjoy summer!
URL:https://www.metroparks.net/event/summer-fun-day/
LOCATION:Blacklick Woods\, 6975 East Livingston Ave\, Reynoldsburg\, OH\, 43068\, United States
ATTACH;FMTTYPE=image/jpeg:https://www.metroparks.net/wp-content/uploads/2023/08/366062535_684184570417445_8816185475249814867_n.jpg
END:VEVENT
BEGIN:VEVENT
DTSTART;TZID=America/New_York:20230804T180000
DTEND;TZID=America/New_York:20230804T190000
DTSTAMP:20260419T100843
CREATED:20230731T134447Z
LAST-MODIFIED:20230731T134447Z
UID:10000553-1691172000-1691175600@www.metroparks.net
SUMMARY:Campfire Cooking
DESCRIPTION:Enjoy a campfire and some yummy foods prepared with pie irons and dutch ovens.
URL:https://www.metroparks.net/event/campfire-cooking/
LOCATION:Blacklick Woods\, 6975 East Livingston Ave\, Reynoldsburg\, OH\, 43068\, United States
END:VEVENT
BEGIN:VEVENT
DTSTART;TZID=America/New_York:20230729T080000
DTEND;TZID=America/New_York:20230729T100000
DTSTAMP:20260419T100843
CREATED:20230724T132103Z
LAST-MODIFIED:20230724T132103Z
UID:10000548-1690617600-1690624800@www.metroparks.net
SUMMARY:Moms' Morning Out
DESCRIPTION:Bring your coffee and join other moms on this half-mile hike while using the Five Common Topics to prompt discussion.
URL:https://www.metroparks.net/event/moms-morning-out/
LOCATION:Blacklick Woods\, 6975 East Livingston Ave\, Reynoldsburg\, OH\, 43068\, United States
END:VEVENT
BEGIN:VEVENT
DTSTART;TZID=America/New_York:20230726T140000
DTEND;TZID=America/New_York:20230726T150000
DTSTAMP:20260419T100843
CREATED:20230724T131057Z
LAST-MODIFIED:20230724T131057Z
UID:10000542-1690380000-1690383600@www.metroparks.net
SUMMARY:Bugs & Blooms
DESCRIPTION:Join a naturalist on a 2-mile hike to search the fields for blooming flowers and the bugs that visit them.
URL:https://www.metroparks.net/event/bugs-blooms/
LOCATION:Blacklick Woods\, 6975 East Livingston Ave\, Reynoldsburg\, OH\, 43068\, United States
END:VEVENT
BEGIN:VEVENT
DTSTART;TZID=America/New_York:20230720T130000
DTEND;TZID=America/New_York:20230720T150000
DTSTAMP:20260419T100843
CREATED:20230717T173306Z
LAST-MODIFIED:20230717T173306Z
UID:10000537-1689858000-1689865200@www.metroparks.net
SUMMARY:Nature Kids: Crazy for Crayfish
DESCRIPTION:Take a 2-mile (round-trip) hike to Blacklick Creek and search for crayfish hiding under rocks in the water.
URL:https://www.metroparks.net/event/nature-kids-crazy-for-crayfish/
LOCATION:Blacklick Woods\, 6975 East Livingston Ave\, Reynoldsburg\, OH\, 43068\, United States
END:VEVENT
BEGIN:VEVENT
DTSTART;TZID=America/New_York:20230715T130000
DTEND;TZID=America/New_York:20230715T140000
DTSTAMP:20260419T100843
CREATED:20230704T150111Z
LAST-MODIFIED:20230706T152701Z
UID:10000522-1689426000-1689429600@www.metroparks.net
SUMMARY:Toads & Abodes
DESCRIPTION:Learn about the toads of Ohio\, meet an American Toad and construct a toad abode to take home.
URL:https://www.metroparks.net/event/toads-abodes/
LOCATION:Blacklick Woods\, 6975 East Livingston Ave\, Reynoldsburg\, OH\, 43068\, United States
END:VEVENT
BEGIN:VEVENT
DTSTART;TZID=America/New_York:20230704T130000
DTEND;TZID=America/New_York:20230704T150000
DTSTAMP:20260419T100843
CREATED:20230626T145015Z
LAST-MODIFIED:20230626T145015Z
UID:10000515-1688475600-1688482800@www.metroparks.net
SUMMARY:July 4th Frenzy
DESCRIPTION:Who stole the Declaration of Independence? Set off on our 0.5-mile escape trail to find out who did it. Make stops at different stations along the way and solve problems to unlock clues that will enable you to successfully solve the mystery. Bring the family\, a group of friends or co-workers. Challenge each other to see who can complete the trail the fastest or use it as a team building activity. Afterwards\, create a 4th of July craft and make a s’more!
URL:https://www.metroparks.net/event/july-4th-frenzy/
LOCATION:Blacklick Woods\, 6975 East Livingston Ave\, Reynoldsburg\, OH\, 43068\, United States
END:VEVENT
BEGIN:VEVENT
DTSTART;TZID=America/New_York:20230625T130000
DTEND;TZID=America/New_York:20230625T150000
DTSTAMP:20260419T100843
CREATED:20230622T124056Z
LAST-MODIFIED:20230622T124056Z
UID:10000482-1687698000-1687705200@www.metroparks.net
SUMMARY:Blacklick Woods Encanto Experience
DESCRIPTION:Come and join the magic of the movie\, Encanto. Hike your way through Antonio’s forest\, life heavy logs like Luisa\, roast s’mores like Julieta\, plant a flower like Isabela\, make a shapeshifter craft like Camilo and\, we don’t talk about this\, but you might spot Bruno in the woods.
URL:https://www.metroparks.net/event/blacklick-woods-encanto-experience/
LOCATION:Blacklick Woods\, 6975 East Livingston Ave\, Reynoldsburg\, OH\, 43068\, United States
END:VEVENT
BEGIN:VEVENT
DTSTART;TZID=America/New_York:20230624T150000
DTEND;TZID=America/New_York:20230624T160000
DTSTAMP:20260419T100843
CREATED:20230622T123914Z
LAST-MODIFIED:20230622T123914Z
UID:10000480-1687618800-1687622400@www.metroparks.net
SUMMARY:Fairy House Building
DESCRIPTION:Flutter in to Blacklick Woods to build a fairy house on International Fairy Day. Dressing up as your favorite fairy or mythical creature is encouraged!
URL:https://www.metroparks.net/event/fairy-house-building/
LOCATION:Blacklick Woods\, 6975 East Livingston Ave\, Reynoldsburg\, OH\, 43068\, United States
END:VEVENT
BEGIN:VEVENT
DTSTART;TZID=America/New_York:20230618T140000
DTEND;TZID=America/New_York:20230618T150000
DTSTAMP:20260419T100843
CREATED:20230612T162648Z
LAST-MODIFIED:20230612T162648Z
UID:10000473-1687096800-1687100400@www.metroparks.net
SUMMARY:Father's Day Fish & Chips
DESCRIPTION:Join us on Father’s Day and Go Fishing Day for some quality time with a father figure in your life. We will provide poles and bait to fish with and chips to snack on\, all you need is to show up! Meet at Ashton Pond.
URL:https://www.metroparks.net/event/fathers-day-fish-chips/
LOCATION:Blacklick Woods\, 6975 East Livingston Ave\, Reynoldsburg\, OH\, 43068\, United States
ATTACH;FMTTYPE=image/jpeg:https://www.metroparks.net/wp-content/uploads/2019/05/gallery-summer-BDC-fishing-Darby-Creek-FrankKozarich-1.jpg
END:VEVENT
BEGIN:VEVENT
DTSTART;TZID=America/New_York:20230526T180000
DTEND;TZID=America/New_York:20230526T190000
DTSTAMP:20260419T100843
CREATED:20230523T125951Z
LAST-MODIFIED:20230523T125951Z
UID:10000445-1685124000-1685127600@www.metroparks.net
SUMMARY:Spring Fungi
DESCRIPTION:Search the trails and learn about fungi and how to identify them on this 1.5-mile hike.
URL:https://www.metroparks.net/event/spring-fungi/
LOCATION:Blacklick Woods\, 6975 East Livingston Ave\, Reynoldsburg\, OH\, 43068\, United States
END:VEVENT
END:VCALENDAR