BEGIN:VCALENDAR
VERSION:2.0
PRODID:-//Metro Parks - Central Ohio Park System - ECPv6.15.16.1//NONSGML v1.0//EN
CALSCALE:GREGORIAN
METHOD:PUBLISH
X-ORIGINAL-URL:https://www.metroparks.net
X-WR-CALDESC:Events for Metro Parks - Central Ohio Park System
REFRESH-INTERVAL;VALUE=DURATION:PT1H
X-Robots-Tag:noindex
X-PUBLISHED-TTL:PT1H
BEGIN:VTIMEZONE
TZID:America/New_York
BEGIN:DAYLIGHT
TZOFFSETFROM:-0500
TZOFFSETTO:-0400
TZNAME:EDT
DTSTART:20240310T070000
END:DAYLIGHT
BEGIN:STANDARD
TZOFFSETFROM:-0400
TZOFFSETTO:-0500
TZNAME:EST
DTSTART:20241103T060000
END:STANDARD
BEGIN:DAYLIGHT
TZOFFSETFROM:-0500
TZOFFSETTO:-0400
TZNAME:EDT
DTSTART:20250309T070000
END:DAYLIGHT
BEGIN:STANDARD
TZOFFSETFROM:-0400
TZOFFSETTO:-0500
TZNAME:EST
DTSTART:20251102T060000
END:STANDARD
BEGIN:DAYLIGHT
TZOFFSETFROM:-0500
TZOFFSETTO:-0400
TZNAME:EDT
DTSTART:20260308T070000
END:DAYLIGHT
BEGIN:STANDARD
TZOFFSETFROM:-0400
TZOFFSETTO:-0500
TZNAME:EST
DTSTART:20261101T060000
END:STANDARD
BEGIN:DAYLIGHT
TZOFFSETFROM:-0500
TZOFFSETTO:-0400
TZNAME:EDT
DTSTART:20270314T070000
END:DAYLIGHT
BEGIN:STANDARD
TZOFFSETFROM:-0400
TZOFFSETTO:-0500
TZNAME:EST
DTSTART:20271107T060000
END:STANDARD
END:VTIMEZONE
BEGIN:VEVENT
DTSTART;TZID=America/New_York:20260325T160000
DTEND;TZID=America/New_York:20260325T170000
DTSTAMP:20260419T085521
CREATED:20260219T152432Z
LAST-MODIFIED:20260219T152432Z
UID:10003887-1774454400-1774458000@www.metroparks.net
SUMMARY:Adaptive Adventures: Furs\, Feathers and Bones
DESCRIPTION:Come check out some furs\, feathers and bones at the inclusive playground! Get up close to touch and experience real wildlife items with all your senses! \n*Adaptive Adventures programs are programs designed for individuals with disabilities and their families.
URL:https://www.metroparks.net/event/adaptive-adventures-furs-feathers-and-bones/
LOCATION:Blendon Woods Inclusive Playground\, 4265 E. Dublin Granville Road\, Columbus\, OH\, 43081\, United States
END:VEVENT
BEGIN:VEVENT
DTSTART;TZID=America/New_York:20260225T143000
DTEND;TZID=America/New_York:20260225T153000
DTSTAMP:20260419T085521
CREATED:20260122T191908Z
LAST-MODIFIED:20260122T191908Z
UID:10003757-1772029800-1772033400@www.metroparks.net
SUMMARY:Adaptive Adventures: Pottery at the Playground!
DESCRIPTION:Adaptive Adventures: Pottery at the Playground! \nJoin us for some pottery fun at the inclusive playground shelter house at Blendon Woods Metro Park! Come create your very own pinch pot with air dry clay! \n* Adaptive Adventures programs are programs designed for individuals with disabilities and their families
URL:https://www.metroparks.net/event/adaptive-adventures-pottery-at-the-playground/
LOCATION:Blendon Woods Inclusive Playground\, 4265 E. Dublin Granville Road\, Columbus\, OH\, 43081\, United States
END:VEVENT
BEGIN:VEVENT
DTSTART;TZID=America/New_York:20260211T143000
DTEND;TZID=America/New_York:20260211T153000
DTSTAMP:20260419T085521
CREATED:20260122T191648Z
LAST-MODIFIED:20260122T191648Z
UID:10003755-1770820200-1770823800@www.metroparks.net
SUMMARY:Adaptive Adventures: Sensory Storytime
DESCRIPTION:Adaptive Adventures: Sensory Storytime \nJoin us at the shelter house at the inclusive playground to read a story about a pair of eagles in love for Valentines Day! We will have sensory items and fidgets available. We will end our time with a craft! \n*Adaptive Adventures programs are programs designed for individuals with disabilities and their families!
URL:https://www.metroparks.net/event/adaptive-adventures-sensory-storytime-8/
LOCATION:Blendon Woods Inclusive Playground\, 4265 E. Dublin Granville Road\, Columbus\, OH\, 43081\, United States
END:VEVENT
BEGIN:VEVENT
DTSTART;TZID=America/New_York:20260114T143000
DTEND;TZID=America/New_York:20260114T153000
DTSTAMP:20260419T085521
CREATED:20251218T175607Z
LAST-MODIFIED:20251218T175607Z
UID:10003635-1768401000-1768404600@www.metroparks.net
SUMMARY:Adaptive Adventures: Sensory Storytime
DESCRIPTION:Adaptive Adventures: Sensory Storytime \nCome enjoy a story at the inclusive playground about Animals in Winter as we use our sense of touch to feel real mammal pelts! We will end our time with a craft! Fidgets are available for use! \n*Adaptive Adventures programs are programs designed for individuals with disabilities and their families.
URL:https://www.metroparks.net/event/adaptive-adventures-sensory-storytime-7/
LOCATION:Blendon Woods Inclusive Playground\, 4265 E. Dublin Granville Road\, Columbus\, OH\, 43081\, United States
END:VEVENT
BEGIN:VEVENT
DTSTART;TZID=America/New_York:20260107T143000
DTEND;TZID=America/New_York:20260107T153000
DTSTAMP:20260419T085521
CREATED:20251218T175009Z
LAST-MODIFIED:20251218T175009Z
UID:10003628-1767796200-1767799800@www.metroparks.net
SUMMARY:Adaptive Adventures: Cardinal Count
DESCRIPTION:Adaptive Adventures: Cardinal Count \nCardinals like to hang out behind the shelter house at the inclusive playground in Blendon Woods Metro Park!! Come count how many cardinals you can see! Share our binoculars or bring your own as we hang out in the shelter and count cardinals together!! \n*Adaptive Adventures programs are programs designed for individuals with disabilities and their families.
URL:https://www.metroparks.net/event/adaptive-adventures-cardinal-count/
LOCATION:Blendon Woods Inclusive Playground\, 4265 E. Dublin Granville Road\, Columbus\, OH\, 43081\, United States
END:VEVENT
BEGIN:VEVENT
DTSTART;TZID=America/New_York:20251217T140000
DTEND;TZID=America/New_York:20251217T150000
DTSTAMP:20260419T085521
CREATED:20251118T173736Z
LAST-MODIFIED:20251118T173736Z
UID:10003512-1765980000-1765983600@www.metroparks.net
SUMMARY:Adaptive Adventures: Holiday Playground Party!
DESCRIPTION:Adaptive Adventures: Holiday Playground Party! \nCome join us at the inclusive playground for a holiday party! Enjoy hot chocolate\, crafts and activities while playing with friends and celebrating the holiday season! \n*Adaptive Adventures are programs designed for individuals with disabilities and their families!
URL:https://www.metroparks.net/event/adaptive-adventures-holiday-playground-party/
LOCATION:Blendon Woods Inclusive Playground\, 4265 E. Dublin Granville Road\, Columbus\, OH\, 43081\, United States
END:VEVENT
BEGIN:VEVENT
DTSTART;TZID=America/New_York:20251210T103000
DTEND;TZID=America/New_York:20251210T113000
DTSTAMP:20260419T085521
CREATED:20251118T173517Z
LAST-MODIFIED:20251118T173517Z
UID:10003510-1765362600-1765366200@www.metroparks.net
SUMMARY:Adaptive Adventures: Sensory Storytime
DESCRIPTION:Adaptive Adventures: Sensory Storytime \nJoin us at the shelter house at the inclusive playground to read a story about Animals in Winter! We will have pelts as a sensory item as well as fidgets available! We will end our time with a craft! Blendon Woods Metro Park! \n*Adaptive Adventures programs are programs designed for individuals with disabilities and their families!
URL:https://www.metroparks.net/event/adaptive-adventures-sensory-storytime-6/
LOCATION:Blendon Woods Inclusive Playground\, 4265 E. Dublin Granville Road\, Columbus\, OH\, 43081\, United States
END:VEVENT
BEGIN:VEVENT
DTSTART;TZID=America/New_York:20251108T090000
DTEND;TZID=America/New_York:20251108T120000
DTSTAMP:20260419T085521
CREATED:20251022T131740Z
LAST-MODIFIED:20251022T131740Z
UID:10003401-1762592400-1762603200@www.metroparks.net
SUMMARY:Adaptive Adventures: ASL Morning & Muffins
DESCRIPTION:Adaptive Adventures: ASL Morning & Muffins \nPlease join us at 9am on Saturday\, November 8 at the Inclusive Playground at Blendon Woods Metro Park for a morning of connection and play at out ASL open play day! This event is for deaf or hard- of- hearing individuals and their families to enjoy our inclusive play space while making new friends in the community! We will have a few resource tables set up as well as muffins\, while supplies last! \nPlease reach out to mlrichley@metroparks.net with any questions!
URL:https://www.metroparks.net/event/adaptive-adventures-asl-morning-muffins/
LOCATION:Blendon Woods Inclusive Playground\, 4265 E. Dublin Granville Road\, Columbus\, OH\, 43081\, United States
END:VEVENT
BEGIN:VEVENT
DTSTART;TZID=America/New_York:20251029T133000
DTEND;TZID=America/New_York:20251029T153000
DTSTAMP:20260419T085521
CREATED:20250930T121329Z
LAST-MODIFIED:20250930T121329Z
UID:10003330-1761744600-1761751800@www.metroparks.net
SUMMARY:Adaptive Adventures: Slides & Sweets\, Tricks or Treats!
DESCRIPTION:Adaptive Adventures: Slides & Sweets\, Tricks or Treats! \nHave some spooky October fun at the inclusive playground! Wear a costume\, enjoy some candy\, tattoos\, and stickers! \n*Adaptive Adventures programs are programs designed for individuals with disabilities and their families.
URL:https://www.metroparks.net/event/adaptive-adventures-slides-sweets-tricks-or-treats/
LOCATION:Blendon Woods Inclusive Playground\, 4265 E. Dublin Granville Road\, Columbus\, OH\, 43081\, United States
END:VEVENT
BEGIN:VEVENT
DTSTART;TZID=America/New_York:20251022T140000
DTEND;TZID=America/New_York:20251022T160000
DTSTAMP:20260419T085521
CREATED:20250930T121401Z
LAST-MODIFIED:20250930T121401Z
UID:10003331-1761141600-1761148800@www.metroparks.net
SUMMARY:Adaptive Adventures: Carnival Games
DESCRIPTION:Adaptive Adventures: Carnival Games! \nCome enjoy the inclusive playground and try your hand at some of our tabletop carnival games! Play a game\, win a sticker! \n*Adaptive Adventures programs are programs designed for individuals with disabilities and their families!
URL:https://www.metroparks.net/event/adaptive-adventures-carnival-games/
LOCATION:Blendon Woods Inclusive Playground\, 4265 E. Dublin Granville Road\, Columbus\, OH\, 43081\, United States
END:VEVENT
BEGIN:VEVENT
DTSTART;TZID=America/New_York:20251015T143000
DTEND;TZID=America/New_York:20251015T153000
DTSTAMP:20260419T085521
CREATED:20250930T121456Z
LAST-MODIFIED:20250930T121456Z
UID:10003332-1760538600-1760542200@www.metroparks.net
SUMMARY:Adaptive Adventures: Sensory Storytime
DESCRIPTION:Adaptive Adventures: Sensory Storytime \nJoin us at the inclusive playground shelter house for a story about pumpkins!! We will use our senses to explore pumpkins and then end with a pumpkin craft! \n*Adaptive Adventures programs are programs designed for individuals with disabilities and their families
URL:https://www.metroparks.net/event/adaptive-adventures-sensory-storytime-5/
LOCATION:Blendon Woods Inclusive Playground\, 4265 E. Dublin Granville Road\, Columbus\, OH\, 43081\, United States
END:VEVENT
BEGIN:VEVENT
DTSTART;TZID=America/New_York:20251001T150000
DTEND;TZID=America/New_York:20251001T160000
DTSTAMP:20260419T085521
CREATED:20250930T121220Z
LAST-MODIFIED:20250930T121220Z
UID:10003329-1759330800-1759334400@www.metroparks.net
SUMMARY:Adaptive Adventures: Fall Craft Hour
DESCRIPTION:Adaptive Adventures: Fall Craft Hour! \nCome join us for a fun fall craft at the inclusive playground shelter house at Blendon Woods Metro Park! This craft is for all abilities! \n*Adaptive Adventures programs are programs designed for individuals with disabilities and their families.
URL:https://www.metroparks.net/event/adaptive-adventures-fall-craft-hour/
LOCATION:Blendon Woods Inclusive Playground\, 4265 E. Dublin Granville Road\, Columbus\, OH\, 43081\, United States
END:VEVENT
BEGIN:VEVENT
DTSTART;TZID=America/New_York:20250924T153000
DTEND;TZID=America/New_York:20250924T163000
DTSTAMP:20260419T085521
CREATED:20250825T120606Z
LAST-MODIFIED:20250825T120606Z
UID:10003166-1758727800-1758731400@www.metroparks.net
SUMMARY:Adaptive Adventures: Afternoon S'more Hour
DESCRIPTION:Adaptive Adventures: Afternoon S’more Hour \nCome join us for a quick afternoon s’more at the inclusive playground! S’mores will be cooked on an accessible fire table with lightweight bamboo sticks for easier handling! \n*Our Adaptive Adventures programs are programs designed for individuals with disabilities and their families.
URL:https://www.metroparks.net/event/adaptive-adventures-afternoon-smore-hour/
LOCATION:Blendon Woods Inclusive Playground\, 4265 E. Dublin Granville Road\, Columbus\, OH\, 43081\, United States
END:VEVENT
BEGIN:VEVENT
DTSTART;TZID=America/New_York:20250917T143000
DTEND;TZID=America/New_York:20250917T153000
DTSTAMP:20260419T085521
CREATED:20250825T132249Z
LAST-MODIFIED:20250825T132249Z
UID:10003236-1758119400-1758123000@www.metroparks.net
SUMMARY:Adaptive Adventures: Sensory Storytime
DESCRIPTION:Adaptive Adventures: Sensory Storytime \nCome join us for a story about apples at the inclusive playground shelter house! We will use our senses to feel\, see\, smell\, listen\, and taste apples!! We will end our time with a craft! \nFidgets will be available for use. \n*Our Adaptive Adventures programs are programs designed for individuals with disabilities and their families.
URL:https://www.metroparks.net/event/adaptive-adventures-sensory-storytime-4/
LOCATION:Blendon Woods Inclusive Playground\, 4265 E. Dublin Granville Road\, Columbus\, OH\, 43081\, United States
END:VEVENT
BEGIN:VEVENT
DTSTART;TZID=America/New_York:20250903T130000
DTEND;TZID=America/New_York:20250903T160000
DTSTAMP:20260419T085521
CREATED:20250825T123035Z
LAST-MODIFIED:20250825T123035Z
UID:10003187-1756904400-1756915200@www.metroparks.net
SUMMARY:Adaptive Adventures: ASL Afternoon
DESCRIPTION:Adaptive Adventures: ASL Afternoon \nCome join us to kick off National Deaf Awareness Month with an afternoon of open play at the inclusive playground at Blendon Woods Metro Park! This open play is for deaf individuals and their families and friends! Come to play and meet new friends in the community! 1-4pm September 3rd! \n*Our Adaptive Adventures programs are programs designed for individuals with disabilities and their families.
URL:https://www.metroparks.net/event/adaptive-adventures-asl-afternoon/
LOCATION:Blendon Woods Inclusive Playground\, 4265 E. Dublin Granville Road\, Columbus\, OH\, 43081\, United States
END:VEVENT
BEGIN:VEVENT
DTSTART;TZID=America/New_York:20250730T130000
DTEND;TZID=America/New_York:20250730T153000
DTSTAMP:20260419T085521
CREATED:20250617T141625Z
LAST-MODIFIED:20250617T141625Z
UID:10002891-1753880400-1753889400@www.metroparks.net
SUMMARY:Adaptive Adventures: Wheelchair Water Games!
DESCRIPTION:Adaptive Adventures: Wheelchair Water Games- Come cool off with summer water fun at our Inclusive Playground at Blendon Woods Metro Park! We will have sponges\, spray bottles\, a wheelchair “car wash”\, water shooters and more to cool off in the hot July sun! Bring a friend to play!\n* Our Adaptive Adventures programs are programs designed for individuals with disabilities and their families!
URL:https://www.metroparks.net/event/adaptive-adventures-wheelchair-water-games/
LOCATION:Blendon Woods Inclusive Playground\, 4265 E. Dublin Granville Road\, Columbus\, OH\, 43081\, United States
END:VEVENT
BEGIN:VEVENT
DTSTART;TZID=America/New_York:20250723T150000
DTEND;TZID=America/New_York:20250723T160000
DTSTAMP:20260419T085521
CREATED:20250617T140931Z
LAST-MODIFIED:20250617T140931Z
UID:10002876-1753282800-1753286400@www.metroparks.net
SUMMARY:Adaptive Adventures: Inspecting Insects
DESCRIPTION:Adaptive Adventures: Inspecting Insects- Come inspect some insects at our inclusive playground at Blendon Woods Metro Park! We will be hanging out by the shelter house with live insects\, bug viewers\, magnifying glasses\, insect books and more!\n*Our Adaptive Adventure programs are programs designed with individuals with disabilities and their families!
URL:https://www.metroparks.net/event/adaptive-adventures-inspecting-insects/
LOCATION:Blendon Woods Inclusive Playground\, 4265 E. Dublin Granville Road\, Columbus\, OH\, 43081\, United States
END:VEVENT
BEGIN:VEVENT
DTSTART;TZID=America/New_York:20250716T143000
DTEND;TZID=America/New_York:20250716T153000
DTSTAMP:20260419T085521
CREATED:20250617T142948Z
LAST-MODIFIED:20250617T142948Z
UID:10002914-1752676200-1752679800@www.metroparks.net
SUMMARY:Adaptive Adventures: Sensory Storytime
DESCRIPTION:Adaptive Adventures: Come listen to a story about wildlife while we use our senses to feel and interact with wildlife pelts and other nature sensory items! Afterwards we will have a craft! Meet at the Inclusive Playground shelter house at Blendon Woods Metro Park!\n* Our Adaptive Adventures Programs are programs designed for individuals with disabilities and their families!
URL:https://www.metroparks.net/event/adaptive-adventures-sensory-storytime-3/
LOCATION:Blendon Woods Inclusive Playground\, 4265 E. Dublin Granville Road\, Columbus\, OH\, 43081\, United States
END:VEVENT
BEGIN:VEVENT
DTSTART;TZID=America/New_York:20250702T100000
DTEND;TZID=America/New_York:20250702T150000
DTSTAMP:20260419T085521
CREATED:20250617T141145Z
LAST-MODIFIED:20250617T141145Z
UID:10002880-1751450400-1751468400@www.metroparks.net
SUMMARY:Adaptive Adventures: Freedom and Family Day
DESCRIPTION:Come have a day of play and celebration with your families at our fully wheelchair accessible and all ability inclusive playground! Pack a picnic\, grab the kiddos and come have some fun! Located at Blendon Woods Metro Park! 10am-3pm.
URL:https://www.metroparks.net/event/adaptive-adventures-freedom-and-family-day/
LOCATION:Blendon Woods Inclusive Playground\, 4265 E. Dublin Granville Road\, Columbus\, OH\, 43081\, United States
END:VEVENT
BEGIN:VEVENT
DTSTART;TZID=America/New_York:20250625T130000
DTEND;TZID=America/New_York:20250625T153000
DTSTAMP:20260419T085521
CREATED:20250521T132140Z
LAST-MODIFIED:20250521T132140Z
UID:10002769-1750856400-1750865400@www.metroparks.net
SUMMARY:Adaptive Adventures: Bubble Playdate Party
DESCRIPTION:Adaptive Adventures: Come have a bubble playdate at the Inclusive Playground at Blendon Woods Metro Park! Small bubble party favors will be available as well as a bubble machine. BYOB- Bring Your Own Bubbles for more bubble fun!\n* Our Adaptive Adventures Programs are programs designed for individuals with disabilities and their families!
URL:https://www.metroparks.net/event/adaptive-adventures-bubble-playdate-party/
LOCATION:Blendon Woods Inclusive Playground\, 4265 E. Dublin Granville Road\, Columbus\, OH\, 43081\, United States
END:VEVENT
BEGIN:VEVENT
DTSTART;TZID=America/New_York:20250618T130000
DTEND;TZID=America/New_York:20250618T150000
DTSTAMP:20260419T085521
CREATED:20250521T131708Z
LAST-MODIFIED:20250521T131708Z
UID:10002761-1750251600-1750258800@www.metroparks.net
SUMMARY:Adaptive Adventures: Daddy & Me Playdate & Popsicles
DESCRIPTION:Come celebrate Father’s Day week with a Daddy & Me Playdate at the Inclusive Playground! We will have popsicles and rock painting in the shelter house! Blendon Woods Metro Park\n*Our Adaptive Adventures Programs are programs designed for individuals with disabilities and their families!
URL:https://www.metroparks.net/event/adaptive-adventures-daddy-me-playdate-popsicles/
LOCATION:Blendon Woods Inclusive Playground\, 4265 E. Dublin Granville Road\, Columbus\, OH\, 43081\, United States
END:VEVENT
BEGIN:VEVENT
DTSTART;TZID=America/New_York:20250611T143000
DTEND;TZID=America/New_York:20250611T153000
DTSTAMP:20260419T085521
CREATED:20250521T130502Z
LAST-MODIFIED:20250521T130502Z
UID:10002748-1749652200-1749655800@www.metroparks.net
SUMMARY:Adaptive Adventures: Sensory Storytime
DESCRIPTION:Adaptive Adventures: Come listen to a story about water while we use our senses to feel and interact with water! Afterwards\, we will have a craft! Meet at the Inclusive Playground shelter house at Blendon Woods Metro Park!\n* Our Adaptive Adventures Programs are programs designed for individuals with disabilities and their families!
URL:https://www.metroparks.net/event/adaptive-adventures-sensory-storytime-2/
LOCATION:Blendon Woods Inclusive Playground\, 4265 E. Dublin Granville Road\, Columbus\, OH\, 43081\, United States
END:VEVENT
BEGIN:VEVENT
DTSTART;TZID=America/New_York:20250523T180000
DTEND;TZID=America/New_York:20250523T190000
DTSTAMP:20260419T085521
CREATED:20250418T131248Z
LAST-MODIFIED:20250418T131248Z
UID:10002625-1748023200-1748026800@www.metroparks.net
SUMMARY:Adaptive Adventures: Friday Family S'more Hour
DESCRIPTION:Adaptive Adventures: Join us for an adaptive family s’more hour at the inclusive playground in Blendon Woods Metro Park! We will use a fire table for easy wheelchair access and lightweight bamboo sticks for marshmallow roasting!
URL:https://www.metroparks.net/event/adaptive-adventures-friday-family-smore-hour/
LOCATION:Blendon Woods Inclusive Playground\, 4265 E. Dublin Granville Road\, Columbus\, OH\, 43081\, United States
END:VEVENT
BEGIN:VEVENT
DTSTART;TZID=America/New_York:20250517T090000
DTEND;TZID=America/New_York:20250517T103000
DTSTAMP:20260419T085521
CREATED:20250418T132009Z
LAST-MODIFIED:20250418T132009Z
UID:10002633-1747472400-1747477800@www.metroparks.net
SUMMARY:Adaptive Adventures: Sensory Storytime
DESCRIPTION:Adaptive Adventures: Come listen to a story about herbs and their uses while we use our senses to smell\, touch\, see\, and taste herbs! Afterwards\, we will have a craft! Meet at the inclusive playground at Blendon Woods Metro Park in the shelter house!
URL:https://www.metroparks.net/event/adaptive-adventures-sensory-storytime/
LOCATION:Blendon Woods Inclusive Playground\, 4265 E. Dublin Granville Road\, Columbus\, OH\, 43081\, United States
END:VEVENT
BEGIN:VEVENT
DTSTART;TZID=America/New_York:20250512T090000
DTEND;TZID=America/New_York:20250512T110000
DTSTAMP:20260419T085521
CREATED:20250418T134010Z
LAST-MODIFIED:20250418T134010Z
UID:10002651-1747040400-1747047600@www.metroparks.net
SUMMARY:Adaptive Adventures: Mommy & Me Inclusive Playground Playdate and Tea Party
DESCRIPTION:Adaptive Adventures: Come celebrate Mother’s Day with your kiddo(s) at our inclusive playground for our Mommy & Me Playdate and Tea Party! We will enjoy tea and juice\, decorate terra cotta flowerpots\, and play together at our inclusive playground that is adapted for all abilities! Our playground is fully wheelchair accessible! Meet at the Inclusive Playground in Blendon Woods Metro Park. We will have tea and terra cotta crafting in the shelter house.
URL:https://www.metroparks.net/event/adaptive-adventures-mommy-me-inclusive-playground-playdate-and-tea-party/
LOCATION:Blendon Woods Inclusive Playground\, 4265 E. Dublin Granville Road\, Columbus\, OH\, 43081\, United States
END:VEVENT
BEGIN:VEVENT
DTSTART;TZID=America/New_York:20250412T090000
DTEND;TZID=America/New_York:20250412T110000
DTSTAMP:20260419T085521
CREATED:20250324T132440Z
LAST-MODIFIED:20250324T132441Z
UID:10002516-1744448400-1744455600@www.metroparks.net
SUMMARY:Autism Acceptance Month Celebration
DESCRIPTION:Come join us at our brand-new inclusive playground at Blendon Woods to celebrate Autism Acceptance Month from 9-11am! Enjoy “quiet hour” in our nature center from 9-10am for those with noise sensitivities. Explore our inclusive playground that is adapted for all abilities and wheelchair accessible! Get creative with a craft and meet an animal ambassador! Open to all ages!
URL:https://www.metroparks.net/event/autism-acceptance-month-celebration/
LOCATION:Blendon Woods Inclusive Playground\, 4265 E. Dublin Granville Road\, Columbus\, OH\, 43081\, United States
ATTACH;FMTTYPE=image/jpeg:https://www.metroparks.net/wp-content/uploads/2025/03/BLN-playground-from-overhead_Stefan-Bruch_1200px-1.jpg
END:VEVENT
END:VCALENDAR