BEGIN:VCALENDAR
VERSION:2.0
PRODID:-//Metro Parks - Central Ohio Park System - ECPv6.15.16.1//NONSGML v1.0//EN
CALSCALE:GREGORIAN
METHOD:PUBLISH
X-WR-CALNAME:Metro Parks - Central Ohio Park System
X-ORIGINAL-URL:https://www.metroparks.net
X-WR-CALDESC:Events for Metro Parks - Central Ohio Park System
REFRESH-INTERVAL;VALUE=DURATION:PT1H
X-Robots-Tag:noindex
X-PUBLISHED-TTL:PT1H
BEGIN:VTIMEZONE
TZID:America/New_York
BEGIN:DAYLIGHT
TZOFFSETFROM:-0500
TZOFFSETTO:-0400
TZNAME:EDT
DTSTART:20210314T070000
END:DAYLIGHT
BEGIN:STANDARD
TZOFFSETFROM:-0400
TZOFFSETTO:-0500
TZNAME:EST
DTSTART:20211107T060000
END:STANDARD
BEGIN:DAYLIGHT
TZOFFSETFROM:-0500
TZOFFSETTO:-0400
TZNAME:EDT
DTSTART:20220313T070000
END:DAYLIGHT
BEGIN:STANDARD
TZOFFSETFROM:-0400
TZOFFSETTO:-0500
TZNAME:EST
DTSTART:20221106T060000
END:STANDARD
BEGIN:DAYLIGHT
TZOFFSETFROM:-0500
TZOFFSETTO:-0400
TZNAME:EDT
DTSTART:20230312T070000
END:DAYLIGHT
BEGIN:STANDARD
TZOFFSETFROM:-0400
TZOFFSETTO:-0500
TZNAME:EST
DTSTART:20231105T060000
END:STANDARD
BEGIN:DAYLIGHT
TZOFFSETFROM:-0500
TZOFFSETTO:-0400
TZNAME:EDT
DTSTART:20240310T070000
END:DAYLIGHT
BEGIN:STANDARD
TZOFFSETFROM:-0400
TZOFFSETTO:-0500
TZNAME:EST
DTSTART:20241103T060000
END:STANDARD
END:VTIMEZONE
BEGIN:VEVENT
DTSTART;TZID=America/New_York:20231208T170000
DTEND;TZID=America/New_York:20231208T183000
DTSTAMP:20260420T171249
CREATED:20231120T141008Z
LAST-MODIFIED:20231120T141009Z
UID:10000741-1702054800-1702060200@www.metroparks.net
SUMMARY:Luminary Hikes
DESCRIPTION:Take a self-guided 1/2-mile walk through the woods and fields as luminaries light your way. Enjoy a cup of hot chocolate and have your winter hike card stamped.
URL:https://www.metroparks.net/event/luminary-hikes/2023-12-08/
LOCATION:Chestnut Ridge\, 8445 Winchester Rd NW\, Carroll\, OH\, 43112\, United States
END:VEVENT
BEGIN:VEVENT
DTSTART;TZID=America/New_York:20231124T140000
DTEND;TZID=America/New_York:20231124T153000
DTSTAMP:20260420T171249
CREATED:20231023T172556Z
LAST-MODIFIED:20231023T172556Z
UID:10000695-1700834400-1700839800@www.metroparks.net
SUMMARY:For Adults 50+: Walk Off The Turkey
DESCRIPTION:Ascend 150 feet through the woods to the top of the ridge on a 1.5 mile moderate to difficult hike. \nMeet in the 2nd parking lot close to the bulletin board and restrooms
URL:https://www.metroparks.net/event/for-adults-50-walk-off-the-turkey/
LOCATION:Chestnut Ridge\, 8445 Winchester Rd NW\, Carroll\, OH\, 43112\, United States
END:VEVENT
BEGIN:VEVENT
DTSTART;TZID=America/New_York:20231023T130000
DTEND;TZID=America/New_York:20231023T140000
DTSTAMP:20260420T171249
CREATED:20230929T185107Z
LAST-MODIFIED:20230929T185107Z
UID:10000671-1698066000-1698069600@www.metroparks.net
SUMMARY:Fall Foliage Hike
DESCRIPTION:Enjoy the beauty of fall and the changing leaves at Chestnut Ridge Metro Park! Hike will be approx. 2 miles long over hilly terrain. Hiking boots recommended. Moderate trail. Meet at the first parking lot to the right when you enter the main entrance of Chestnut Ridge\, past the maintenance facility.
URL:https://www.metroparks.net/event/fall-foliage-hike/
LOCATION:Chestnut Ridge\, 8445 Winchester Rd NW\, Carroll\, OH\, 43112\, United States
ATTACH;FMTTYPE=image/jpeg:https://www.metroparks.net/wp-content/uploads/2017/10/Andy-Miller_CHR_trail-in-fall_KarlFrancis.jpg
END:VEVENT
BEGIN:VEVENT
DTSTART;TZID=America/New_York:20230801T100000
DTEND;TZID=America/New_York:20230801T120000
DTSTAMP:20260420T171249
CREATED:20230731T134132Z
LAST-MODIFIED:20230731T134132Z
UID:10000551-1690884000-1690891200@www.metroparks.net
SUMMARY:Ridge Hike
DESCRIPTION:Enjoy Mountain Climbing Day by hiking at Chestnut Ridge Metro Park! Chestnut Ridge is the first ridge in the foothills of the Appalachian Mountains. Hike will be approx. 2.6 miles. Meet at the first parking lot to the right once entering the park.
URL:https://www.metroparks.net/event/ridge-hike/
LOCATION:Chestnut Ridge\, 8445 Winchester Rd NW\, Carroll\, OH\, 43112\, United States
END:VEVENT
BEGIN:VEVENT
DTSTART;TZID=America/New_York:20221210T170000
DTEND;TZID=America/New_York:20221210T190000
DTSTAMP:20260420T171249
CREATED:20221121T224936Z
LAST-MODIFIED:20221121T231739Z
UID:10000019-1670691600-1670698800@www.metroparks.net
SUMMARY:Twinkling Lights\, Lantern Walks & Hot Chocolate at Chestnut Ridge
DESCRIPTION:Walk under the twinkling lights at Battelle Darby Creek\, Blacklick Woods\, Highbanks\, Homestead and Inniswood during the month of December. Come out to Chestnut Ridge for special evening lantern walks and hot chocolate on Friday December 9\, 2022 & Saturday December 10\, 2022.
URL:https://www.metroparks.net/event/twinkling-lights-2/2022-12-10/
LOCATION:8445 Winchester Rd NW\, Carroll\, OH\, 43112\, United States
ATTACH;FMTTYPE=image/jpeg:https://www.metroparks.net/wp-content/uploads/2022/11/Twinkling-lights-at-INN-and-HOM-knowles-and-boniface.jpg
END:VEVENT
BEGIN:VEVENT
DTSTART;TZID=America/New_York:20221209T170000
DTEND;TZID=America/New_York:20221209T190000
DTSTAMP:20260420T171249
CREATED:20221121T224936Z
LAST-MODIFIED:20221121T231739Z
UID:10000018-1670605200-1670612400@www.metroparks.net
SUMMARY:Twinkling Lights\, Lantern Walks & Hot Chocolate at Chestnut Ridge
DESCRIPTION:Walk under the twinkling lights at Battelle Darby Creek\, Blacklick Woods\, Highbanks\, Homestead and Inniswood during the month of December. Come out to Chestnut Ridge for special evening lantern walks and hot chocolate on Friday December 9\, 2022 & Saturday December 10\, 2022.
URL:https://www.metroparks.net/event/twinkling-lights-2/2022-12-09/
LOCATION:8445 Winchester Rd NW\, Carroll\, OH\, 43112\, United States
ATTACH;FMTTYPE=image/jpeg:https://www.metroparks.net/wp-content/uploads/2022/11/Twinkling-lights-at-INN-and-HOM-knowles-and-boniface.jpg
END:VEVENT
END:VCALENDAR