BEGIN:VCALENDAR
VERSION:2.0
PRODID:-//Metro Parks - Central Ohio Park System - ECPv6.15.16.1//NONSGML v1.0//EN
CALSCALE:GREGORIAN
METHOD:PUBLISH
X-ORIGINAL-URL:https://www.metroparks.net
X-WR-CALDESC:Events for Metro Parks - Central Ohio Park System
REFRESH-INTERVAL;VALUE=DURATION:PT1H
X-Robots-Tag:noindex
X-PUBLISHED-TTL:PT1H
BEGIN:VTIMEZONE
TZID:America/New_York
BEGIN:DAYLIGHT
TZOFFSETFROM:-0500
TZOFFSETTO:-0400
TZNAME:EDT
DTSTART:20230312T070000
END:DAYLIGHT
BEGIN:STANDARD
TZOFFSETFROM:-0400
TZOFFSETTO:-0500
TZNAME:EST
DTSTART:20231105T060000
END:STANDARD
BEGIN:DAYLIGHT
TZOFFSETFROM:-0500
TZOFFSETTO:-0400
TZNAME:EDT
DTSTART:20240310T070000
END:DAYLIGHT
BEGIN:STANDARD
TZOFFSETFROM:-0400
TZOFFSETTO:-0500
TZNAME:EST
DTSTART:20241103T060000
END:STANDARD
BEGIN:DAYLIGHT
TZOFFSETFROM:-0500
TZOFFSETTO:-0400
TZNAME:EDT
DTSTART:20250309T070000
END:DAYLIGHT
BEGIN:STANDARD
TZOFFSETFROM:-0400
TZOFFSETTO:-0500
TZNAME:EST
DTSTART:20251102T060000
END:STANDARD
BEGIN:DAYLIGHT
TZOFFSETFROM:-0500
TZOFFSETTO:-0400
TZNAME:EDT
DTSTART:20260308T070000
END:DAYLIGHT
BEGIN:STANDARD
TZOFFSETFROM:-0400
TZOFFSETTO:-0500
TZNAME:EST
DTSTART:20261101T060000
END:STANDARD
END:VTIMEZONE
BEGIN:VEVENT
DTSTART;TZID=America/New_York:20250712T100000
DTEND;TZID=America/New_York:20250712T120000
DTSTAMP:20260419T091539
CREATED:20250623T174922Z
LAST-MODIFIED:20250623T174922Z
UID:10002936-1752314400-1752321600@www.metroparks.net
SUMMARY:Fly Fishing For Beginners
DESCRIPTION:Learn the basics of fly fishing. This will be the first of two programs offered this summer. A second program will be offered in August and will help further develop skills. Equipment provided. Meet at the Fern Parking Lot\, 22937 Clear Creek Road in Rockbridge (39.59007\, -82.59188).
URL:https://www.metroparks.net/event/fly-fishing-for-beginners-2/
LOCATION:Clear Creek\, 185 Clear Creek Road\, Lancaster\, OH\, 43130\, United States
END:VEVENT
BEGIN:VEVENT
DTSTART;TZID=America/New_York:20250709T100000
DTEND;TZID=America/New_York:20250709T120000
DTSTAMP:20260419T091539
CREATED:20250623T175138Z
LAST-MODIFIED:20250623T175138Z
UID:10002940-1752055200-1752062400@www.metroparks.net
SUMMARY:Creeking Adventure
DESCRIPTION:Explore the creek\, see aquatic life up-close at a stream discovery station and make a craft. Stop by anytime between 10 & 11am. Nets will be provided. Activities will conclude at 12pm. Park at the Fern Parking Lot\, 22937 Clear Creek Road in Rockbridge (39.59007\, -82.59188) and follow the Creekside Meadows trail to fishing access #3. Follow program signs from the parking lot to the fishing access where activities will take place.
URL:https://www.metroparks.net/event/creeking-adventure-2/
LOCATION:Clear Creek\, 185 Clear Creek Road\, Lancaster\, OH\, 43130\, United States
END:VEVENT
BEGIN:VEVENT
DTSTART;TZID=America/New_York:20250619T100000
DTEND;TZID=America/New_York:20250619T130000
DTSTAMP:20260419T091539
CREATED:20250527T125023Z
LAST-MODIFIED:20250527T125023Z
UID:10002822-1750327200-1750338000@www.metroparks.net
SUMMARY:Backcountry Hike
DESCRIPTION:Take a 5-mile backcountry hike to Winnowing Rock. Terrain at Clear Creek is rugged and steep. Bring water and wear sturdy hiking shoes. Meet at the Park Office\, 185 Clear Creek Road in Lancaster (39.594057\, -82.622219).
URL:https://www.metroparks.net/event/backcountry-hike-2/
LOCATION:Clear Creek\, 185 Clear Creek Road\, Lancaster\, OH\, 43130\, United States
END:VEVENT
BEGIN:VEVENT
DTSTART;TZID=America/New_York:20250607T193000
DTEND;TZID=America/New_York:20250607T213000
DTSTAMP:20260419T091539
CREATED:20250527T124909Z
LAST-MODIFIED:20250527T124909Z
UID:10002820-1749324600-1749331800@www.metroparks.net
SUMMARY:Lantern Hike
DESCRIPTION:Take a 3-mile evening hike to Green Mansions\, roast s’mores over a campfire and learn about nocturnal animals found at Clear Creek. Lanterns will be provided for the return hike. Mileage is round trip. Meet at the Park Office\, 185 Clear Creek Road in Lancaster (39.594057\, -82.622219).
URL:https://www.metroparks.net/event/lantern-hike-19/
LOCATION:Clear Creek\, 185 Clear Creek Road\, Lancaster\, OH\, 43130\, United States
END:VEVENT
BEGIN:VEVENT
DTSTART;TZID=America/New_York:20250528T100000
DTEND;TZID=America/New_York:20250528T113000
DTSTAMP:20260419T091539
CREATED:20250428T133016Z
LAST-MODIFIED:20250428T133016Z
UID:10002685-1748426400-1748431800@www.metroparks.net
SUMMARY:Fern Hike
DESCRIPTION:Discover and learn about the diversity of ferns found at Clear Creek on a 2-mile hike with guest Naturalist\, Nora Steele. Wear sturdy hiking shoes. Meet at the Fern Parking Lot\, 22937 Clear Creek Road in Rockbridge (39.59007\, -82.59188).
URL:https://www.metroparks.net/event/fern-hike/
LOCATION:Clear Creek\, 185 Clear Creek Road\, Lancaster\, OH\, 43130\, United States
END:VEVENT
BEGIN:VEVENT
DTSTART;TZID=America/New_York:20250524T090000
DTEND;TZID=America/New_York:20250524T133000
DTSTAMP:20260419T091539
CREATED:20250428T132424Z
LAST-MODIFIED:20250428T132424Z
UID:10002679-1748077200-1748093400@www.metroparks.net
SUMMARY:Adventure Hike
DESCRIPTION:Experience the backcountry on an 8-mile adventure hike. Participants should be able to keep a moderate pace and have experience hiking over difficult terrain. Long pants and hiking poles are recommended. Be prepared for elevation gain. The hike will include a creek crossing (Clear Creek); bring a change of shoes. Meet at the Fern Parking Lot\, 22937 Clear Creek Road in Rockbridge (39.59007\, -82.59188).
URL:https://www.metroparks.net/event/adventure-hike-2/
LOCATION:Clear Creek\, 185 Clear Creek Road\, Lancaster\, OH\, 43130\, United States
END:VEVENT
BEGIN:VEVENT
DTSTART;TZID=America/New_York:20250504T090000
DTEND;TZID=America/New_York:20250504T110000
DTSTAMP:20260419T091539
CREATED:20250428T132004Z
LAST-MODIFIED:20250428T132004Z
UID:10002673-1746349200-1746356400@www.metroparks.net
SUMMARY:Spring Migration
DESCRIPTION:Search for warblers and other spring migrants on a guided bird walk with the Clear Creek Naturalist and retired Metro Parks Resource Manager\, John Watts. Bring binoculars. Meet at the Creekside Meadows Parking Lot: 23833 Clear Creek Road\, Rockbridge (39.589033\, -82.577590).
URL:https://www.metroparks.net/event/spring-migration/
LOCATION:Clear Creek\, 185 Clear Creek Road\, Lancaster\, OH\, 43130\, United States
END:VEVENT
BEGIN:VEVENT
DTSTART;TZID=America/New_York:20250412T100000
DTEND;TZID=America/New_York:20250412T123000
DTSTAMP:20260419T091539
CREATED:20250328T123810Z
LAST-MODIFIED:20250328T123810Z
UID:10002598-1744452000-1744461000@www.metroparks.net
SUMMARY:Long Distance Trekking
DESCRIPTION:Join us for this approx. 5-mile hike at Clear Creek Metro Park! The terrain will be unimproved and steep\, hiking boots and trekking poles are recommended. Snacks and water are strongly encouraged! Perfect for intermediate hikers! Meet program staff at the Fern Picnic Area. Note: The picnic area is several minutes down Clear Creek Rd. from the main entrance\, so please plan accordingly when planning your arrival. You may lose service when entering the park.
URL:https://www.metroparks.net/event/long-distance-trekking/
LOCATION:Clear Creek\, 185 Clear Creek Road\, Lancaster\, OH\, 43130\, United States
END:VEVENT
BEGIN:VEVENT
DTSTART;TZID=America/New_York:20250329T190000
DTEND;TZID=America/New_York:20250329T210000
DTSTAMP:20260419T091539
CREATED:20250228T131931Z
LAST-MODIFIED:20250228T131931Z
UID:10002465-1743274800-1743282000@www.metroparks.net
SUMMARY:Twilight Hike
DESCRIPTION:Experience Clear Creek at twilight on a 5-mile guided hike. Bring a headlamp and be prepared to hike in low light conditions. Terrain is steep and uneven\, wear sturdy hiking shoes and bring water. Meet at the Creekside Meadows Parking Lot: 23833 Clear Creek Road\, Rockbridge (39.589033\, -82.577590).
URL:https://www.metroparks.net/event/twilight-hike-2/
LOCATION:Clear Creek\, 185 Clear Creek Road\, Lancaster\, OH\, 43130\, United States
END:VEVENT
BEGIN:VEVENT
DTSTART;TZID=America/New_York:20250320T100000
DTEND;TZID=America/New_York:20250320T123000
DTSTAMP:20260419T091539
CREATED:20250228T131624Z
LAST-MODIFIED:20250228T131624Z
UID:10002463-1742464800-1742473800@www.metroparks.net
SUMMARY:Spring Equinox Hike
DESCRIPTION:Celebrate the spring equinox on a 4-mile backcountry hike. This hike will be a repeat of the Green Giants hike route on March 15th. Terrain at Clear Creek is rugged and uneven\, be prepared for elevation gain. Meet at the old maintenance shop\, 9935 Opossum Hollow Road\, Rockbridge (39.59240\, -82.54627). Please note there is not a restroom at this meeting location.
URL:https://www.metroparks.net/event/spring-equinox-hike/
LOCATION:Clear Creek\, 185 Clear Creek Road\, Lancaster\, OH\, 43130\, United States
END:VEVENT
BEGIN:VEVENT
DTSTART;TZID=America/New_York:20250315T100000
DTEND;TZID=America/New_York:20250315T123000
DTSTAMP:20260419T091539
CREATED:20250228T131503Z
LAST-MODIFIED:20250228T131503Z
UID:10002461-1742032800-1742041800@www.metroparks.net
SUMMARY:Green Giants Hike
DESCRIPTION:Take in forest views on a 4-mile backcountry hike to a true old growth oak tree. Terrain at Clear Creek is rugged and uneven\, be prepared for elevation gain. Wear sturdy hiking shoes and bring water. Meet at the old maintenance shop\, 9935 Opossum Hollow Road\, Rockbridge (39.59240\, -82.54627). Please note there is not a restroom at this meeting location.
URL:https://www.metroparks.net/event/green-giants-hike-3/
LOCATION:Clear Creek\, 185 Clear Creek Road\, Lancaster\, OH\, 43130\, United States
END:VEVENT
BEGIN:VEVENT
DTSTART;TZID=America/New_York:20250305T100000
DTEND;TZID=America/New_York:20250305T113000
DTSTAMP:20260419T091539
CREATED:20250228T131154Z
LAST-MODIFIED:20250228T131154Z
UID:10002458-1741168800-1741174200@www.metroparks.net
SUMMARY:Skunk Cabbage Hike
DESCRIPTION:Search for Ohio’s earliest wildflower and visit a vernal pool on a guided 3-mile hike. Meet at the Barnebey-Hambleton Picnic Area\, 620 Clear Creek Road SW in Lancaster (39.600092\, -82.631611).
URL:https://www.metroparks.net/event/skunk-cabbage-hike-2/
LOCATION:Clear Creek\, 185 Clear Creek Road\, Lancaster\, OH\, 43130\, United States
ATTACH;FMTTYPE=image/jpeg:https://www.metroparks.net/wp-content/uploads/2020/12/BLN_Skunk-cabbage-with-flower-showing-off-trail-in-park_March_Patrick-Kelly.jpg
END:VEVENT
BEGIN:VEVENT
DTSTART;TZID=America/New_York:20250222T100000
DTEND;TZID=America/New_York:20250222T113000
DTSTAMP:20260419T091539
CREATED:20250130T141313Z
LAST-MODIFIED:20250130T141313Z
UID:10002351-1740218400-1740223800@www.metroparks.net
SUMMARY:Fly Tying for Beginners
DESCRIPTION:Get a head start on fly fishing season by learning how to tie your own flies. All supplies provided. Meet at the New Maintenance Shop\, 24920 Clear Creek Road\, Rockbridge (39.59755\,-82.55418).
URL:https://www.metroparks.net/event/fly-tying-for-beginners-2/
LOCATION:Clear Creek\, 185 Clear Creek Road\, Lancaster\, OH\, 43130\, United States
ATTACH;FMTTYPE=image/jpeg:https://www.metroparks.net/wp-content/uploads/2024/04/1200px_fly-fishing_for-HBK-activities_John-Nixon.jpg
END:VEVENT
BEGIN:VEVENT
DTSTART;TZID=America/New_York:20250214T100000
DTEND;TZID=America/New_York:20250214T130000
DTSTAMP:20260419T091539
CREATED:20250130T135546Z
LAST-MODIFIED:20250130T135546Z
UID:10002338-1739527200-1739538000@www.metroparks.net
SUMMARY:Valentine's Day Hike
DESCRIPTION:Fall in love with the trails on a guided hike. Choose from two distances\, 4 or 6-miles. Both hikes will start together. Trails at Clear Creek are rugged and steep. Be prepared for elevation gain and a moderate pace. Meet at the Creekside Meadows Parking Lot: 23833 Clear Creek Road\, Rockbridge (39.589033\, -82.577590).
URL:https://www.metroparks.net/event/valentines-day-hike/
LOCATION:Clear Creek\, 185 Clear Creek Road\, Lancaster\, OH\, 43130\, United States
END:VEVENT
BEGIN:VEVENT
DTSTART;TZID=America/New_York:20250210T140000
DTEND;TZID=America/New_York:20250210T153000
DTSTAMP:20260419T091539
CREATED:20250128T143917Z
LAST-MODIFIED:20250128T143917Z
UID:10002316-1739196000-1739201400@www.metroparks.net
SUMMARY:Trail Running
DESCRIPTION:Join us for a beginner-friendly intermittent trail run. We will have intervals of walking and running\, perfect for adventurers who want to try trail running! Wear comfortable shoes with treads and bring hydration. We will be trail running on the Benua loop\, a moderate 1.9 mile trail with some elevation change. Meet at the Park Office\, please keep in mind that the Park Office is a 10-minute drive from the entrance of the park. You may lose cell service upon entering the park so please plan accordingly.
URL:https://www.metroparks.net/event/trail-running-2/
LOCATION:Clear Creek\, 185 Clear Creek Road\, Lancaster\, OH\, 43130\, United States
END:VEVENT
BEGIN:VEVENT
DTSTART;TZID=America/New_York:20250208T090000
DTEND;TZID=America/New_York:20250208T100000
DTSTAMP:20260419T091539
CREATED:20250130T142817Z
LAST-MODIFIED:20250130T142817Z
UID:10002357-1739005200-1739008800@www.metroparks.net
SUMMARY:Winter Cave Hike-Self Guided
DESCRIPTION:Take in winter views on a 4-mile self-guided hike to a recess cave. Hikers may begin hiking anytime between 9am and 10am. Anyone planning to participate should plan to start hiking by 10am. The route will be well marked. Terrain at Clear Creek is rugged and uneven\, be prepared for elevation gain. Wear sturdy hiking shoes and bring water. Meet at the Park Office: 185 Clear Creek Road\, Lancaster (39.594057\, -82.622219).
URL:https://www.metroparks.net/event/winter-cave-hike-self-guided/
LOCATION:Clear Creek\, 185 Clear Creek Road\, Lancaster\, OH\, 43130\, United States
END:VEVENT
BEGIN:VEVENT
DTSTART;TZID=America/New_York:20250125T100000
DTEND;TZID=America/New_York:20250125T130000
DTSTAMP:20260419T091539
CREATED:20241023T152325Z
LAST-MODIFIED:20241023T152359Z
UID:10001952-1737799200-1737810000@www.metroparks.net
SUMMARY:Clear Creek Winter Hike
DESCRIPTION:Take a self guided hike on any of our public trails and enjoy refreshments at our Barnebey Hambleton area from 10am-1pm. Meet at the Park Office (185 Clear Creek Road\, Lancaster) at 10am for a guided 4-mile backcountry hike. Terrain at Clear Creek is steep and uneven\, wear sturdy hiking shoes and bring water. \nLearn more about winter hikes by clicking here.
URL:https://www.metroparks.net/event/clear-creek-winter-hike-2/
LOCATION:Clear Creek\, 185 Clear Creek Road\, Lancaster\, OH\, 43130\, United States
ATTACH;FMTTYPE=image/png:https://www.metroparks.net/wp-content/uploads/2024/10/26.png
END:VEVENT
BEGIN:VEVENT
DTSTART;TZID=America/New_York:20250101T100000
DTEND;TZID=America/New_York:20250101T140000
DTSTAMP:20260419T091539
CREATED:20241219T142732Z
LAST-MODIFIED:20241219T142746Z
UID:10002157-1735725600-1735740000@www.metroparks.net
SUMMARY:First Day Hike
DESCRIPTION:Start the New Year off by hitting the trails and check Clear Creek off on your Metro Parks Winter Hike card. Choose from a guided 4.5-mile or 7.5-mile hike. Both hikes will start together. The 7.5-mile hike will involve some off-trail hiking. Terrain at Clear Creek is rugged\, steep and uneven in places. Bring water and wear sturdy hiking shoes. Meet at the Creekside Meadows Parking Lot: 23833 Clear Creek Road\, Rockbridge. Carpooling is recommended due to limited parking.
URL:https://www.metroparks.net/event/first-day-hike-2/
LOCATION:Clear Creek\, 185 Clear Creek Road\, Lancaster\, OH\, 43130\, United States
ATTACH;FMTTYPE=image/jpeg:https://www.metroparks.net/wp-content/uploads/2024/12/470664878_578161988148457_1249816170862468879_n.jpg
END:VEVENT
BEGIN:VEVENT
DTSTART;TZID=America/New_York:20241129T100000
DTEND;TZID=America/New_York:20241129T130000
DTSTAMP:20260419T091539
CREATED:20241031T124700Z
LAST-MODIFIED:20241031T124700Z
UID:10002032-1732874400-1732885200@www.metroparks.net
SUMMARY:Opt Outside Hike
DESCRIPTION:Opt Outside on Black Friday on a 4-mile guided backcountry hike. Terrain at Clear Creek is rugged\, steep and uneven in places. Wear sturdy hiking shoes. Meet at the Park Office: 185 Clear Creek Rd\, Lancaster.
URL:https://www.metroparks.net/event/opt-outside-hike/
LOCATION:Clear Creek\, 185 Clear Creek Road\, Lancaster\, OH\, 43130\, United States
END:VEVENT
BEGIN:VEVENT
DTSTART;TZID=America/New_York:20241117T160000
DTEND;TZID=America/New_York:20241117T183000
DTSTAMP:20260419T091539
CREATED:20241031T122552Z
LAST-MODIFIED:20241031T122552Z
UID:10002018-1731859200-1731868200@www.metroparks.net
SUMMARY:National Take a Hike Day
DESCRIPTION:Celebrate National Take a Hike Day on a sunset hike to Buzzard’s Roost. Terrain at Clear Creek is rugged\, steep and uneven in places. Wear sturdy hiking shoes. Bring a headlamp. Meet at the Fern Parking Lot\, 22937 Clear Creek Road.
URL:https://www.metroparks.net/event/national-take-a-hike-day-2/
LOCATION:Clear Creek\, 185 Clear Creek Road\, Lancaster\, OH\, 43130\, United States
END:VEVENT
BEGIN:VEVENT
DTSTART;TZID=America/New_York:20241113T100000
DTEND;TZID=America/New_York:20241113T130000
DTSTAMP:20260419T091539
CREATED:20241031T122218Z
LAST-MODIFIED:20241031T122218Z
UID:10002016-1731492000-1731502800@www.metroparks.net
SUMMARY:Sandstone Maze Hike
DESCRIPTION:Take a rugged off-trail 4-mile hike to a sandstone maze. Terrain will be steep and uneven\, hiking experience and long pants recommended. Be prepared for significant elevation gain. Wear sturdy hiking shoes and bring water. Meet at the OLD Park Maintenance Shop\, 9935 Opossum Hollow Rd\, Rockbridge. Please note there is not a restroom at this meeting location.
URL:https://www.metroparks.net/event/sandstone-maze-hike-2/2024-11-13/
LOCATION:Clear Creek\, 185 Clear Creek Road\, Lancaster\, OH\, 43130\, United States
ATTACH;FMTTYPE=image/jpeg:https://www.metroparks.net/wp-content/uploads/2017/05/1080p_CLC_hiker-on-Fern-Trail_June_Jennifer-Thorsen.jpg
END:VEVENT
BEGIN:VEVENT
DTSTART;TZID=America/New_York:20241109T100000
DTEND;TZID=America/New_York:20241109T130000
DTSTAMP:20260419T091539
CREATED:20241031T122218Z
LAST-MODIFIED:20241031T122218Z
UID:10002015-1731146400-1731157200@www.metroparks.net
SUMMARY:Sandstone Maze Hike
DESCRIPTION:Take a rugged off-trail 4-mile hike to a sandstone maze. Terrain will be steep and uneven\, hiking experience and long pants recommended. Be prepared for significant elevation gain. Wear sturdy hiking shoes and bring water. Meet at the OLD Park Maintenance Shop\, 9935 Opossum Hollow Rd\, Rockbridge. Please note there is not a restroom at this meeting location.
URL:https://www.metroparks.net/event/sandstone-maze-hike-2/2024-11-09/
LOCATION:Clear Creek\, 185 Clear Creek Road\, Lancaster\, OH\, 43130\, United States
ATTACH;FMTTYPE=image/jpeg:https://www.metroparks.net/wp-content/uploads/2017/05/1080p_CLC_hiker-on-Fern-Trail_June_Jennifer-Thorsen.jpg
END:VEVENT
BEGIN:VEVENT
DTSTART;TZID=America/New_York:20241023T100000
DTEND;TZID=America/New_York:20241023T123000
DTSTAMP:20260419T091539
CREATED:20240926T165910Z
LAST-MODIFIED:20240926T165910Z
UID:10001904-1729677600-1729686600@www.metroparks.net
SUMMARY:Fall Hike
DESCRIPTION:Hike 4-miles through fields and forests to Buzzard’s Roost. Terrain at Clear Creek is rugged and steep\, wear sturdy hiking shoes and bring water. Meet at the Park Office\, 185 Clear Creek Road in Lancaster.
URL:https://www.metroparks.net/event/fall-hike-2/
LOCATION:Clear Creek\, 185 Clear Creek Road\, Lancaster\, OH\, 43130\, United States
END:VEVENT
BEGIN:VEVENT
DTSTART;TZID=America/New_York:20241019T180000
DTEND;TZID=America/New_York:20241019T203000
DTSTAMP:20260419T091539
CREATED:20240926T165704Z
LAST-MODIFIED:20240926T165704Z
UID:10001902-1729360800-1729369800@www.metroparks.net
SUMMARY:Fall Lantern Hike
DESCRIPTION:Experience woodland trails on a guided 5-mile lantern hike. Be prepared for a moderate pace and elevation gain. Terrain at Clear Creek is steep and uneven. Bring a headlamp. Meet at the Creekside Meadows Parking Lot\, 23833 Clear Creek Rd in Rockbridge.
URL:https://www.metroparks.net/event/fall-lantern-hike/
LOCATION:Clear Creek\, 185 Clear Creek Road\, Lancaster\, OH\, 43130\, United States
END:VEVENT
BEGIN:VEVENT
DTSTART;TZID=America/New_York:20241013T140000
DTEND;TZID=America/New_York:20241013T153000
DTSTAMP:20260419T091539
CREATED:20240924T144551Z
LAST-MODIFIED:20240924T144551Z
UID:10001877-1728828000-1728833400@www.metroparks.net
SUMMARY:For Adults 50+: Hike to the Ruins
DESCRIPTION:Hike about 2.5-miles on the Benua and Green Mansions trails to enjoy views of Lake Emily and the Benua House Ruins. The trail is considered moderate. \nMeet at the Park Office at 185 Clear Creek Road\, Lancaster.
URL:https://www.metroparks.net/event/for-adults-50-hike-to-the-ruins/
LOCATION:Clear Creek\, 185 Clear Creek Road\, Lancaster\, OH\, 43130\, United States
ATTACH;FMTTYPE=image/jpeg:https://www.metroparks.net/wp-content/uploads/2024/09/CLC-Green-Mansions-Ruins-JackRockwood-2024-07-19.jpg
END:VEVENT
BEGIN:VEVENT
DTSTART;TZID=America/New_York:20240925T100000
DTEND;TZID=America/New_York:20240925T130000
DTSTAMP:20260419T091539
CREATED:20240827T172449Z
LAST-MODIFIED:20240827T172449Z
UID:10001770-1727258400-1727269200@www.metroparks.net
SUMMARY:Fall Hike
DESCRIPTION:Search for signs of fall on a 4-mile backcountry hike. Terrain at Clear Creek is rugged and steep\, wear sturdy hiking shoes and bring water. Meet at the Park Office\, 185 Clear Creek Road in Lancaster.
URL:https://www.metroparks.net/event/fall-hike/
LOCATION:Clear Creek\, 185 Clear Creek Road\, Lancaster\, OH\, 43130\, United States
ATTACH;FMTTYPE=image/jpeg:https://www.metroparks.net/wp-content/uploads/2014/10/CLC_Lake-Ramona-fall-scene_J-Cagnina.jpg
END:VEVENT
BEGIN:VEVENT
DTSTART;TZID=America/New_York:20240907T100000
DTEND;TZID=America/New_York:20240907T130000
DTSTAMP:20260419T091539
CREATED:20240827T171752Z
LAST-MODIFIED:20240827T171752Z
UID:10001762-1725703200-1725714000@www.metroparks.net
SUMMARY:Winnowing Rock Hike
DESCRIPTION:Take a guided 5-mile backcountry hike to Winnowing Rock. Terrain at Clear Creek is rugged and steep\, wear sturdy hiking shoes and bring water. Meet at the Park Office\, 185 Clear Creek Road in Lancaster.
URL:https://www.metroparks.net/event/winnowing-rock-hike-4/
LOCATION:Clear Creek\, 185 Clear Creek Road\, Lancaster\, OH\, 43130\, United States
END:VEVENT
BEGIN:VEVENT
DTSTART;TZID=America/New_York:20240828T100000
DTEND;TZID=America/New_York:20240828T130000
DTSTAMP:20260419T091539
CREATED:20240729T150810Z
LAST-MODIFIED:20240729T150810Z
UID:10001657-1724839200-1724850000@www.metroparks.net
SUMMARY:Winnowing Rock Hike
DESCRIPTION:Take a guided 5-mile backcountry hike to Winnowing Rock. Terrain at Clear Creek is rugged and steep\, wear sturdy hiking shoes and bring water. Meet at the Park Office\, 185 Clear Creek Road in Lancaster.
URL:https://www.metroparks.net/event/winnowing-rock-hike-3/
LOCATION:Clear Creek\, 185 Clear Creek Road\, Lancaster\, OH\, 43130\, United States
END:VEVENT
BEGIN:VEVENT
DTSTART;TZID=America/New_York:20240821T100000
DTEND;TZID=America/New_York:20240821T123000
DTSTAMP:20260419T091539
CREATED:20240729T145114Z
LAST-MODIFIED:20240729T145114Z
UID:10001640-1724234400-1724243400@www.metroparks.net
SUMMARY:Butterfly Hike
DESCRIPTION:Search for butterflies\, learn about habitat management and monitoring efforts on a 2.5-mile hike with the Naturalist. Meet at the Fern Parking Lot\, 22937 Clear Creek Road in Rockbridge.
URL:https://www.metroparks.net/event/butterfly-hike-2/
LOCATION:Clear Creek\, 185 Clear Creek Road\, Lancaster\, OH\, 43130\, United States
ATTACH;FMTTYPE=image/jpeg:https://www.metroparks.net/wp-content/uploads/2015/01/black-swallowtail-butterfly-on-butterfly-weed_KG.jpg
END:VEVENT
BEGIN:VEVENT
DTSTART;TZID=America/New_York:20240817T193000
DTEND;TZID=America/New_York:20240817T220000
DTSTAMP:20260419T091539
CREATED:20240729T144337Z
LAST-MODIFIED:20240729T144337Z
UID:10001633-1723923000-1723932000@www.metroparks.net
SUMMARY:After Dark In The Park
DESCRIPTION:Experience nature at night! Activities for all ages:\n7:30-8:30: Craft\, face painting & roasting s’mores\n8:30: Self-guided lantern hike\, UV light critter hunt & the amazing world of moths\nMeet at the Barnebey Hambleton area\, 620 Clear Creek Road in Lancaster.
URL:https://www.metroparks.net/event/after-dark-in-the-park-2/
LOCATION:Clear Creek\, 185 Clear Creek Road\, Lancaster\, OH\, 43130\, United States
ATTACH;FMTTYPE=image/jpeg:https://www.metroparks.net/wp-content/uploads/2024/07/CLC-Green-Mansions-Bat-Count-Sunset-JackRockwood-2024-07-19.jpg
END:VEVENT
END:VCALENDAR