BEGIN:VCALENDAR
VERSION:2.0
PRODID:-//Metro Parks - Central Ohio Park System - ECPv6.15.16.1//NONSGML v1.0//EN
CALSCALE:GREGORIAN
METHOD:PUBLISH
X-WR-CALNAME:Metro Parks - Central Ohio Park System
X-ORIGINAL-URL:https://www.metroparks.net
X-WR-CALDESC:Events for Metro Parks - Central Ohio Park System
REFRESH-INTERVAL;VALUE=DURATION:PT1H
X-Robots-Tag:noindex
X-PUBLISHED-TTL:PT1H
BEGIN:VTIMEZONE
TZID:America/New_York
BEGIN:DAYLIGHT
TZOFFSETFROM:-0500
TZOFFSETTO:-0400
TZNAME:EDT
DTSTART:20220313T070000
END:DAYLIGHT
BEGIN:STANDARD
TZOFFSETFROM:-0400
TZOFFSETTO:-0500
TZNAME:EST
DTSTART:20221106T060000
END:STANDARD
BEGIN:DAYLIGHT
TZOFFSETFROM:-0500
TZOFFSETTO:-0400
TZNAME:EDT
DTSTART:20230312T070000
END:DAYLIGHT
BEGIN:STANDARD
TZOFFSETFROM:-0400
TZOFFSETTO:-0500
TZNAME:EST
DTSTART:20231105T060000
END:STANDARD
BEGIN:DAYLIGHT
TZOFFSETFROM:-0500
TZOFFSETTO:-0400
TZNAME:EDT
DTSTART:20240310T070000
END:DAYLIGHT
BEGIN:STANDARD
TZOFFSETFROM:-0400
TZOFFSETTO:-0500
TZNAME:EST
DTSTART:20241103T060000
END:STANDARD
BEGIN:DAYLIGHT
TZOFFSETFROM:-0500
TZOFFSETTO:-0400
TZNAME:EDT
DTSTART:20250309T070000
END:DAYLIGHT
BEGIN:STANDARD
TZOFFSETFROM:-0400
TZOFFSETTO:-0500
TZNAME:EST
DTSTART:20251102T060000
END:STANDARD
BEGIN:DAYLIGHT
TZOFFSETFROM:-0500
TZOFFSETTO:-0400
TZNAME:EDT
DTSTART:20260308T070000
END:DAYLIGHT
BEGIN:STANDARD
TZOFFSETFROM:-0400
TZOFFSETTO:-0500
TZNAME:EST
DTSTART:20261101T060000
END:STANDARD
END:VTIMEZONE
BEGIN:VEVENT
DTSTART;TZID=America/New_York:20250906T130000
DTEND;TZID=America/New_York:20250906T150000
DTSTAMP:20260420T155014
CREATED:20250825T123851Z
LAST-MODIFIED:20250827T185552Z
UID:10003195-1757163600-1757170800@www.metroparks.net
SUMMARY:River Walk to the Giant Sycamore (hike in river)
DESCRIPTION:Walk in the water over rocks and boulders as we hike IN the Olentangy River to reach the famous Giant Sycamore tree. The tree we will be visiting is over 400 years old . This is a rugged 1.5 mile hike with varying water depth (water will be higher than rain boots) up to knee level. Closed toed shoes (water sandals\, old tennis shoes etc) are required. No flip flops. Families are welcome to bring nets or buckets to explore. Not wheelchair or stroller accessible. Participants should expect to get wet and bring towels and change of shoes for the way home. Hint: keeping an extra garbage bag in your car to sit on in case you get more wet than expected. No bathrooms at River Bluff. Age 6+ due to water levels. No registration required. Parking limited. Ages 6+ due to water levels. \nIMPORTANT: River Bluff area does NOT have restrooms or water fountains. Please bring a water bottle. Apply insect repellent before coming to the program. \n***This program is contingent on Olentangy water levels and would be postponed in the event of high water levels. This post will be updated by 12pm on the day of the program. You can also contact the Highbanks nature center after 10am the day of the program (Highbanks Nature center phone number 614-846-9962). \nMeeting location notes: River Bluff area is not located at the main area Highbanks. River Bluff entrance is located off 315 on the opposite side of the river as Highbanks main park. River Bluff Area physical address: 8400 Olentangy River Road\, Columbus OH 43235 Please call Highbanks nature center 614-846-9962 for questions prior to the day of the program. Day of program\, please call Highbanks Ranger cell phone at 614-906-3149.
URL:https://www.metroparks.net/event/river-walk-to-the-giant-sycamore-hike-in-river/
LOCATION:Highbanks River Bluff\, 8400 Olentangy River Rd.\, Columbus\, OH\, 43235\, United States
END:VEVENT
BEGIN:VEVENT
DTSTART;TZID=America/New_York:20250828T100000
DTEND;TZID=America/New_York:20250828T113000
DTSTAMP:20260420T155014
CREATED:20250722T151433Z
LAST-MODIFIED:20250722T151433Z
UID:10003064-1756375200-1756380600@www.metroparks.net
SUMMARY:Adult: River Walk to the Giant Sycamore
DESCRIPTION:Walk in the water over rocks and boulders as we hike in the Olentangy River to reach the famous Giant Sycamore tree. The tree we will be visiting is over 400 years old . This is a 1.5 mile water hike includes varying water depth (water will be higher than rain boots) up to knee level. Hike also includes walking up and down muddy slopes. Closed toed shoes (water sandals\, old tennis shoes etc) are required. No flip flops. Participants should expect to get wet and bring towels and change of shoes for the way home. Hint: keeping an extra garbage bag in your car to sit on in case you get more wet than expected. No registration required. Parking limited. Age 18+ NOTE: CONSTRUCTION ON 315 possible. The ODOT construction project near River Bluff is planned to be complete by 8/17. Please be aware there maybe traffic delays or rerouting. Please plan ahead. https://www.transportation.ohio.gov/projects/projects/108799 \nIMPORTANT: River Bluff area does NOT have restrooms or water fountains. Please bring a water bottle. Apply insect repellent before coming to the program. \n***This program is contingent on Olentangy water levels and would be postponed in the event of high water levels. Program is cancelled in the event of storms or thunder. \nMeeting location notes: River Bluff area is not located at the main area Highbanks. River Bluff entrance is located off 315 on the opposite side of the river as Highbanks main park. River Bluff Area physical address: 8400 Olentangy River Road\, Columbus OH 43235 Please call Highbanks nature center 614-846-9962 for questions prior to the day of the program. Day of program\, please call Highbanks Ranger cell phone at 614-906-3149 for program questions if bad weather expected or recent heavy rains are causing high river levels.
URL:https://www.metroparks.net/event/adult-river-walk-to-the-giant-sycamore/
LOCATION:Highbanks River Bluff\, 8400 Olentangy River Rd.\, Columbus\, OH\, 43235\, United States
END:VEVENT
BEGIN:VEVENT
DTSTART;TZID=America/New_York:20250313T100000
DTEND;TZID=America/New_York:20250313T120000
DTSTAMP:20260420T155014
CREATED:20250221T174611Z
LAST-MODIFIED:20250221T174611Z
UID:10002414-1741860000-1741867200@www.metroparks.net
SUMMARY:Adults: Bird Friendly Forest Hike
DESCRIPTION:Aren’t all forests “bird friendly”? Not really…Take a 1-mile hike with a Highbanks naturalist to learn about the interconnectedness between forest health and bird populations\, and what you can do to help! Please be aware that the River Bluff Area trail is unimproved and can be very muddy depending on weather conditions – come dressed appropriately! Limited supply of binoculars provided. \nMeeting location notes: River Bluff area is not located at the main area Highbanks. River Bluff entrance is located off 315 on the opposite side of the river as Highbanks main park. River Bluff Area physical address: 8400 Olentangy River Road\, Columbus OH 43235 Please call Highbanks nature center 614-846-9962 for questions prior to the day of the program. Day of program\, please call Highbanks Ranger cell phone at 614-906-3149. IMPORTANT: River Bluff area does NOT have restrooms or water fountains. Please bring a water bottle. Apply insect repellent before coming to the program.
URL:https://www.metroparks.net/event/adults-bird-friendly-forest-hike/
LOCATION:Highbanks River Bluff\, 8400 Olentangy River Rd.\, Columbus\, OH\, 43235\, United States
END:VEVENT
BEGIN:VEVENT
DTSTART;TZID=America/New_York:20241220T110000
DTEND;TZID=America/New_York:20241220T123000
DTSTAMP:20260420T155014
CREATED:20241125T144123Z
LAST-MODIFIED:20241125T144123Z
UID:10002110-1734692400-1734697800@www.metroparks.net
SUMMARY:For Adults 50+: Winter at the River Bluff
DESCRIPTION:Search for birds and other wildlife and enjoy a view of the high bluffs along the Olentangy River on this 1-mile easy hike. Bring binoculars if you have them. The trail is unimproved and narrow in some spots and there are no restrooms at this location. \nMeet at the River Bluff Area at 8400 Olentangy River Rd\, Columbus 43235
URL:https://www.metroparks.net/event/for-adults-50-winter-at-the-river-bluff/
LOCATION:Highbanks River Bluff\, 8400 Olentangy River Rd.\, Columbus\, OH\, 43235\, United States
END:VEVENT
BEGIN:VEVENT
DTSTART;TZID=America/New_York:20240907T130000
DTEND;TZID=America/New_York:20240907T143000
DTSTAMP:20260420T155014
CREATED:20240826T162145Z
LAST-MODIFIED:20240826T162157Z
UID:10001722-1725714000-1725719400@www.metroparks.net
SUMMARY:River Walk to the Giant Sycamore (off-trail)
DESCRIPTION:Walk in the water over rocks and boulders as we hike IN the Olentangy River to reach the famous Giant Sycamore tree. The tree we will be visiting is over 400 years old . This is a rugged 1.5 mile hike with varying water depth (water will be higher than rain boots). Closed toed shoes (water sandals\, old tennis shoes etc) are required. No flip flops. Families are welcome to bring nets or buckets to explore. Not wheelchair or stroller accessible. Participants should expect to get wet and bring towels and change of shoes for the way home. Hint: keeping an extra garbage bag in your car to sit on in case you get more wet than expected. \nIMPORTANT: River Bluff area does NOT have restrooms or water fountains. Please bring a water bottle. Apply insect repellant before coming to the program. \n***This program is contingent on Olentangy water levels and would be postponed in the event of high water levels. Tis post will be updated by 12pm on the day of the program. You can also contact the Highbanks nature center after 10am the day of the program (Highbanks Nature center phone number 614-846-9962)\nRiver Bluff Area does NOT have restrooms\, trash cans or water fountains. Please plan accordingly.\nMeeting location notes: River Bluff area is not located at the main area Highbanks. River Bluff entrance is located off 315 on the opposite side of the river as Highbanks main park. River Bluff Area physical address: 8400 Olentangy River Road\, Columbus OH 43235 Please call Highbanks nature center 614-846-9962 for questions prior to the day of the program. Day of program\, please call Highbanks Ranger cell phone at 614-906-3149.
URL:https://www.metroparks.net/event/river-walk-to-the-giant-sycamore-off-trail-2/
LOCATION:Highbanks River Bluff\, 8400 Olentangy River Rd.\, Columbus\, OH\, 43235\, United States
END:VEVENT
BEGIN:VEVENT
DTSTART;TZID=America/New_York:20240818T130000
DTEND;TZID=America/New_York:20240818T150000
DTSTAMP:20260420T155014
CREATED:20240802T174453Z
LAST-MODIFIED:20240802T174453Z
UID:10001674-1723986000-1723993200@www.metroparks.net
SUMMARY:River Walk to the Giant Sycamore (off-trail)
DESCRIPTION:Walk in the water over rocks and boulders as we hike IN the Olentangy River to reach the famous Giant Sycamore tree. The tree we will be visiting is over 400 years old . This is a rugged 1.5 mile hike with varying water depth (water will be higher than rain boots) up to knee level. Closed toed shoes (water sandals\, old tennis shoes etc) are required. No flip flops. Families are welcome to bring nets or buckets to explore. Not wheelchair or stroller accessible. Participants should expect to get wet and bring towels and change of shoes for the way home. Hint: keeping an extra garbage bag in your car to sit on in case you get more wet than expected. Age 6+ due to water levels. No registration required. Parking limited. \nIMPORTANT: River Bluff area does NOT have restrooms or water fountains. Please bring a water bottle. Apply insect repellent before coming to the program. \n***This program is contingent on Olentangy water levels and would be postponed in the event of high water levels. This post will be updated by 12pm on the day of the program. You can also contact the Highbanks nature center after 10am the day of the program (Highbanks Nature center phone number 614-846-9962). \nMeeting location notes: River Bluff area is not located at the main area Highbanks. River Bluff entrance is located off 315 on the opposite side of the river as Highbanks main park. River Bluff Area physical address: 8400 Olentangy River Road\, Columbus OH 43235 Please call Highbanks nature center 614-846-9962 for questions prior to the day of the program. Day of program\, please call Highbanks Ranger cell phone at 614-906-3149.
URL:https://www.metroparks.net/event/river-walk-to-the-giant-sycamore-off-trail/
LOCATION:Highbanks River Bluff\, 8400 Olentangy River Rd.\, Columbus\, OH\, 43235\, United States
END:VEVENT
BEGIN:VEVENT
DTSTART;TZID=America/New_York:20230520T090000
DTEND;TZID=America/New_York:20230520T103000
DTSTAMP:20260420T155014
CREATED:20230515T164602Z
LAST-MODIFIED:20230515T164602Z
UID:10000434-1684573200-1684578600@www.metroparks.net
SUMMARY:Adults: Bird Walk @ River Bluff
DESCRIPTION:Join a naturalist for a mile hike around riverbluff to listen and look for birds. Terrain will be moderate\, but probably muddy. This hike will go on rain or shine\, so dress for conditions\, and prepare for mud. Tick repellant encouraged. Hike will be approx 1.5 hours. Bring binoculars. River Bluff Area does NOT have restrooms\, trash cans or water fountains. Please plan accordingly. \nMeeting location notes: River Bluff area is not located at the main area Highbanks. River Bluff entrance is located off 315 on the opposite side of the river as Highbanks main park. River Bluff Area physical address: 8400 Olentangy River Road\, Columbus OH 43235
URL:https://www.metroparks.net/event/adults-bird-walk-river-bluff/
LOCATION:Highbanks River Bluff\, 8400 Olentangy River Rd.\, Columbus\, OH\, 43235\, United States
END:VEVENT
END:VCALENDAR