BEGIN:VCALENDAR
VERSION:2.0
PRODID:-//Metro Parks - Central Ohio Park System - ECPv6.15.16.1//NONSGML v1.0//EN
CALSCALE:GREGORIAN
METHOD:PUBLISH
X-ORIGINAL-URL:https://www.metroparks.net
X-WR-CALDESC:Events for Metro Parks - Central Ohio Park System
REFRESH-INTERVAL;VALUE=DURATION:PT1H
X-Robots-Tag:noindex
X-PUBLISHED-TTL:PT1H
BEGIN:VTIMEZONE
TZID:America/New_York
BEGIN:DAYLIGHT
TZOFFSETFROM:-0500
TZOFFSETTO:-0400
TZNAME:EDT
DTSTART:20220313T070000
END:DAYLIGHT
BEGIN:STANDARD
TZOFFSETFROM:-0400
TZOFFSETTO:-0500
TZNAME:EST
DTSTART:20221106T060000
END:STANDARD
BEGIN:DAYLIGHT
TZOFFSETFROM:-0500
TZOFFSETTO:-0400
TZNAME:EDT
DTSTART:20230312T070000
END:DAYLIGHT
BEGIN:STANDARD
TZOFFSETFROM:-0400
TZOFFSETTO:-0500
TZNAME:EST
DTSTART:20231105T060000
END:STANDARD
BEGIN:DAYLIGHT
TZOFFSETFROM:-0500
TZOFFSETTO:-0400
TZNAME:EDT
DTSTART:20240310T070000
END:DAYLIGHT
BEGIN:STANDARD
TZOFFSETFROM:-0400
TZOFFSETTO:-0500
TZNAME:EST
DTSTART:20241103T060000
END:STANDARD
BEGIN:DAYLIGHT
TZOFFSETFROM:-0500
TZOFFSETTO:-0400
TZNAME:EDT
DTSTART:20250309T070000
END:DAYLIGHT
BEGIN:STANDARD
TZOFFSETFROM:-0400
TZOFFSETTO:-0500
TZNAME:EST
DTSTART:20251102T060000
END:STANDARD
END:VTIMEZONE
BEGIN:VEVENT
DTSTART;TZID=America/New_York:20240303T130000
DTEND;TZID=America/New_York:20240303T150000
DTSTAMP:20260421T140429
CREATED:20240226T134737Z
LAST-MODIFIED:20240226T134737Z
UID:10001046-1709470800-1709478000@www.metroparks.net
SUMMARY:Spring Scavenger Hunt
DESCRIPTION:The gardens are beginning to wake up! Stop by the Innis House anytime from 1-3pm to grab a scavenger hunt\, explore the gardens for signs of spring\, and earn a small prize.
URL:https://www.metroparks.net/event/spring-scavenger-hunt/
LOCATION:Inniswood Metro Gardens\, 940 S. Hempstead Rd.\, Westerville\, OH\, 43081\, United States
ATTACH;FMTTYPE=image/jpeg:https://www.metroparks.net/wp-content/uploads/2022/07/INN_bench-and-blooms-at-Herb-Garden-Brandon-Bartoszek.jpg
END:VEVENT
BEGIN:VEVENT
DTSTART;TZID=America/New_York:20240210T140000
DTEND;TZID=America/New_York:20240210T150000
DTSTAMP:20260421T140429
CREATED:20240124T140845Z
LAST-MODIFIED:20240124T140845Z
UID:10000984-1707573600-1707577200@www.metroparks.net
SUMMARY:Winter Tree ID for Beginners
DESCRIPTION:Learn how to identify common Ohio trees in the winter using traits like bark\, buds\, and twigs.
URL:https://www.metroparks.net/event/winter-tree-id-for-beginners/
LOCATION:Inniswood Metro Gardens\, 940 S. Hempstead Rd.\, Westerville\, OH\, 43081\, United States
END:VEVENT
BEGIN:VEVENT
DTSTART;TZID=America/New_York:20240121T140000
DTEND;TZID=America/New_York:20240121T150000
DTSTAMP:20260421T140429
CREATED:20231220T203922Z
LAST-MODIFIED:20231220T203922Z
UID:10000827-1705845600-1705849200@www.metroparks.net
SUMMARY:Bird Feeder Bingo
DESCRIPTION:Learn about native birds while playing bird feeder bingo. Watch the feeders to mark your bingo board and earn prizes
URL:https://www.metroparks.net/event/bird-feeder-bingo/
LOCATION:Inniswood Metro Gardens\, 940 S. Hempstead Rd.\, Westerville\, OH\, 43081\, United States
END:VEVENT
BEGIN:VEVENT
DTSTART;TZID=America/New_York:20240113T100000
DTEND;TZID=America/New_York:20240113T120000
DTSTAMP:20260421T140429
CREATED:20231220T203732Z
LAST-MODIFIED:20231220T203732Z
UID:10000824-1705140000-1705147200@www.metroparks.net
SUMMARY:Wild Ones Annual Native Seed Exchange
DESCRIPTION:Join the Columbus Chapter of the Wild Ones for their annual native seed exchange.
URL:https://www.metroparks.net/event/wild-ones-annual-native-seed-exchange/
LOCATION:Inniswood Metro Gardens\, 940 S. Hempstead Rd.\, Westerville\, OH\, 43081\, United States
END:VEVENT
BEGIN:VEVENT
DTSTART;TZID=America/New_York:20240110T190000
DTEND;TZID=America/New_York:20240110T200000
DTSTAMP:20260421T140429
CREATED:20231220T203226Z
LAST-MODIFIED:20231220T203226Z
UID:10000819-1704913200-1704916800@www.metroparks.net
SUMMARY:Home Canning and Preserving
DESCRIPTION:Join Jeannie Seabrook of Glass Rooster Cannery as she presents five methods of home preservation. Sponsored by the Herb Society of Ohio\, Central Ohio Unit.
URL:https://www.metroparks.net/event/home-canning-and-preserving/
LOCATION:Inniswood Metro Gardens\, 940 S. Hempstead Rd.\, Westerville\, OH\, 43081\, United States
END:VEVENT
BEGIN:VEVENT
DTSTART;TZID=America/New_York:20240106T100000
DTEND;TZID=America/New_York:20240106T110000
DTSTAMP:20260421T140429
CREATED:20231220T202831Z
LAST-MODIFIED:20231220T202831Z
UID:10000816-1704535200-1704538800@www.metroparks.net
SUMMARY:New Year's Healthy Hike
DESCRIPTION:Enjoy some fresh air and garden sights on a brisk walk
URL:https://www.metroparks.net/event/new-years-healthy-hike/
LOCATION:Inniswood Metro Gardens\, 940 S. Hempstead Rd.\, Westerville\, OH\, 43081\, United States
END:VEVENT
BEGIN:VEVENT
DTSTART;TZID=America/New_York:20231221T153000
DTEND;TZID=America/New_York:20231221T170000
DTSTAMP:20260421T140429
CREATED:20231120T143813Z
LAST-MODIFIED:20231120T143813Z
UID:10000765-1703172600-1703178000@www.metroparks.net
SUMMARY:For Adults 50+: The Gardens in Winter
DESCRIPTION:Meander along the nature trails on a 1.5-mile walk. The trails are considered easy. Stay after the program to enjoy the winter lights. \nMeet at the Gardens Entrance
URL:https://www.metroparks.net/event/for-adults-50-the-gardens-in-winter/
LOCATION:Inniswood Metro Gardens\, 940 S. Hempstead Rd.\, Westerville\, OH\, 43081\, United States
END:VEVENT
BEGIN:VEVENT
DTSTART;TZID=America/New_York:20231217T163000
DTEND;TZID=America/New_York:20231217T173000
DTSTAMP:20260421T140429
CREATED:20231120T143103Z
LAST-MODIFIED:20231120T143103Z
UID:10000763-1702830600-1702834200@www.metroparks.net
SUMMARY:Winter Hike
DESCRIPTION:Enjoy a guided\, seasonal stroll as the sun sets over the gardens. The walk will conclude as the gardens are being illuminated with Inniswood’s light display.
URL:https://www.metroparks.net/event/winter-hike/
LOCATION:Inniswood Metro Gardens\, 940 S. Hempstead Rd.\, Westerville\, OH\, 43081\, United States
END:VEVENT
BEGIN:VEVENT
DTSTART;TZID=America/New_York:20231216T090000
DTEND;TZID=America/New_York:20231216T120000
DTSTAMP:20260421T140429
CREATED:20231120T142911Z
LAST-MODIFIED:20231120T142911Z
UID:10000761-1702717200-1702728000@www.metroparks.net
SUMMARY:Christmas Bird Count
DESCRIPTION:Join us as we walk 2+ miles counting all the birds as part of the nation’s longest running community science bird project. Binoculars provided or bring your own.
URL:https://www.metroparks.net/event/christmas-bird-count/
LOCATION:Inniswood Metro Gardens\, 940 S. Hempstead Rd.\, Westerville\, OH\, 43081\, United States
END:VEVENT
BEGIN:VEVENT
DTSTART;TZID=America/New_York:20231210T173000
DTEND;TZID=America/New_York:20231210T190000
DTSTAMP:20260421T140429
CREATED:20231120T142210Z
LAST-MODIFIED:20231120T142411Z
UID:10000756-1702229400-1702234800@www.metroparks.net
SUMMARY:Light Up Your Night
DESCRIPTION:Stroll on your own through an illuminated Inniswood. Stop at the Gardens Entrance to try an activity to add to the fun.
URL:https://www.metroparks.net/event/light-up-your-night/2023-12-10/
LOCATION:Inniswood Metro Gardens\, 940 S. Hempstead Rd.\, Westerville\, OH\, 43081\, United States
ATTACH;FMTTYPE=image/jpeg:https://www.metroparks.net/wp-content/uploads/2023/11/INS_EntranceHolidayLights_LizChristian-2.jpg
END:VEVENT
BEGIN:VEVENT
DTSTART;TZID=America/New_York:20231209T173000
DTEND;TZID=America/New_York:20231209T190000
DTSTAMP:20260421T140429
CREATED:20231120T142210Z
LAST-MODIFIED:20231120T142411Z
UID:10000755-1702143000-1702148400@www.metroparks.net
SUMMARY:Light Up Your Night
DESCRIPTION:Stroll on your own through an illuminated Inniswood. Stop at the Gardens Entrance to try an activity to add to the fun.
URL:https://www.metroparks.net/event/light-up-your-night/2023-12-09/
LOCATION:Inniswood Metro Gardens\, 940 S. Hempstead Rd.\, Westerville\, OH\, 43081\, United States
ATTACH;FMTTYPE=image/jpeg:https://www.metroparks.net/wp-content/uploads/2023/11/INS_EntranceHolidayLights_LizChristian-2.jpg
END:VEVENT
BEGIN:VEVENT
DTSTART;TZID=America/New_York:20231126T140000
DTEND;TZID=America/New_York:20231126T160000
DTSTAMP:20260421T140429
CREATED:20231027T174558Z
LAST-MODIFIED:20231027T174558Z
UID:10000707-1701007200-1701014400@www.metroparks.net
SUMMARY:Greeting Card Workshop
DESCRIPTION:Join us for a relaxing afternoon making greeting cards for the holidays or any occasion. Supplies will be provided.
URL:https://www.metroparks.net/event/greeting-card-workshop/
LOCATION:Inniswood Metro Gardens\, 940 S. Hempstead Rd.\, Westerville\, OH\, 43081\, United States
END:VEVENT
BEGIN:VEVENT
DTSTART;TZID=America/New_York:20231124T130000
DTEND;TZID=America/New_York:20231124T140000
DTSTAMP:20260421T140429
CREATED:20231027T174448Z
LAST-MODIFIED:20231027T174609Z
UID:10000706-1700830800-1700834400@www.metroparks.net
SUMMARY:Day Off School: Warm for Winter
DESCRIPTION:Learn the awesome adaptations our wildlife have to be able to spend their winter months outside.
URL:https://www.metroparks.net/event/day-off-school-warm-for-winter/2023-11-24/2/
LOCATION:Inniswood Metro Gardens\, 940 S. Hempstead Rd.\, Westerville\, OH\, 43081\, United States
END:VEVENT
BEGIN:VEVENT
DTSTART;TZID=America/New_York:20231124T100000
DTEND;TZID=America/New_York:20231124T110000
DTSTAMP:20260421T140429
CREATED:20231027T174448Z
LAST-MODIFIED:20231027T174609Z
UID:10000705-1700820000-1700823600@www.metroparks.net
SUMMARY:Day Off School: Warm for Winter
DESCRIPTION:Learn the awesome adaptations our wildlife have to be able to spend their winter months outside.
URL:https://www.metroparks.net/event/day-off-school-warm-for-winter/2023-11-24/1/
LOCATION:Inniswood Metro Gardens\, 940 S. Hempstead Rd.\, Westerville\, OH\, 43081\, United States
END:VEVENT
BEGIN:VEVENT
DTSTART;TZID=America/New_York:20231119T140000
DTEND;TZID=America/New_York:20231119T160000
DTSTAMP:20260421T140429
CREATED:20231027T174318Z
LAST-MODIFIED:20231027T174318Z
UID:10000704-1700402400-1700409600@www.metroparks.net
SUMMARY:Family Craft Workshop
DESCRIPTION:Join us for an afternoon of crafting and gift-making. All supplies provided. Bring a bag to take items home.
URL:https://www.metroparks.net/event/family-craft-workshop/
LOCATION:Inniswood Metro Gardens\, 940 S. Hempstead Rd.\, Westerville\, OH\, 43081\, United States
END:VEVENT
BEGIN:VEVENT
DTSTART;TZID=America/New_York:20231108T190000
DTEND;TZID=America/New_York:20231108T210000
DTSTAMP:20260421T140429
CREATED:20231027T174242Z
LAST-MODIFIED:20231027T174242Z
UID:10000703-1699470000-1699477200@www.metroparks.net
SUMMARY:Recipes for the Holidays
DESCRIPTION:Join culinary artist\, Jan Kish\, for a demonstration and how-to presentation to wow your guests at your next holiday gathering. Sponsored by the Herb Society of America\, Central Ohio Unit
URL:https://www.metroparks.net/event/recipes-for-the-holidays/
LOCATION:Inniswood Metro Gardens\, 940 S. Hempstead Rd.\, Westerville\, OH\, 43081\, United States
END:VEVENT
BEGIN:VEVENT
DTSTART;TZID=America/New_York:20231029T140000
DTEND;TZID=America/New_York:20231029T160000
DTSTAMP:20260421T140429
CREATED:20230925T180946Z
LAST-MODIFIED:20230929T190201Z
UID:10000657-1698588000-1698595200@www.metroparks.net
SUMMARY:Halloween Party
DESCRIPTION:Help us celebrate the fun fall holiday with crafting\, activities\, pumpkins and live animals from the Ohio Wildlife Center. Costumes encouraged.
URL:https://www.metroparks.net/event/halloween-party/
LOCATION:Inniswood Metro Gardens\, 940 S. Hempstead Rd.\, Westerville\, OH\, 43081\, United States
ATTACH;FMTTYPE=image/png:https://www.metroparks.net/wp-content/uploads/2023/09/Halloween-2023-1.png
END:VEVENT
BEGIN:VEVENT
DTSTART;TZID=America/New_York:20231013T180000
DTEND;TZID=America/New_York:20231013T190000
DTSTAMP:20260421T140429
CREATED:20230925T175210Z
LAST-MODIFIED:20230925T175210Z
UID:10000644-1697220000-1697223600@www.metroparks.net
SUMMARY:Spooky Fireside Chat
DESCRIPTION:Enjoy spooky stories and some Inniswood history around a campfire.
URL:https://www.metroparks.net/event/spooky-fireside-chat/
LOCATION:Inniswood Metro Gardens\, 940 S. Hempstead Rd.\, Westerville\, OH\, 43081\, United States
END:VEVENT
BEGIN:VEVENT
DTSTART;TZID=America/New_York:20230924T140000
DTEND;TZID=America/New_York:20230924T160000
DTSTAMP:20260421T140429
CREATED:20230912T123001Z
LAST-MODIFIED:20230912T123001Z
UID:10000621-1695564000-1695571200@www.metroparks.net
SUMMARY:Terrific Native Trees
DESCRIPTION:Join us on a walk as we discuss the identifying features and value of Ohio’s native trees.
URL:https://www.metroparks.net/event/terrific-native-trees/
LOCATION:Inniswood Metro Gardens\, 940 S. Hempstead Rd.\, Westerville\, OH\, 43081\, United States
END:VEVENT
BEGIN:VEVENT
DTSTART;TZID=America/New_York:20230828T140000
DTEND;TZID=America/New_York:20230828T150000
DTSTAMP:20260421T140429
CREATED:20230823T153135Z
LAST-MODIFIED:20230823T153135Z
UID:10000594-1693231200-1693234800@www.metroparks.net
SUMMARY:Introductory Tai Chi
DESCRIPTION:Join instructor Midge Krause for an introductory tai chi class.
URL:https://www.metroparks.net/event/introductory-tai-chi/
LOCATION:Inniswood Metro Gardens\, 940 S. Hempstead Rd.\, Westerville\, OH\, 43081\, United States
END:VEVENT
BEGIN:VEVENT
DTSTART;TZID=America/New_York:20230827T170000
DTEND;TZID=America/New_York:20230827T190000
DTSTAMP:20260421T140429
CREATED:20230801T183411Z
LAST-MODIFIED:20230807T155410Z
UID:10000535-1693155600-1693162800@www.metroparks.net
SUMMARY:Music in the Gardens: High Street Stompers
DESCRIPTION:Join this Dixieland band for a fun\, foot stomping concert. Seating is limited. Feel free to bring a blanket or chair.
URL:https://www.metroparks.net/event/music-in-the-gardens-high-street-stompers/
LOCATION:Inniswood Metro Gardens\, 940 S. Hempstead Rd.\, Westerville\, OH\, 43081\, United States
END:VEVENT
BEGIN:VEVENT
DTSTART;TZID=America/New_York:20230625T170000
DTEND;TZID=America/New_York:20230625T190000
DTSTAMP:20260421T140429
CREATED:20230622T124157Z
LAST-MODIFIED:20230622T124157Z
UID:10000483-1687712400-1687719600@www.metroparks.net
SUMMARY:Music in the Gardens: Muleskinner Duo
DESCRIPTION:Join us for a relaxing evening of bluegrass music with Bill Purk and Kenny Hanuska. These skilled musicians play bluegrass tunes from the 1950s through today. Seating is limited so feel free to bring a lawn chair.
URL:https://www.metroparks.net/event/music-in-the-gardens-muleskinner-duo/
LOCATION:Inniswood Metro Gardens\, 940 S. Hempstead Rd.\, Westerville\, OH\, 43081\, United States
END:VEVENT
BEGIN:VEVENT
DTSTART;TZID=America/New_York:20230604T183000
DTEND;TZID=America/New_York:20230604T203000
DTSTAMP:20260421T140429
CREATED:20230530T131200Z
LAST-MODIFIED:20230530T131200Z
UID:10000462-1685903400-1685910600@www.metroparks.net
SUMMARY:For Adults 50+: An Evening In The Gardens
DESCRIPTION:Join us for guided tours of the gardens and an opportunity to plant and take home a plant for your own garden.\nMeet at the Gardens Entrance.
URL:https://www.metroparks.net/event/for-adults-50-an-evening-in-the-gardens/
LOCATION:Inniswood Metro Gardens\, 940 S. Hempstead Rd.\, Westerville\, OH\, 43081\, United States
END:VEVENT
BEGIN:VEVENT
DTSTART;TZID=America/New_York:20230507T143000
DTEND;TZID=America/New_York:20230507T153000
DTSTAMP:20260421T140429
CREATED:20230501T145702Z
LAST-MODIFIED:20230501T145702Z
UID:10000421-1683469800-1683473400@www.metroparks.net
SUMMARY:Wildflower Walk
DESCRIPTION:Join us for a stroll on our half-mile Boardwalk Trail as we learn to identify spring wildflowers.
URL:https://www.metroparks.net/event/wildflower-walk/
LOCATION:Inniswood Metro Gardens\, 940 S. Hempstead Rd.\, Westerville\, OH\, 43081\, United States
END:VEVENT
END:VCALENDAR