BEGIN:VCALENDAR
VERSION:2.0
PRODID:-//Metro Parks - Central Ohio Park System - ECPv6.15.16.1//NONSGML v1.0//EN
CALSCALE:GREGORIAN
METHOD:PUBLISH
X-ORIGINAL-URL:https://www.metroparks.net
X-WR-CALDESC:Events for Metro Parks - Central Ohio Park System
REFRESH-INTERVAL;VALUE=DURATION:PT1H
X-Robots-Tag:noindex
X-PUBLISHED-TTL:PT1H
BEGIN:VTIMEZONE
TZID:America/New_York
BEGIN:DAYLIGHT
TZOFFSETFROM:-0500
TZOFFSETTO:-0400
TZNAME:EDT
DTSTART:20230312T070000
END:DAYLIGHT
BEGIN:STANDARD
TZOFFSETFROM:-0400
TZOFFSETTO:-0500
TZNAME:EST
DTSTART:20231105T060000
END:STANDARD
BEGIN:DAYLIGHT
TZOFFSETFROM:-0500
TZOFFSETTO:-0400
TZNAME:EDT
DTSTART:20240310T070000
END:DAYLIGHT
BEGIN:STANDARD
TZOFFSETFROM:-0400
TZOFFSETTO:-0500
TZNAME:EST
DTSTART:20241103T060000
END:STANDARD
BEGIN:DAYLIGHT
TZOFFSETFROM:-0500
TZOFFSETTO:-0400
TZNAME:EDT
DTSTART:20250309T070000
END:DAYLIGHT
BEGIN:STANDARD
TZOFFSETFROM:-0400
TZOFFSETTO:-0500
TZNAME:EST
DTSTART:20251102T060000
END:STANDARD
BEGIN:DAYLIGHT
TZOFFSETFROM:-0500
TZOFFSETTO:-0400
TZNAME:EDT
DTSTART:20260308T070000
END:DAYLIGHT
BEGIN:STANDARD
TZOFFSETFROM:-0400
TZOFFSETTO:-0500
TZNAME:EST
DTSTART:20261101T060000
END:STANDARD
END:VTIMEZONE
BEGIN:VEVENT
DTSTART;TZID=America/New_York:20250527T160000
DTEND;TZID=America/New_York:20250527T170000
DTSTAMP:20260419T160052
CREATED:20250429T130658Z
LAST-MODIFIED:20250429T130658Z
UID:10002702-1748361600-1748365200@www.metroparks.net
SUMMARY:50+ Hike around the Lakes
DESCRIPTION:Enjoy a leisurely stroll around the lakes at Darby Bend Lakes\, Prairie Oaks Metro Park! We will be hiking approx. 2-miles on this beginner friendly hike! Trail is gravel\, and mostly flat. 2755 Amity Rd\, Hilliard OH.
URL:https://www.metroparks.net/event/50-hike-around-the-lakes/
LOCATION:Prairie Oaks\, 3225 Plain City-Georgesville Road\, West Jefferson\, OH\, 43162\, United States
END:VEVENT
BEGIN:VEVENT
DTSTART;TZID=America/New_York:20250526T110000
DTEND;TZID=America/New_York:20250526T150000
DTSTAMP:20260419T160052
CREATED:20250429T130736Z
LAST-MODIFIED:20250429T130736Z
UID:10002703-1748257200-1748271600@www.metroparks.net
SUMMARY:Memorial Day - Paddle the Lake
DESCRIPTION:Join us in celebrating Memorial Day at Prairie Oaks Metro Park\, Darby Bend Lakes! We will be paddling around the lake\, and we will have equipment for all ages!! Tandem kayaks and canoes are available for all ages with an adult. Solo sit-in kayaks and Standup Paddle Boards for ages 10+. FREE and fun!\n2755 Amity Rd\, Hilliard OH
URL:https://www.metroparks.net/event/memorial-day-paddle-the-lake/
LOCATION:Prairie Oaks\, 3225 Plain City-Georgesville Road\, West Jefferson\, OH\, 43162\, United States
END:VEVENT
BEGIN:VEVENT
DTSTART;TZID=America/New_York:20250510T120000
DTEND;TZID=America/New_York:20250510T150000
DTSTAMP:20260419T160052
CREATED:20250425T125427Z
LAST-MODIFIED:20250425T125427Z
UID:10002661-1746878400-1746889200@www.metroparks.net
SUMMARY:Archery Fest!
DESCRIPTION:Hear ye! Hear ye! Calling all archers! The King and Queen have called for a competition of their finest archers to compete in an archery competition on May 10th from 12pm-3pm at Prairie Oaks Metro Parks\, Darby Bend Lakes! Enjoy a fun and free Archery Fest\, with activities for all ages. Food trucks will be available. Use address: 2755 Amity Rd\, Hilliard OH.\nActivities include:\n– Try It! Archery\n– Archery Tournament (register at the event)\n– Try it! Archery\n– Knighting ceremonies\n– Plastic Axe Throwing\n– Atlatl\n– DIY Activities (Flower crowns\, arrow quivers\, and more!)
URL:https://www.metroparks.net/event/archery-fest-2/
LOCATION:Prairie Oaks\, 3225 Plain City-Georgesville Road\, West Jefferson\, OH\, 43162\, United States
ATTACH;FMTTYPE=image/jpeg:https://www.metroparks.net/wp-content/uploads/2025/04/491815145_1160537982773067_5314333651342633486_n.jpg
END:VEVENT
BEGIN:VEVENT
DTSTART;TZID=America/New_York:20250502T110000
DTEND;TZID=America/New_York:20250502T140000
DTSTAMP:20260419T160052
CREATED:20250425T124333Z
LAST-MODIFIED:20250425T124333Z
UID:10002654-1746183600-1746194400@www.metroparks.net
SUMMARY:For Adults 50+: Outdoor Adventure Day
DESCRIPTION:Bring lunch and something to drink and join us for a fun-filled day of archery\, kayaking and stand up paddleboarding. All equipment is provided. \nMeet at Darby Bend Lakes at the first shelter on your right at 2755 Amity Rd.\, Hilliard
URL:https://www.metroparks.net/event/for-adults-50-outdoor-adventure-day-3/
LOCATION:Prairie Oaks\, 3225 Plain City-Georgesville Road\, West Jefferson\, OH\, 43162\, United States
END:VEVENT
BEGIN:VEVENT
DTSTART;TZID=America/New_York:20250312T100000
DTEND;TZID=America/New_York:20250312T110000
DTSTAMP:20260419T160052
CREATED:20250228T163345Z
LAST-MODIFIED:20250228T163345Z
UID:10002479-1741773600-1741777200@www.metroparks.net
SUMMARY:For Adults 50+: Lake Hike
DESCRIPTION:Enjoy a hike around the lake at Prairie Oaks Metro Park! We will meet at the Lake 3 parking lot at Darby Bend Lakes. Our hike will be approx. 2-miles. Use address 2755 Amity Rd\, Hilliard OH.
URL:https://www.metroparks.net/event/for-adults-50-lake-hike/
LOCATION:Prairie Oaks\, 3225 Plain City-Georgesville Road\, West Jefferson\, OH\, 43162\, United States
END:VEVENT
BEGIN:VEVENT
DTSTART;TZID=America/New_York:20250214T100000
DTEND;TZID=America/New_York:20250214T110000
DTSTAMP:20260419T160052
CREATED:20250128T145755Z
LAST-MODIFIED:20250128T145755Z
UID:10002330-1739527200-1739530800@www.metroparks.net
SUMMARY:Morning Lake Hike!
DESCRIPTION:Enjoy the beauty of the lakes in the morning sunlight\, as we hike around Prairie Oaks Metro Park. We will hike approx. 2-miles on easy to moderate trails. Meet at the Lake 3 parking lot (near the restroom) at Darby Bend Lakes\, 2755 Amity Rd.
URL:https://www.metroparks.net/event/morning-lake-hike/
LOCATION:Prairie Oaks\, 3225 Plain City-Georgesville Road\, West Jefferson\, OH\, 43162\, United States
END:VEVENT
BEGIN:VEVENT
DTSTART;TZID=America/New_York:20250207T130000
DTEND;TZID=America/New_York:20250207T140000
DTSTAMP:20260419T160052
CREATED:20250128T145714Z
LAST-MODIFIED:20250128T145714Z
UID:10002329-1738933200-1738936800@www.metroparks.net
SUMMARY:Scavenger Hunt
DESCRIPTION:Enjoy a Scavenger Hunt throughout the Prairie View Picnic Area and earn a prize at the end! Meet at Prairie Oakes Metro Park\, 3225 Plain City-Georgesville Rd\, West Jefferson.
URL:https://www.metroparks.net/event/scavenger-hunt-4/
LOCATION:Prairie Oaks\, 3225 Plain City-Georgesville Road\, West Jefferson\, OH\, 43162\, United States
END:VEVENT
BEGIN:VEVENT
DTSTART;TZID=America/New_York:20250122T100000
DTEND;TZID=America/New_York:20250122T110000
DTSTAMP:20260419T160052
CREATED:20241231T141840Z
LAST-MODIFIED:20241231T141840Z
UID:10002247-1737540000-1737543600@www.metroparks.net
SUMMARY:Cardio Hike
DESCRIPTION:Join us in brining in the New Year at this fast-paced Cardio Hike at Prairie Oaks Metro Park! Meet at Darby Bend Lakes\, Lake 1 parking lot. Use address 2755 Amity Rd\, Hilliard.
URL:https://www.metroparks.net/event/cardio-hike-3/
LOCATION:Prairie Oaks\, 3225 Plain City-Georgesville Road\, West Jefferson\, OH\, 43162\, United States
END:VEVENT
BEGIN:VEVENT
DTSTART;TZID=America/New_York:20250104T133000
DTEND;TZID=America/New_York:20250104T150000
DTSTAMP:20260419T160052
CREATED:20241219T142852Z
LAST-MODIFIED:20241219T142852Z
UID:10002159-1735997400-1736002800@www.metroparks.net
SUMMARY:For Adults 50+: Winter Along The Big Darby
DESCRIPTION:Take an easy to moderate 2-mile walk along Big Darby Creek as we enjoy the sights and sounds of the coldest season. \nMeet at the Sycamore Plains Area at 2009 Amity Rd.\, Hilliard.
URL:https://www.metroparks.net/event/for-adults-50-winter-along-the-big-darby/
LOCATION:Prairie Oaks\, 3225 Plain City-Georgesville Road\, West Jefferson\, OH\, 43162\, United States
END:VEVENT
BEGIN:VEVENT
DTSTART;TZID=America/New_York:20250104T100000
DTEND;TZID=America/New_York:20250104T130000
DTSTAMP:20260419T160052
CREATED:20241023T151543Z
LAST-MODIFIED:20241023T151619Z
UID:10001946-1735984800-1735995600@www.metroparks.net
SUMMARY:Prairie Oaks Winter Hike
DESCRIPTION:Gather your friends and family for a hike on any trail at Prairie Oaks Metro Park. Refreshments and a treat will be served between 10am and 1pm in the Darby Bend Lakes area. \nLearn more about winter hikes by clicking here.
URL:https://www.metroparks.net/event/prairie-oaks-winter-hike-2/
LOCATION:Prairie Oaks\, 3225 Plain City-Georgesville Road\, West Jefferson\, OH\, 43162\, United States
ATTACH;FMTTYPE=image/png:https://www.metroparks.net/wp-content/uploads/2024/10/20.png
END:VEVENT
BEGIN:VEVENT
DTSTART;TZID=America/New_York:20241117T100000
DTEND;TZID=America/New_York:20241117T110000
DTSTAMP:20260419T160052
CREATED:20241029T141444Z
LAST-MODIFIED:20241029T141444Z
UID:10001998-1731837600-1731841200@www.metroparks.net
SUMMARY:Take a Hike!
DESCRIPTION:Celebrate Take a Hike day by taking a hike with Metro Parks Outdoor Adventure!!! Join us on this approx. 2-mile hike around the beautiful Darby Bend Lakes at Prairie Oaks Metro Park! Use address 2755 Amity Rd\, Hilliard. Meet at the Lake 1 parking lot.
URL:https://www.metroparks.net/event/take-a-hike/
LOCATION:Prairie Oaks\, 3225 Plain City-Georgesville Road\, West Jefferson\, OH\, 43162\, United States
ATTACH;FMTTYPE=image/jpeg:https://www.metroparks.net/wp-content/uploads/2024/10/IMG_3947.jpeg
END:VEVENT
BEGIN:VEVENT
DTSTART;TZID=America/New_York:20241027T080000
DTEND;TZID=America/New_York:20241027T090000
DTSTAMP:20260419T160052
CREATED:20240926T165032Z
LAST-MODIFIED:20240926T165032Z
UID:10001896-1730016000-1730019600@www.metroparks.net
SUMMARY:Sunrise Hike
DESCRIPTION:Enjoy a beautiful sunrise over Darby Bend Lakes at Prairie Oaks Metro Park! Meet at the Lake 1 shelter house\, and enjoy an approx. 2-mile hike around the lakes. 2755 Amity Rd\, Hilliard.
URL:https://www.metroparks.net/event/sunrise-hike-2/
LOCATION:Prairie Oaks\, 3225 Plain City-Georgesville Road\, West Jefferson\, OH\, 43162\, United States
ATTACH;FMTTYPE=image/jpeg:https://www.metroparks.net/wp-content/uploads/2015/01/PRO_sunrise-and-mist-at-DBL_Dawn-Archey.jpg
END:VEVENT
BEGIN:VEVENT
DTSTART;TZID=America/New_York:20241014T180000
DTEND;TZID=America/New_York:20241014T190000
DTSTAMP:20260419T160052
CREATED:20240926T164338Z
LAST-MODIFIED:20240926T164338Z
UID:10001888-1728928800-1728932400@www.metroparks.net
SUMMARY:Evening Run
DESCRIPTION:Join us for a staff led run on the trails at Prairie Oaks Metro Park! This will be a self paced run\, so feel free to keep up at whatever speed is most comfortable\, geared towards all types of runners\, from beginners to advanced\, all are welcome! Meet at Darby Bend Lakes\, Lake 1 Shelter House. 2755 Amity Rd\, Hilliard\, OH 43026
URL:https://www.metroparks.net/event/evening-run/
LOCATION:Prairie Oaks\, 3225 Plain City-Georgesville Road\, West Jefferson\, OH\, 43162\, United States
END:VEVENT
BEGIN:VEVENT
DTSTART;TZID=America/New_York:20241013T180000
DTEND;TZID=America/New_York:20241013T190000
DTSTAMP:20260419T160052
CREATED:20240919T143958Z
LAST-MODIFIED:20240919T143958Z
UID:10001832-1728842400-1728846000@www.metroparks.net
SUMMARY:Prairie Oaks Sunset Stroll
DESCRIPTION:Join a Naturalist on a 1-mile interpretive hike at sunset. NOTE: This program will be held at Prairie Oaks Darby Bend Lakes\, 2755 Amity Road.
URL:https://www.metroparks.net/event/prairie-oaks-sunset-stroll/
LOCATION:Prairie Oaks\, 3225 Plain City-Georgesville Road\, West Jefferson\, OH\, 43162\, United States
ATTACH;FMTTYPE=image/jpeg:https://www.metroparks.net/wp-content/uploads/2014/10/feature-PRO.jpg
END:VEVENT
BEGIN:VEVENT
DTSTART;TZID=America/New_York:20241001T180000
DTEND;TZID=America/New_York:20241001T190000
DTSTAMP:20260419T160052
CREATED:20240926T163733Z
LAST-MODIFIED:20240926T163733Z
UID:10001881-1727805600-1727809200@www.metroparks.net
SUMMARY:Fall Foliage Hike
DESCRIPTION:Join us for a lovely fall hike through the trails at Prairie Oaks Metro Park! Enjoy the start of central Ohio’s fall foliage. Meet at Darby Bend Lakes\, Lake 1 Shelter House\, the group will go as far as they can within the hour
URL:https://www.metroparks.net/event/fall-foliage-hike-3/
LOCATION:Prairie Oaks\, 3225 Plain City-Georgesville Road\, West Jefferson\, OH\, 43162\, United States
ATTACH;FMTTYPE=image/jpeg:https://www.metroparks.net/wp-content/uploads/2016/10/PRO_22x9_early-fall-color-on-creek_M-Fetherolf.jpg
END:VEVENT
BEGIN:VEVENT
DTSTART;TZID=America/New_York:20240908T110000
DTEND;TZID=America/New_York:20240908T150000
DTSTAMP:20260419T160052
CREATED:20240809T163830Z
LAST-MODIFIED:20240809T163831Z
UID:10001700-1725793200-1725807600@www.metroparks.net
SUMMARY:Outdoor Inclusive Adventures
DESCRIPTION:We’re teaming up with Central Ohio YMCA to bring you a day packed with fun and inclusive activities for everyone! Whether you’re a child\, teen\, or young adult\, all abilities are welcome to join us at Prairie Oaks Metro Park (Darby Bend Lake) on September 8th from 11 am-3 pm for outdoor adventures\, exciting physical activities\, and the chance to connect with new friends.\n\n\nDon’t miss out—Register here: https://OIA2024.eventbrite.com\n\n\nLocation: Darby Bend Lakes at Prairie Oaks Metro Park\n2755 Amity Rd.\, Hilliard\, OH 43026
URL:https://www.metroparks.net/event/outdoor-inclusive-adventures/
LOCATION:Prairie Oaks\, 3225 Plain City-Georgesville Road\, West Jefferson\, OH\, 43162\, United States
ATTACH;FMTTYPE=image/png:https://www.metroparks.net/wp-content/uploads/2024/08/2024-OIA-Flyer.png
END:VEVENT
BEGIN:VEVENT
DTSTART;TZID=America/New_York:20240902T110000
DTEND;TZID=America/New_York:20240902T150000
DTSTAMP:20260419T160052
CREATED:20240830T131604Z
LAST-MODIFIED:20240830T131604Z
UID:10001792-1725274800-1725289200@www.metroparks.net
SUMMARY:Labor Day Canoe and Kayak the Lake
DESCRIPTION:Enjoy the Labor Day holiday from a kayak or canoe!! Fun and Free! First come/first serve. Equipment and instruction are provided. Canoes and tandem kayaks are open to all ages with an adult. Solo\, sit in kayaks for ages 10+\, max weight of 275Ibs. 2755 Amity Rd\, Hilliard\, OH.
URL:https://www.metroparks.net/event/labor-day-canoe-and-kayak-the-lake/
LOCATION:Prairie Oaks\, 3225 Plain City-Georgesville Road\, West Jefferson\, OH\, 43162\, United States
ATTACH;FMTTYPE=image/png:https://www.metroparks.net/wp-content/uploads/2017/09/1080p_Outdoor-Adaptive-Adventures_PRO_canoeists-on-lake_Bryan-Knowles.png
END:VEVENT
BEGIN:VEVENT
DTSTART;TZID=America/New_York:20240829T190000
DTEND;TZID=America/New_York:20240829T200000
DTSTAMP:20260419T160052
CREATED:20240802T180623Z
LAST-MODIFIED:20240802T180623Z
UID:10001695-1724958000-1724961600@www.metroparks.net
SUMMARY:Sunset SUP and S’mores
DESCRIPTION:Come out and enjoy the sunset on a Stand Up Paddle Board and enjoy a little sweet treat! SUPs are for ages 10+\, both inflatable and hard paddle bards will be available to use\, first come first served!\nFree instruction\, equipment\, and life jackets provided\nMeet at Lake 1 at Darby Bend Lakes (Prairie Oaks Metro Park)\n2755 Amity Rd\, Hilliard\, OH 43026
URL:https://www.metroparks.net/event/sunset-sup-and-smores-3/2024-08-29/
LOCATION:Prairie Oaks\, 3225 Plain City-Georgesville Road\, West Jefferson\, OH\, 43162\, United States
ATTACH;FMTTYPE=image/jpeg:https://www.metroparks.net/wp-content/uploads/2023/05/BDC_sunset-at-wetlands_Jan_John-Nixon-scaled-e1683139103259.jpg
END:VEVENT
BEGIN:VEVENT
DTSTART;TZID=America/New_York:20240824T100000
DTEND;TZID=America/New_York:20240824T160000
DTSTAMP:20260419T160052
CREATED:20240524T194158Z
LAST-MODIFIED:20240822T121129Z
UID:10001372-1724493600-1724515200@www.metroparks.net
SUMMARY:Bark Bash
DESCRIPTION:This fun-filled event promises a day of canine-centric activities and entertainment for dog lovers and their four-legged friends.  \nBark Bash will be held at the Darby Bend Lakes area of Prairie Oaks Metro Park from 10 am to 4 pm on August 24\, 2024\, and will feature canine vendors dedicated to all your dog needs\, canine rescue organizations\, humane societies\, food vendors\, and more! Metro Parks Outdoor Adventure will host stand-up paddleboarding and kayaking for humans and their pups\, and owners can customize and tie-dye a bandana for their companion with Friends of Metro Parks. There will be walking trails\, a lake for dogs to swim in\, and an ice castle to cool off in. \nHave questions? Contact Metro Parks at info@metroparks.net. \nFind more information here.
URL:https://www.metroparks.net/event/barkbash/
LOCATION:Prairie Oaks\, 3225 Plain City-Georgesville Road\, West Jefferson\, OH\, 43162\, United States
ATTACH;FMTTYPE=image/png:https://www.metroparks.net/wp-content/uploads/2024/05/August-24-2024-Prairie-Oaks-Metro-Park.png
END:VEVENT
BEGIN:VEVENT
DTSTART;TZID=America/New_York:20240821T150000
DTEND;TZID=America/New_York:20240821T180000
DTSTAMP:20260419T160052
CREATED:20240802T180416Z
LAST-MODIFIED:20240802T180416Z
UID:10001692-1724252400-1724263200@www.metroparks.net
SUMMARY:Try It! Kayaking and SUP
DESCRIPTION:Come out and try standup paddle boarding and kayaking for free at Prairie Oaks Metro Park\, Darby Bend Lakes. SUPs and Solo sit-in kayaks ages 10+ only. Tandems open for all ages. Solo sit-kayaks have a 275Ibs limit. Meet at Lake 1 at Darby Bend Lakes\, 2755 Amity Rd\, Hilliard OH.\nFirst come/first serve. Equipment and instruction are provided.
URL:https://www.metroparks.net/event/try-it-kayaking-and-sup-5/2024-08-21/
LOCATION:Prairie Oaks\, 3225 Plain City-Georgesville Road\, West Jefferson\, OH\, 43162\, United States
ATTACH;FMTTYPE=image/jpeg:https://www.metroparks.net/wp-content/uploads/2021/06/POK_kayaking-down-Darby-Creek_Sept_Ryan-Muncey-scaled.jpg
END:VEVENT
BEGIN:VEVENT
DTSTART;TZID=America/New_York:20240815T190000
DTEND;TZID=America/New_York:20240815T200000
DTSTAMP:20260419T160052
CREATED:20240802T180623Z
LAST-MODIFIED:20240802T180623Z
UID:10001694-1723748400-1723752000@www.metroparks.net
SUMMARY:Sunset SUP and S’mores
DESCRIPTION:Come out and enjoy the sunset on a Stand Up Paddle Board and enjoy a little sweet treat! SUPs are for ages 10+\, both inflatable and hard paddle bards will be available to use\, first come first served!\nFree instruction\, equipment\, and life jackets provided\nMeet at Lake 1 at Darby Bend Lakes (Prairie Oaks Metro Park)\n2755 Amity Rd\, Hilliard\, OH 43026
URL:https://www.metroparks.net/event/sunset-sup-and-smores-3/2024-08-15/
LOCATION:Prairie Oaks\, 3225 Plain City-Georgesville Road\, West Jefferson\, OH\, 43162\, United States
ATTACH;FMTTYPE=image/jpeg:https://www.metroparks.net/wp-content/uploads/2023/05/BDC_sunset-at-wetlands_Jan_John-Nixon-scaled-e1683139103259.jpg
END:VEVENT
BEGIN:VEVENT
DTSTART;TZID=America/New_York:20240813T160000
DTEND;TZID=America/New_York:20240813T180000
DTSTAMP:20260419T160052
CREATED:20240802T180416Z
LAST-MODIFIED:20240802T180416Z
UID:10001691-1723564800-1723572000@www.metroparks.net
SUMMARY:Try It! Kayaking and SUP
DESCRIPTION:Come out and try standup paddle boarding and kayaking for free at Prairie Oaks Metro Park\, Darby Bend Lakes. SUPs and Solo sit-in kayaks ages 10+ only. Tandems open for all ages. Solo sit-kayaks have a 275Ibs limit. Meet at Lake 1 at Darby Bend Lakes\, 2755 Amity Rd\, Hilliard OH.\nFirst come/first serve. Equipment and instruction are provided.
URL:https://www.metroparks.net/event/try-it-kayaking-and-sup-5/2024-08-13/
LOCATION:Prairie Oaks\, 3225 Plain City-Georgesville Road\, West Jefferson\, OH\, 43162\, United States
ATTACH;FMTTYPE=image/jpeg:https://www.metroparks.net/wp-content/uploads/2021/06/POK_kayaking-down-Darby-Creek_Sept_Ryan-Muncey-scaled.jpg
END:VEVENT
BEGIN:VEVENT
DTSTART;TZID=America/New_York:20240727T100000
DTEND;TZID=America/New_York:20240727T140000
DTSTAMP:20260419T160052
CREATED:20240628T130756Z
LAST-MODIFIED:20240628T130756Z
UID:10001530-1722074400-1722088800@www.metroparks.net
SUMMARY:Try it! Kayak and SUP
DESCRIPTION:Come out and try standup paddle boarding and kayaking for free at Prairie Oaks Metro Park\, Darby Bend Lakes. SUPs and Solo sit-in kayaks ages 10+ only. Tandems open for all ages. Solo sit-kayaks have a 275Ibs limit. Meet at Lake 1 at Darby Bend Lakes\, 2755 Amity Rd\, Hilliard OH.\nFirst come/first serve. Equipment and instruction are provided.
URL:https://www.metroparks.net/event/try-it-kayak-and-sup-2/2024-07-27/
LOCATION:Prairie Oaks\, 3225 Plain City-Georgesville Road\, West Jefferson\, OH\, 43162\, United States
ATTACH;FMTTYPE=image/jpeg:https://www.metroparks.net/wp-content/uploads/2024/06/POK-Kayaking-JackRockwood-2024-05-31-1.jpg
END:VEVENT
BEGIN:VEVENT
DTSTART;TZID=America/New_York:20240725T190000
DTEND;TZID=America/New_York:20240725T203000
DTSTAMP:20260419T160052
CREATED:20240628T132418Z
LAST-MODIFIED:20240628T132418Z
UID:10001547-1721934000-1721939400@www.metroparks.net
SUMMARY:Sunset SUP and S'mores
DESCRIPTION:Come out and enjoy the sunset on a Stand Up Paddle Board and enjoy a little sweet treat! SUPs are for ages 10+\, both inflatable and hard paddle bards will be available to use\, first come first served!\nFree instruction\, equipment and life jackets provided\nMeet at Lake 1 at Darby Bend Lakes (Prairie Oaks Metro Park)\n2755 Amity Rd\, Hilliard\, OH 43026
URL:https://www.metroparks.net/event/sunset-sup-and-smores-2/2024-07-25/
LOCATION:Prairie Oaks\, 3225 Plain City-Georgesville Road\, West Jefferson\, OH\, 43162\, United States
ATTACH;FMTTYPE=image/jpeg:https://www.metroparks.net/wp-content/uploads/2015/01/PRO_sunrise-and-mist-at-DBL_Dawn-Archey.jpg
END:VEVENT
BEGIN:VEVENT
DTSTART;TZID=America/New_York:20240725T170000
DTEND;TZID=America/New_York:20240725T190000
DTSTAMP:20260419T160052
CREATED:20240628T132855Z
LAST-MODIFIED:20240628T132855Z
UID:10001552-1721926800-1721934000@www.metroparks.net
SUMMARY:Try it! SUP
DESCRIPTION:Come to our free Try it! SUP program at Darby Bend Lakes at Prairie Oaks Metro Park! 2755 Amity Rd\, Hilliard\, OH. All equipment provided. Meet at Lake 1.
URL:https://www.metroparks.net/event/try-it-sup-2/2024-07-25/
LOCATION:Prairie Oaks\, 3225 Plain City-Georgesville Road\, West Jefferson\, OH\, 43162\, United States
ATTACH;FMTTYPE=image/jpeg:https://www.metroparks.net/wp-content/uploads/2020/08/SUP-program-POK-DBL-turpening-june-2020.jpg
END:VEVENT
BEGIN:VEVENT
DTSTART;TZID=America/New_York:20240722T100000
DTEND;TZID=America/New_York:20240722T130000
DTSTAMP:20260419T160052
CREATED:20240628T133556Z
LAST-MODIFIED:20240628T133556Z
UID:10001558-1721642400-1721653200@www.metroparks.net
SUMMARY:Morning SUP
DESCRIPTION:Enjoy the lovely morning air from a Stand Up Paddle Board on the Lake! SUPs are first come\, first served\, ages 10+. All equipment\, life jackets and instruction provided. Come out to this free and fun program!!\nDarby Bend Lakes\, Prairie Oaks Metro Park Lake 1\n2755 Amity Rd\, Hilliard\, OH 43026
URL:https://www.metroparks.net/event/morning-sup-2/
LOCATION:Prairie Oaks\, 3225 Plain City-Georgesville Road\, West Jefferson\, OH\, 43162\, United States
END:VEVENT
BEGIN:VEVENT
DTSTART;TZID=America/New_York:20240719T180000
DTEND;TZID=America/New_York:20240719T193000
DTSTAMP:20260419T160052
CREATED:20240628T133500Z
LAST-MODIFIED:20240628T133500Z
UID:10001557-1721412000-1721417400@www.metroparks.net
SUMMARY:50+ SUP
DESCRIPTION:Enjoy SUP or Standup Paddle Boarding at Prairie Oaks Metro Park\, Darby Bend Lakes. Ages 50+ only\, free and fun. Meet at Lake 1 2755 Amity Rd\, Hilliard OH.
URL:https://www.metroparks.net/event/50-sup/
LOCATION:Prairie Oaks\, 3225 Plain City-Georgesville Road\, West Jefferson\, OH\, 43162\, United States
END:VEVENT
BEGIN:VEVENT
DTSTART;TZID=America/New_York:20240719T150000
DTEND;TZID=America/New_York:20240719T180000
DTSTAMP:20260419T160052
CREATED:20240628T130756Z
LAST-MODIFIED:20240628T130756Z
UID:10001529-1721401200-1721412000@www.metroparks.net
SUMMARY:Try it! Kayak and SUP
DESCRIPTION:Come out and try standup paddle boarding and kayaking for free at Prairie Oaks Metro Park\, Darby Bend Lakes. SUPs and Solo sit-in kayaks ages 10+ only. Tandems open for all ages. Solo sit-kayaks have a 275Ibs limit. Meet at Lake 1 at Darby Bend Lakes\, 2755 Amity Rd\, Hilliard OH.\nFirst come/first serve. Equipment and instruction are provided.
URL:https://www.metroparks.net/event/try-it-kayak-and-sup-2/2024-07-19/
LOCATION:Prairie Oaks\, 3225 Plain City-Georgesville Road\, West Jefferson\, OH\, 43162\, United States
ATTACH;FMTTYPE=image/jpeg:https://www.metroparks.net/wp-content/uploads/2024/06/POK-Kayaking-JackRockwood-2024-05-31-1.jpg
END:VEVENT
BEGIN:VEVENT
DTSTART;TZID=America/New_York:20240711T190000
DTEND;TZID=America/New_York:20240711T203000
DTSTAMP:20260419T160052
CREATED:20240628T132418Z
LAST-MODIFIED:20240628T132418Z
UID:10001546-1720724400-1720729800@www.metroparks.net
SUMMARY:Sunset SUP and S'mores
DESCRIPTION:Come out and enjoy the sunset on a Stand Up Paddle Board and enjoy a little sweet treat! SUPs are for ages 10+\, both inflatable and hard paddle bards will be available to use\, first come first served!\nFree instruction\, equipment and life jackets provided\nMeet at Lake 1 at Darby Bend Lakes (Prairie Oaks Metro Park)\n2755 Amity Rd\, Hilliard\, OH 43026
URL:https://www.metroparks.net/event/sunset-sup-and-smores-2/2024-07-11/
LOCATION:Prairie Oaks\, 3225 Plain City-Georgesville Road\, West Jefferson\, OH\, 43162\, United States
ATTACH;FMTTYPE=image/jpeg:https://www.metroparks.net/wp-content/uploads/2015/01/PRO_sunrise-and-mist-at-DBL_Dawn-Archey.jpg
END:VEVENT
BEGIN:VEVENT
DTSTART;TZID=America/New_York:20240711T170000
DTEND;TZID=America/New_York:20240711T190000
DTSTAMP:20260419T160052
CREATED:20240628T132855Z
LAST-MODIFIED:20240628T132855Z
UID:10001551-1720717200-1720724400@www.metroparks.net
SUMMARY:Try it! SUP
DESCRIPTION:Come to our free Try it! SUP program at Darby Bend Lakes at Prairie Oaks Metro Park! 2755 Amity Rd\, Hilliard\, OH. All equipment provided. Meet at Lake 1.
URL:https://www.metroparks.net/event/try-it-sup-2/2024-07-11/
LOCATION:Prairie Oaks\, 3225 Plain City-Georgesville Road\, West Jefferson\, OH\, 43162\, United States
ATTACH;FMTTYPE=image/jpeg:https://www.metroparks.net/wp-content/uploads/2020/08/SUP-program-POK-DBL-turpening-june-2020.jpg
END:VEVENT
END:VCALENDAR