BEGIN:VCALENDAR
VERSION:2.0
PRODID:-//Metro Parks - Central Ohio Park System - ECPv6.15.16.1//NONSGML v1.0//EN
CALSCALE:GREGORIAN
METHOD:PUBLISH
X-WR-CALNAME:Metro Parks - Central Ohio Park System
X-ORIGINAL-URL:https://www.metroparks.net
X-WR-CALDESC:Events for Metro Parks - Central Ohio Park System
REFRESH-INTERVAL;VALUE=DURATION:PT1H
X-Robots-Tag:noindex
X-PUBLISHED-TTL:PT1H
BEGIN:VTIMEZONE
TZID:America/New_York
BEGIN:DAYLIGHT
TZOFFSETFROM:-0500
TZOFFSETTO:-0400
TZNAME:EDT
DTSTART:20220313T070000
END:DAYLIGHT
BEGIN:STANDARD
TZOFFSETFROM:-0400
TZOFFSETTO:-0500
TZNAME:EST
DTSTART:20221106T060000
END:STANDARD
BEGIN:DAYLIGHT
TZOFFSETFROM:-0500
TZOFFSETTO:-0400
TZNAME:EDT
DTSTART:20230312T070000
END:DAYLIGHT
BEGIN:STANDARD
TZOFFSETFROM:-0400
TZOFFSETTO:-0500
TZNAME:EST
DTSTART:20231105T060000
END:STANDARD
BEGIN:DAYLIGHT
TZOFFSETFROM:-0500
TZOFFSETTO:-0400
TZNAME:EDT
DTSTART:20240310T070000
END:DAYLIGHT
BEGIN:STANDARD
TZOFFSETFROM:-0400
TZOFFSETTO:-0500
TZNAME:EST
DTSTART:20241103T060000
END:STANDARD
BEGIN:DAYLIGHT
TZOFFSETFROM:-0500
TZOFFSETTO:-0400
TZNAME:EDT
DTSTART:20250309T070000
END:DAYLIGHT
BEGIN:STANDARD
TZOFFSETFROM:-0400
TZOFFSETTO:-0500
TZNAME:EST
DTSTART:20251102T060000
END:STANDARD
END:VTIMEZONE
BEGIN:VEVENT
DTSTART;TZID=America/New_York:20240527T120000
DTEND;TZID=America/New_York:20240527T160000
DTSTAMP:20260419T211117
CREATED:20240429T133837Z
LAST-MODIFIED:20240429T133844Z
UID:10001297-1716811200-1716825600@www.metroparks.net
SUMMARY:Canoe and Kayak The Lakes
DESCRIPTION:Enjoy the lakes from a canoe or kayak on Memorial Day!\nCanoes are open to all ages with a minimum of one adult per canoe. Solo\, sit-in kayaks provided\, open to ages 10+. Kayaks max. weight of 275lbs.\nLife jackets are provided and worn while on the water. Visitors are welcome to bring their own Type III life jacket.\nEquipment and instruction is provided. No pre-registration\, first come/first serve. Free and fun!\nDarby Bend Lakes portion of Prairie Oaks Metro Park. 2755 Amity Rd\, Hilliard\, OH 43026
URL:https://www.metroparks.net/event/canoe-and-kayak-the-lakes-2/
LOCATION:Prairie Oaks\, 3225 Plain City-Georgesville Road\, West Jefferson\, OH\, 43162\, United States
ATTACH;FMTTYPE=image/png:https://www.metroparks.net/wp-content/uploads/2017/09/1080p_Outdoor-Adaptive-Adventures_PRO_canoeists-on-lake_Bryan-Knowles-1.png
END:VEVENT
BEGIN:VEVENT
DTSTART;TZID=America/New_York:20240511T120000
DTEND;TZID=America/New_York:20240511T160000
DTSTAMP:20260419T211117
CREATED:20240429T130911Z
LAST-MODIFIED:20240429T130911Z
UID:10001275-1715428800-1715443200@www.metroparks.net
SUMMARY:Archery Fest!
DESCRIPTION:Hear ye! Hear ye! Calling all archers! The King and Queen have called for a competition of their finest archers to compete in an archery competition on May 11th from 12pm-4pm at Prairie Oaks Metro Parks\, Darby Bend Lakes! Enjoy a fun and free Archery Fest\, with activities for all ages. \n– Try It! Archery\n– Archery Tournament (register at the event)\n– Plastic Axe Throwing\n– Atlatl\n– DIY Activities\n– and Food Trucks!
URL:https://www.metroparks.net/event/archery-fest/
LOCATION:Prairie Oaks\, 3225 Plain City-Georgesville Road\, West Jefferson\, OH\, 43162\, United States
ATTACH;FMTTYPE=image/jpeg:https://www.metroparks.net/wp-content/uploads/2024/04/438160183_895676655925869_6735970153793614071_n.jpg
END:VEVENT
BEGIN:VEVENT
DTSTART;TZID=America/New_York:20240505T153000
DTEND;TZID=America/New_York:20240505T170000
DTSTAMP:20260419T211117
CREATED:20240422T130957Z
LAST-MODIFIED:20240422T130957Z
UID:10001216-1714923000-1714928400@www.metroparks.net
SUMMARY:For Adults 50+: Wildflowers and Other Spring Things
DESCRIPTION:Hike the moderate 1.1- mile Sycamore Plains trail in search of late spring flowers\, large sycamores and wildlife in and around Big Darby Creek. \nMeet at the Sycamore Plains Area at 2009 Amity Rd.\, Hilliard
URL:https://www.metroparks.net/event/for-adults-50-wildflowers-and-other-spring-things/
LOCATION:Prairie Oaks\, 3225 Plain City-Georgesville Road\, West Jefferson\, OH\, 43162\, United States
END:VEVENT
BEGIN:VEVENT
DTSTART;TZID=America/New_York:20240409T170000
DTEND;TZID=America/New_York:20240409T180000
DTSTAMP:20260419T211117
CREATED:20240325T134346Z
LAST-MODIFIED:20240325T134346Z
UID:10001142-1712682000-1712685600@www.metroparks.net
SUMMARY:Solar Eclipse Cleanup Hike
DESCRIPTION:Enjoy a clean-up hike throughout Prairie Oaks Metro Park to help pickup any litter left behind after the Solar Eclipse! Meet at Darby Bend Lakes\, Lake 1 parking lot. 2755 Amity Rd\, Hilliard\, OH
URL:https://www.metroparks.net/event/solar-eclipse-cleanup-hike/
LOCATION:Prairie Oaks\, 3225 Plain City-Georgesville Road\, West Jefferson\, OH\, 43162\, United States
END:VEVENT
BEGIN:VEVENT
DTSTART;TZID=America/New_York:20240331T100000
DTEND;TZID=America/New_York:20240331T110000
DTSTAMP:20260419T211117
CREATED:20240228T155859Z
LAST-MODIFIED:20240228T155859Z
UID:10001115-1711879200-1711882800@www.metroparks.net
SUMMARY:For Adults: Hike and Paint
DESCRIPTION:Take in the lovely scenery of Darby Bend Lakes and then take a break and paint! All supplies provided. Meet at Darby Bend Lakes\, Lake 1 Shelter House! 2755 Amity Rd\, Hilliard\, OH 43026
URL:https://www.metroparks.net/event/for-adults-hike-and-paint/
LOCATION:Prairie Oaks\, 3225 Plain City-Georgesville Road\, West Jefferson\, OH\, 43162\, United States
ATTACH;FMTTYPE=image/jpeg:https://www.metroparks.net/wp-content/uploads/2019/03/gallery-spring-PRO_DBL-fishing-KimGraham.jpg
END:VEVENT
BEGIN:VEVENT
DTSTART;TZID=America/New_York:20240112T110000
DTEND;TZID=America/New_York:20240112T123000
DTSTAMP:20260419T211117
CREATED:20231220T203429Z
LAST-MODIFIED:20231220T203429Z
UID:10000821-1705057200-1705062600@www.metroparks.net
SUMMARY:For Adults 50+: Wildlife Wander
DESCRIPTION:Search for wildlife on a 2-mile easy stroll around the lakes. \nMeet at Darby Bend Lakes near the restrooms in the last parking area at 2755 Amity Rd.\, Hilliard.
URL:https://www.metroparks.net/event/for-adults-50-wildlife-wander/
LOCATION:Prairie Oaks\, 3225 Plain City-Georgesville Road\, West Jefferson\, OH\, 43162\, United States
ATTACH;FMTTYPE=image/jpeg:https://www.metroparks.net/wp-content/uploads/2015/01/PRO_sunrise-and-mist-at-DBL_Dawn-Archey.jpg
END:VEVENT
BEGIN:VEVENT
DTSTART;TZID=America/New_York:20240106T100000
DTEND;TZID=America/New_York:20240106T130000
DTSTAMP:20260419T211117
CREATED:20231115T174326Z
LAST-MODIFIED:20231218T142441Z
UID:10000728-1704535200-1704546000@www.metroparks.net
SUMMARY:Prairie Oaks Winter Hike
DESCRIPTION:Gather your friends and family for a hike on any trail at Prairie Oaks Metro Park. Refreshments and a treat will be served between 10am and 1pm in the Darby Bend Lakes area. \nLearn more about winter hikes by clicking here.
URL:https://www.metroparks.net/event/prairie-oaks-winter-hike/
LOCATION:Prairie Oaks\, 3225 Plain City-Georgesville Road\, West Jefferson\, OH\, 43162\, United States
ATTACH;FMTTYPE=image/png:https://www.metroparks.net/wp-content/uploads/2023/11/POK-1.png
END:VEVENT
BEGIN:VEVENT
DTSTART;TZID=America/New_York:20230919T160000
DTEND;TZID=America/New_York:20230919T180000
DTSTAMP:20260419T211117
CREATED:20230912T121340Z
LAST-MODIFIED:20230912T121413Z
UID:10000613-1695139200-1695146400@www.metroparks.net
SUMMARY:Try it! Kayak and SUP
DESCRIPTION:Come out to Darby Bend Lakes at Prairie Oaks Metro Park and try out a standup paddle board or kayak! Solo\, sit in kayaks will be available with a max weight of 275 lbs\, and are open to ages 10+. A couple of tandem kayaks will be available for all ages with an adult present. Equipment and instruction provided. First come first served. 2755 Amity Rd\, Hilliard\, OH.
URL:https://www.metroparks.net/event/try-it-kayak-and-sup/
LOCATION:Prairie Oaks\, 3225 Plain City-Georgesville Road\, West Jefferson\, OH\, 43162\, United States
END:VEVENT
BEGIN:VEVENT
DTSTART;TZID=America/New_York:20230910T110000
DTEND;TZID=America/New_York:20230910T150000
DTSTAMP:20260419T211117
CREATED:20230818T140511Z
LAST-MODIFIED:20230818T140511Z
UID:10000591-1694343600-1694358000@www.metroparks.net
SUMMARY:Outdoor Inclusive Adventure
DESCRIPTION:The event\, co-hosted by Columbus and Franklin County Metro Parks and the YMCA of Central Ohio\, is a day of fun and inclusive activities for visitors of all abilities! Visitors will be able to kayak and canoe\, fish\, hike\, and enjoy lawn games and sensory play. Activity supplies\, lunch and light refreshments will be provided.
URL:https://www.metroparks.net/event/outdoor-inclusive-adventure/
LOCATION:Prairie Oaks\, 3225 Plain City-Georgesville Road\, West Jefferson\, OH\, 43162\, United States
END:VEVENT
BEGIN:VEVENT
DTSTART;TZID=America/New_York:20230826T100000
DTEND;TZID=America/New_York:20230826T160000
DTSTAMP:20260419T211117
CREATED:20230818T135954Z
LAST-MODIFIED:20240710T124737Z
UID:10000586-1693044000-1693065600@www.metroparks.net
SUMMARY:WAG! Fest (now Bark Bash in 2024)
DESCRIPTION:Join us for the largest single day dog event in the nation! Bring your pooch for a day of shopping\, swimming and exploring.
URL:https://www.metroparks.net/event/wag-fest/
LOCATION:Prairie Oaks\, 3225 Plain City-Georgesville Road\, West Jefferson\, OH\, 43162\, United States
ATTACH;FMTTYPE=image/jpeg:https://www.metroparks.net/wp-content/uploads/2019/10/Pets_dog-swimming_PRO_anyone-for-tennis_Frank-Kozarich.jpg
END:VEVENT
BEGIN:VEVENT
DTSTART;TZID=America/New_York:20230817T150000
DTEND;TZID=America/New_York:20230817T180000
DTSTAMP:20260419T211117
CREATED:20230814T165738Z
LAST-MODIFIED:20230814T165738Z
UID:10000571-1692284400-1692295200@www.metroparks.net
SUMMARY:Try it! Kayaking and SUP
DESCRIPTION:Come out and try standup paddle boarding and kayaking for free at Prairie Oaks Metro Park\, Darby Bend Lakes. SUPs and Solo sit-in kayaks ages 10+ only. Tandems open for all ages. Solo sit-kayaks have a 275Ibs limit. Meet at Lake 1 at Darby Bend Lakes\, 2755 Amity Rd\, Hilliard OH.\nFirst come/first serve. Equipment and instruction are provided.
URL:https://www.metroparks.net/event/try-it-kayaking-and-sup-2/
LOCATION:Prairie Oaks\, 3225 Plain City-Georgesville Road\, West Jefferson\, OH\, 43162\, United States
ATTACH;FMTTYPE=image/jpeg:https://www.metroparks.net/wp-content/uploads/2020/08/SUP-program-POK-DBL-turpening-june-2020.jpg
END:VEVENT
BEGIN:VEVENT
DTSTART;TZID=America/New_York:20230809T160000
DTEND;TZID=America/New_York:20230809T200000
DTSTAMP:20260419T211117
CREATED:20230807T155633Z
LAST-MODIFIED:20230807T155633Z
UID:10000562-1691596800-1691611200@www.metroparks.net
SUMMARY:Try it! Kayaking
DESCRIPTION:Enjoy Darby Bend Lakes at Prairie Oaks Metro Park from a kayak! Kayaks are solo\, sit in kayaks with a max weight of 275 lbs. Some tandems will be available for all ages with an adult. Water wicking clothing is recommended. Meet at Lake 1 at Darby Bend Lakes\, 2755 Amity Rd\, Hilliard OH.\nAges 10+\, first come/first serve. Equipment and instruction are provided.
URL:https://www.metroparks.net/event/try-it-kayaking-3/
LOCATION:Prairie Oaks\, 3225 Plain City-Georgesville Road\, West Jefferson\, OH\, 43162\, United States
END:VEVENT
BEGIN:VEVENT
DTSTART;TZID=America/New_York:20230730T093000
DTEND;TZID=America/New_York:20230730T113000
DTSTAMP:20260419T211117
CREATED:20230724T132316Z
LAST-MODIFIED:20230724T132316Z
UID:10000549-1690709400-1690716600@www.metroparks.net
SUMMARY:Prepping for Paddling
DESCRIPTION:Get ready to paddle with this on-land course designed to teach you the basics of being on the water! We will go over water safety\, proper paddle technique\, and practice the basic kayak paddling strokes from shore\, followed by an on-water portion. Meet at Lake 1 Shelter at Darby Bend Lakes\, Prairie Oaks Metro Park. 2755 Amity Road\, Hilliard\, OH. Solo\, sit in kayaks available for ages 10+\, max weight: 275Ibs. A couple of tandem kayaks will be available for participants of all ages\, with an adult\, on a first come first serve basis.
URL:https://www.metroparks.net/event/prepping-for-paddling/
LOCATION:Prairie Oaks\, 3225 Plain City-Georgesville Road\, West Jefferson\, OH\, 43162\, United States
END:VEVENT
BEGIN:VEVENT
DTSTART;TZID=America/New_York:20230623T150000
DTEND;TZID=America/New_York:20230623T200000
DTSTAMP:20260419T211117
CREATED:20230622T123555Z
LAST-MODIFIED:20230622T123555Z
UID:10000476-1687532400-1687550400@www.metroparks.net
SUMMARY:Try it! Kayaking
DESCRIPTION:Enjoy Darby Bend Lakes at Prairie Oaks Metro Park from a kayak! Kayaks are solo\, sit in kayaks with a max weight of 275 lbs. Water wicking clothing is recommended. Meet at Lake 1 at Darby Bend Lakes\, 2755 Amity Rd\, Hilliard OH.\nAges 10+\, first come/first serve. Equipment and instruction are provided.
URL:https://www.metroparks.net/event/try-it-kayaking-2/
LOCATION:Prairie Oaks\, 3225 Plain City-Georgesville Road\, West Jefferson\, OH\, 43162\, United States
ATTACH;FMTTYPE=image/jpeg:https://www.metroparks.net/wp-content/uploads/2021/06/POK_kayaking-down-Darby-Creek_Sept_Ryan-Muncey-scaled.jpg
END:VEVENT
BEGIN:VEVENT
DTSTART;TZID=America/New_York:20230614T160000
DTEND;TZID=America/New_York:20230614T200000
DTSTAMP:20260419T211117
CREATED:20230612T162021Z
LAST-MODIFIED:20230612T162021Z
UID:10000468-1686758400-1686772800@www.metroparks.net
SUMMARY:Try It! SUP
DESCRIPTION:Have you ever wanted to try Standup Paddle Boarding? Come out to Darby Bend Lakes at Prairie Oaks Metro Park to try it! Free and fun\, all equipment provided. Ages 10+. Meet at Lake 1 at Darby Bend Lakes\, use address 2755 Amity Rd\, Hilliard\, OH.
URL:https://www.metroparks.net/event/try-it-sup/
LOCATION:Prairie Oaks\, 3225 Plain City-Georgesville Road\, West Jefferson\, OH\, 43162\, United States
END:VEVENT
BEGIN:VEVENT
DTSTART;TZID=America/New_York:20230529T110000
DTEND;TZID=America/New_York:20230529T160000
DTSTAMP:20260419T211117
CREATED:20230523T130550Z
LAST-MODIFIED:20230523T130716Z
UID:10000449-1685358000-1685376000@www.metroparks.net
SUMMARY:Canoe and Kayak the Lakes
DESCRIPTION:Enjoy the lakes from a canoe or kayak on Memorial Day!\nCanoes are open to all ages with a minimum of one adult per canoe. Solo\, sit-in kayaks provided\, open to ages 10+. Kayaks max. weight of 275lbs.\nLife jackets are provided and worn while on the water. Visitors are welcome to bring their own Type III life jacket.\nEquipment and instruction is provided. No pre-registration\, first come/first serve. Free and fun!\nDarby Bend Lakes portion of Prairie Oaks Metro Park. 2755 Amity Rd\, Hilliard\, OH 43026
URL:https://www.metroparks.net/event/canoe-and-kayak-the-lakes/
LOCATION:Prairie Oaks\, 3225 Plain City-Georgesville Road\, West Jefferson\, OH\, 43162\, United States
ATTACH;FMTTYPE=image/jpeg:https://www.metroparks.net/wp-content/uploads/2019/05/Family-paddles-a-canoe-at-Schrock-Lake_SHN_July_Kim-Strosnider.jpg
END:VEVENT
BEGIN:VEVENT
DTSTART;TZID=America/New_York:20230513T140000
DTEND;TZID=America/New_York:20230513T150000
DTSTAMP:20260419T211117
CREATED:20230508T184302Z
LAST-MODIFIED:20230508T184302Z
UID:10000428-1683986400-1683990000@www.metroparks.net
SUMMARY:Fast Paced 3 Mile Hike
DESCRIPTION:Come out for a Free and Fun Fast Paced 3 mile hike at Prairie Oaks Metro Park! Meet at Prairie View Picnic Area at the Main Entrance\, 3225 Plain City – Georgesville Rd.\, West Jefferson\, OH
URL:https://www.metroparks.net/event/fast-paced-3-mile-hike/
LOCATION:Prairie Oaks\, 3225 Plain City-Georgesville Road\, West Jefferson\, OH\, 43162\, United States
END:VEVENT
BEGIN:VEVENT
DTSTART;TZID=America/New_York:20230107T100000
DTEND;TZID=America/New_York:20230107T130000
DTSTAMP:20260419T211117
CREATED:20221121T193649Z
LAST-MODIFIED:20221121T221118Z
UID:10000003-1673085600-1673096400@www.metroparks.net
SUMMARY:Start the New Year with Metro Parks - Prairie Oaks
DESCRIPTION:Gather your friends and family for a hike on any trail at Clear Creek\, Prairie Oaks\, Rocky Fork\, Scioto Audubon\, Scioto Grove\, Sharon Woods\, Slate Run and Walnut Woods. \nEnjoy refreshments at Prairie Oaks.\nSaturday\, January 7 10am-1pm Prairie Oaks \nAs you hike the trails\, search for Metro Parks wooden ornaments to take home as our gift to visitors! Find them at Walnut Woods the week of January 7\, Slate Run the week of January 14\, Rocky Fork the week of January 21 and Scioto Grove the week of January 28. \n 
URL:https://www.metroparks.net/event/refreshments-at-the-parks-prairie-oaks/
LOCATION:Prairie Oaks\, 3225 Plain City-Georgesville Road\, West Jefferson\, OH\, 43162\, United States
ATTACH;FMTTYPE=image/jpeg:https://www.metroparks.net/wp-content/uploads/2022/11/Winter-Hike-composite-refreshment-and-hikers-Blair-and-Nixon.jpg
END:VEVENT
END:VCALENDAR