BEGIN:VCALENDAR
VERSION:2.0
PRODID:-//Metro Parks - Central Ohio Park System - ECPv6.15.16.1//NONSGML v1.0//EN
CALSCALE:GREGORIAN
METHOD:PUBLISH
X-WR-CALNAME:Metro Parks - Central Ohio Park System
X-ORIGINAL-URL:https://www.metroparks.net
X-WR-CALDESC:Events for Metro Parks - Central Ohio Park System
REFRESH-INTERVAL;VALUE=DURATION:PT1H
X-Robots-Tag:noindex
X-PUBLISHED-TTL:PT1H
BEGIN:VTIMEZONE
TZID:America/New_York
BEGIN:DAYLIGHT
TZOFFSETFROM:-0500
TZOFFSETTO:-0400
TZNAME:EDT
DTSTART:20240310T070000
END:DAYLIGHT
BEGIN:STANDARD
TZOFFSETFROM:-0400
TZOFFSETTO:-0500
TZNAME:EST
DTSTART:20241103T060000
END:STANDARD
BEGIN:DAYLIGHT
TZOFFSETFROM:-0500
TZOFFSETTO:-0400
TZNAME:EDT
DTSTART:20250309T070000
END:DAYLIGHT
BEGIN:STANDARD
TZOFFSETFROM:-0400
TZOFFSETTO:-0500
TZNAME:EST
DTSTART:20251102T060000
END:STANDARD
BEGIN:DAYLIGHT
TZOFFSETFROM:-0500
TZOFFSETTO:-0400
TZNAME:EDT
DTSTART:20260308T070000
END:DAYLIGHT
BEGIN:STANDARD
TZOFFSETFROM:-0400
TZOFFSETTO:-0500
TZNAME:EST
DTSTART:20261101T060000
END:STANDARD
BEGIN:DAYLIGHT
TZOFFSETFROM:-0500
TZOFFSETTO:-0400
TZNAME:EDT
DTSTART:20270314T070000
END:DAYLIGHT
BEGIN:STANDARD
TZOFFSETFROM:-0400
TZOFFSETTO:-0500
TZNAME:EST
DTSTART:20271107T060000
END:STANDARD
END:VTIMEZONE
BEGIN:VEVENT
DTSTART;TZID=America/New_York:20260412T100000
DTEND;TZID=America/New_York:20260412T113000
DTSTAMP:20260419T085631
CREATED:20260326T134624Z
LAST-MODIFIED:20260326T134624Z
UID:10004046-1775988000-1775993400@www.metroparks.net
SUMMARY:Pie Iron Grilled Cheese!
DESCRIPTION:Join us to make a toasty grilled cheese over the campfire at Quarry Trails Metro Park! Join us at the lower sled hill fire pit. All ingredients and equipment provided. First come first serve while supplies last.
URL:https://www.metroparks.net/event/pie-iron-grilled-cheese/
LOCATION:Quarry Trails\, 2600 Dublin Road\, Columbus\, OH\, 43228\, United States
END:VEVENT
BEGIN:VEVENT
DTSTART;TZID=America/New_York:20260406T100000
DTEND;TZID=America/New_York:20260406T110000
DTSTAMP:20260419T085631
CREATED:20260326T134501Z
LAST-MODIFIED:20260326T134501Z
UID:10004044-1775469600-1775473200@www.metroparks.net
SUMMARY:Toddler Adventure Club
DESCRIPTION:Join us for a short toddler friendly\, exploratory hike at Quarry Trails Metro Park! Meet at the Kingfisher shelter house\, use address 2319 Quarry Trails Drive\, Columbus 43228
URL:https://www.metroparks.net/event/toddler-adventure-club-20/
LOCATION:Quarry Trails\, 2600 Dublin Road\, Columbus\, OH\, 43228\, United States
END:VEVENT
BEGIN:VEVENT
DTSTART;TZID=America/New_York:20260326T180000
DTEND;TZID=America/New_York:20260326T190000
DTSTAMP:20260419T085631
CREATED:20260223T133703Z
LAST-MODIFIED:20260223T133703Z
UID:10003906-1774548000-1774551600@www.metroparks.net
SUMMARY:Run Club
DESCRIPTION:Interested in joining a running club? Join the Outdoor Adventure Run Club at Quarry Trails Metro Park! Meet at the Lakes Area parking lot – Kingfisher Shelter. We will run as far as the group is comfortable with during the hour. Trails are mostly paved\, with some gravel sections\, and slight elevation. Use address 2319 Quarry Trails Dr.
URL:https://www.metroparks.net/event/run-club-3/2026-03-26/
LOCATION:Quarry Trails\, 2600 Dublin Road\, Columbus\, OH\, 43228\, United States
END:VEVENT
BEGIN:VEVENT
DTSTART;TZID=America/New_York:20260321T100000
DTEND;TZID=America/New_York:20260321T113000
DTSTAMP:20260419T085631
CREATED:20260223T134412Z
LAST-MODIFIED:20260223T134412Z
UID:10003914-1774087200-1774092600@www.metroparks.net
SUMMARY:Cowboy Campfire Coffee!
DESCRIPTION:Howdy Y’all! Come out to the Lower Sled Hill at Quarry Trails Metro Park to learn how to make Cowboy style Campfire Coffee! All ingredients and equipment will be supplied\, feel free to bring your own reusable mug or cup and fill it up with some warm and toasty fire brewed coffee.
URL:https://www.metroparks.net/event/cowboy-campfire-coffee-9/
LOCATION:Quarry Trails\, 2600 Dublin Road\, Columbus\, OH\, 43228\, United States
END:VEVENT
BEGIN:VEVENT
DTSTART;TZID=America/New_York:20260312T180000
DTEND;TZID=America/New_York:20260312T190000
DTSTAMP:20260419T085631
CREATED:20260223T133703Z
LAST-MODIFIED:20260223T133703Z
UID:10003905-1773338400-1773342000@www.metroparks.net
SUMMARY:Run Club
DESCRIPTION:Interested in joining a running club? Join the Outdoor Adventure Run Club at Quarry Trails Metro Park! Meet at the Lakes Area parking lot – Kingfisher Shelter. We will run as far as the group is comfortable with during the hour. Trails are mostly paved\, with some gravel sections\, and slight elevation. Use address 2319 Quarry Trails Dr.
URL:https://www.metroparks.net/event/run-club-3/2026-03-12/
LOCATION:Quarry Trails\, 2600 Dublin Road\, Columbus\, OH\, 43228\, United States
END:VEVENT
BEGIN:VEVENT
DTSTART;TZID=America/New_York:20260228T100000
DTEND;TZID=America/New_York:20260228T110000
DTSTAMP:20260419T085631
CREATED:20260202T142211Z
LAST-MODIFIED:20260202T142211Z
UID:10003860-1772272800-1772276400@www.metroparks.net
SUMMARY:Winter Mammal Tracks
DESCRIPTION:Meet at the Park Office Lobby and learn about animal tracks in the Winter and take a 1 mile hike to look for tracks!\nUse address 2600 Dublin road and follow the roadway all the way back towards the dog park. When the road forces you to turn left the lobby will be on your left. * Additional parking at Dog park parking lot.
URL:https://www.metroparks.net/event/winter-mammal-tracks/
LOCATION:Quarry Trails\, 2600 Dublin Road\, Columbus\, OH\, 43228\, United States
END:VEVENT
BEGIN:VEVENT
DTSTART;TZID=America/New_York:20260227T173000
DTEND;TZID=America/New_York:20260227T183000
DTSTAMP:20260419T085631
CREATED:20260128T140235Z
LAST-MODIFIED:20260128T140235Z
UID:10003825-1772213400-1772217000@www.metroparks.net
SUMMARY:Run Club!
DESCRIPTION:Interested in joining a running club? Join the Outdoor Adventure Run Club at Quarry Trails Metro Park! Meet at the Lakes Area parking lot – Kingfisher Shelter. We will run as far as the group is comfortable with during the hour. Trails are mostly paved\, with some gravel sections\, with slight elevation. Use address 2319 Quarry Trails Dr.
URL:https://www.metroparks.net/event/run-club-2/
LOCATION:Quarry Trails\, 2600 Dublin Road\, Columbus\, OH\, 43228\, United States
END:VEVENT
BEGIN:VEVENT
DTSTART;TZID=America/New_York:20260225T173000
DTEND;TZID=America/New_York:20260225T183000
DTSTAMP:20260419T085631
CREATED:20260128T140033Z
LAST-MODIFIED:20260128T140033Z
UID:10003822-1772040600-1772044200@www.metroparks.net
SUMMARY:Campfire Cooking
DESCRIPTION:Join us for a meal around the campfire at Quarry Trails! All materials and equipment will be provided\, free and fun! Meet at the lower sled hill parking lot. Use address 2600 Dublin Rd.
URL:https://www.metroparks.net/event/campfire-cooking-11/2026-02-25/
LOCATION:Quarry Trails\, 2600 Dublin Road\, Columbus\, OH\, 43228\, United States
END:VEVENT
BEGIN:VEVENT
DTSTART;TZID=America/New_York:20260216T110000
DTEND;TZID=America/New_York:20260216T120000
DTSTAMP:20260419T085631
CREATED:20260202T141749Z
LAST-MODIFIED:20260202T141749Z
UID:10003855-1771239600-1771243200@www.metroparks.net
SUMMARY:Food Chains at Quarry Trails
DESCRIPTION:Who is Commander and Chief at Quarry Trails?! Meet at the Kingfisher shelter and take a 1 mile hike to look for these animals.\nUse address 2319 Quarry Trails Drive Columbus OH 43228 and follow the road back to the Lake Area parking lot. We will meet at the shelter.
URL:https://www.metroparks.net/event/food-chains-at-quarry-trails-2/
LOCATION:Quarry Trails\, 2600 Dublin Road\, Columbus\, OH\, 43228\, United States
END:VEVENT
BEGIN:VEVENT
DTSTART;TZID=America/New_York:20260214T163000
DTEND;TZID=America/New_York:20260214T173000
DTSTAMP:20260419T085631
CREATED:20260128T140033Z
LAST-MODIFIED:20260128T140033Z
UID:10003821-1771086600-1771090200@www.metroparks.net
SUMMARY:Campfire Cooking
DESCRIPTION:Join us for a meal around the campfire at Quarry Trails! All materials and equipment will be provided\, free and fun! Meet at the lower sled hill parking lot. Use address 2600 Dublin Rd.
URL:https://www.metroparks.net/event/campfire-cooking-11/2026-02-14/
LOCATION:Quarry Trails\, 2600 Dublin Road\, Columbus\, OH\, 43228\, United States
END:VEVENT
BEGIN:VEVENT
DTSTART;TZID=America/New_York:20260213T160000
DTEND;TZID=America/New_York:20260213T170000
DTSTAMP:20260419T085631
CREATED:20260202T141310Z
LAST-MODIFIED:20260202T141442Z
UID:10003850-1770998400-1771002000@www.metroparks.net
SUMMARY:Love Birds Hike
DESCRIPTION:This is for couples and singles! Meet at the Kingfisher shelter and take a 1.5 mile hike and look for male and female of birds and talk about the differences for the different species of birds!\nUse address 2319 Quarry Trails Drive and follow the road back to the lake area parking lot. We will meet at the shelter. Limited number of binoculars available to use.
URL:https://www.metroparks.net/event/love-birds-hike/
LOCATION:Quarry Trails\, 2600 Dublin Road\, Columbus\, OH\, 43228\, United States
END:VEVENT
BEGIN:VEVENT
DTSTART;TZID=America/New_York:20260207T100000
DTEND;TZID=America/New_York:20260207T113000
DTSTAMP:20260419T085631
CREATED:20260128T140320Z
LAST-MODIFIED:20260128T140320Z
UID:10003826-1770458400-1770463800@www.metroparks.net
SUMMARY:Cowboy Campfire Coffee!
DESCRIPTION:Come out to the Lower Sled Hill fire pit at Quarry Trails Metro Park to learn how to make Cowboy-style Campfire Coffee! All ingredients and equipment will be supplied. Please bring your own reusable mug or cup and fill it up with some hot fire brewed coffee.
URL:https://www.metroparks.net/event/cowboy-campfire-coffee-8/
LOCATION:Quarry Trails\, 2600 Dublin Road\, Columbus\, OH\, 43228\, United States
END:VEVENT
BEGIN:VEVENT
DTSTART;TZID=America/New_York:20260131T100000
DTEND;TZID=America/New_York:20260131T140000
DTSTAMP:20260419T085631
CREATED:20251224T155138Z
LAST-MODIFIED:20251224T155138Z
UID:10003687-1769853600-1769868000@www.metroparks.net
SUMMARY:Limited Edition! Disc Golf Course Pop-Up!
DESCRIPTION:Join Metro Parks Outdoor Adventure and Disc Golf Mart for a special edition\, pop-up Disc Golf course at Quarry Trails Metro Park! All skill levels are welcome to join! Learn to play\, discs available to borrow! Or come on your own and try out the course. Meet at the Sled Hill at Quarry Trails Metro Park to get to the start of the course\, and for instruction and discs.
URL:https://www.metroparks.net/event/limited-edition-disc-golf-course-pop-up/
LOCATION:Quarry Trails\, 2600 Dublin Road\, Columbus\, OH\, 43228\, United States
END:VEVENT
BEGIN:VEVENT
DTSTART;TZID=America/New_York:20260128T180000
DTEND;TZID=America/New_York:20260128T190000
DTSTAMP:20260419T085631
CREATED:20251224T155232Z
LAST-MODIFIED:20251224T155232Z
UID:10003688-1769623200-1769626800@www.metroparks.net
SUMMARY:Lantern Hike
DESCRIPTION:Come on out for a staff-led lantern hike around the lakes at Quarry Trails! Lanterns will be available on a first come first served basis\, hike will be approx. 1.5 miles.\nMeet at the Lakes area parking lot\, use the entrance off of Trabue Rd. (2319 Quarry Trails Dr.)
URL:https://www.metroparks.net/event/lantern-hike-30/
LOCATION:Quarry Trails\, 2600 Dublin Road\, Columbus\, OH\, 43228\, United States
END:VEVENT
BEGIN:VEVENT
DTSTART;TZID=America/New_York:20260127T170000
DTEND;TZID=America/New_York:20260127T180000
DTSTAMP:20260419T085631
CREATED:20251224T154435Z
LAST-MODIFIED:20251224T154435Z
UID:10003678-1769533200-1769536800@www.metroparks.net
SUMMARY:Board Games & S'mores
DESCRIPTION:Join us for board games next to a toasty campfire at Quarry Trails Metro Park! Meet at the Kingfisher Shelter at the Lakes area – use address 2319 Quarry Trails Dr.
URL:https://www.metroparks.net/event/board-games-smores/2026-01-27/
LOCATION:Quarry Trails\, 2600 Dublin Road\, Columbus\, OH\, 43228\, United States
END:VEVENT
BEGIN:VEVENT
DTSTART;TZID=America/New_York:20260126T170000
DTEND;TZID=America/New_York:20260126T180000
DTSTAMP:20260419T085631
CREATED:20251224T160314Z
LAST-MODIFIED:20251224T160314Z
UID:10003702-1769446800-1769450400@www.metroparks.net
SUMMARY:Run Club!
DESCRIPTION:Interested in joining a running club? Join the Outdoor Adventure Run Clun at Quarry Trails Metro Park! Meet at the Lakes Area parking lot\, in the Kingfisher Shelter. We will run as far as the group is comfortable with during the hour. Trails are mostly paved\, with some gravel sections\, and with slight elevation.
URL:https://www.metroparks.net/event/run-club/
LOCATION:Quarry Trails\, 2600 Dublin Road\, Columbus\, OH\, 43228\, United States
END:VEVENT
BEGIN:VEVENT
DTSTART;TZID=America/New_York:20260117T100000
DTEND;TZID=America/New_York:20260117T110000
DTSTAMP:20260419T085631
CREATED:20251230T131838Z
LAST-MODIFIED:20251230T131838Z
UID:10003709-1768644000-1768647600@www.metroparks.net
SUMMARY:Winter Tree ID
DESCRIPTION:Meet at the Kingfisher shelter and take a 1 mile hike and learn to how to identify 10 trees.\nUse address 2319 Quarry Trails Drive Columbus OH 43228 and follow the road back to the Lake Area parking lot.
URL:https://www.metroparks.net/event/winter-tree-id/
LOCATION:Quarry Trails\, 2600 Dublin Road\, Columbus\, OH\, 43228\, United States
END:VEVENT
BEGIN:VEVENT
DTSTART;TZID=America/New_York:20260116T163000
DTEND;TZID=America/New_York:20260116T173000
DTSTAMP:20260419T085631
CREATED:20251224T155926Z
LAST-MODIFIED:20251224T155926Z
UID:10003696-1768581000-1768584600@www.metroparks.net
SUMMARY:Sunset and S'mores
DESCRIPTION:Join us by the lakes at Quarry Trails Metro Park and enjoy a s’more while enjoying the setting sun! Use entrance 2319 Quarry Trails Drive to find the closest parking lot to the program\, and meet at the Kingfisher Shelter.
URL:https://www.metroparks.net/event/sunset-and-smores-8/
LOCATION:Quarry Trails\, 2600 Dublin Road\, Columbus\, OH\, 43228\, United States
END:VEVENT
BEGIN:VEVENT
DTSTART;TZID=America/New_York:20260111T110000
DTEND;TZID=America/New_York:20260111T120000
DTSTAMP:20260419T085631
CREATED:20251230T131755Z
LAST-MODIFIED:20251230T131755Z
UID:10003708-1768129200-1768132800@www.metroparks.net
SUMMARY:January 100 Hike
DESCRIPTION:Meet at the dog park parking lot and take a 2 mile hike and look for birds to add to your January 100 birds.\nUse address 2600 Dublin Rd Columbus OH 43228 and follow the road towards the dog park parking lot. When the road forces you to turn left the parking lot will be on your right.
URL:https://www.metroparks.net/event/january-100-hike/
LOCATION:Quarry Trails\, 2600 Dublin Road\, Columbus\, OH\, 43228\, United States
END:VEVENT
BEGIN:VEVENT
DTSTART;TZID=America/New_York:20260109T163000
DTEND;TZID=America/New_York:20260109T173000
DTSTAMP:20260419T085631
CREATED:20251224T154435Z
LAST-MODIFIED:20251224T154435Z
UID:10003677-1767976200-1767979800@www.metroparks.net
SUMMARY:Board Games & S'mores
DESCRIPTION:Join us for board games next to a toasty campfire at Quarry Trails Metro Park! Meet at the Kingfisher Shelter at the Lakes area – use address 2319 Quarry Trails Dr.
URL:https://www.metroparks.net/event/board-games-smores/2026-01-09/
LOCATION:Quarry Trails\, 2600 Dublin Road\, Columbus\, OH\, 43228\, United States
END:VEVENT
BEGIN:VEVENT
DTSTART;TZID=America/New_York:20260102T100000
DTEND;TZID=America/New_York:20260102T110000
DTSTAMP:20260419T085631
CREATED:20251230T132027Z
LAST-MODIFIED:20251230T132027Z
UID:10003712-1767348000-1767351600@www.metroparks.net
SUMMARY:Homemade Bird Feeder
DESCRIPTION:Meet at the Park Office Lobby and make a homemade bird feeder to take home!\nUse address 2600 Dublin Rd Columbus OH 43228 and follow the roadway towards the dog park. When the road forces you to turn left the parking lot will be on your left.
URL:https://www.metroparks.net/event/homemade-bird-feeder/
LOCATION:Quarry Trails\, 2600 Dublin Road\, Columbus\, OH\, 43228\, United States
END:VEVENT
BEGIN:VEVENT
DTSTART;TZID=America/New_York:20251227T100000
DTEND;TZID=America/New_York:20251227T113000
DTSTAMP:20260419T085631
CREATED:20251201T164948Z
LAST-MODIFIED:20251201T164948Z
UID:10003591-1766829600-1766835000@www.metroparks.net
SUMMARY:Cowboy Campfire Coffee!
DESCRIPTION:Howdy Y’all! Come out to the Lower Sled Hill at Quarry Trails Metro Park to learn how to make Cowboy style Campfire Coffee! All ingredients and equipment will be supplied\, feel free to bring your own reusable mug or cup and fill it up with some warm and toasty fire brewed coffee
URL:https://www.metroparks.net/event/cowboy-campfire-coffee-7/
LOCATION:Quarry Trails\, 2600 Dublin Road\, Columbus\, OH\, 43228\, United States
END:VEVENT
BEGIN:VEVENT
DTSTART;TZID=America/New_York:20251226T150000
DTEND;TZID=America/New_York:20251226T170000
DTSTAMP:20260419T085631
CREATED:20251201T164746Z
LAST-MODIFIED:20251201T164746Z
UID:10003589-1766761200-1766768400@www.metroparks.net
SUMMARY:Ugly Sweaters and S'mores
DESCRIPTION:Join us for s’mores in your best ugly sweater at Quarry Trails Metro Park! Meet at the lower Sled Hill fire pit.
URL:https://www.metroparks.net/event/ugly-sweaters-and-smores/
LOCATION:Quarry Trails\, 2600 Dublin Road\, Columbus\, OH\, 43228\, United States
END:VEVENT
BEGIN:VEVENT
DTSTART;TZID=America/New_York:20251226T100000
DTEND;TZID=America/New_York:20251226T110000
DTSTAMP:20260419T085631
CREATED:20251201T164856Z
LAST-MODIFIED:20251201T164856Z
UID:10003590-1766743200-1766746800@www.metroparks.net
SUMMARY:Boxing Day 5K
DESCRIPTION:Meet at the Kingfisher shelter and go on a 3 mile run or hike and enjoy hot chocolate after!\nUse address 2319 Quarry Trails Drive Columbus OH 43228 and follow the roadway back to the Lake Area Parking lot.
URL:https://www.metroparks.net/event/boxing-day-5k/
LOCATION:Quarry Trails\, 2600 Dublin Road\, Columbus\, OH\, 43228\, United States
END:VEVENT
BEGIN:VEVENT
DTSTART;TZID=America/New_York:20251221T063000
DTEND;TZID=America/New_York:20251221T173000
DTSTAMP:20260419T085631
CREATED:20251201T165409Z
LAST-MODIFIED:20251201T165409Z
UID:10003595-1766298600-1766338200@www.metroparks.net
SUMMARY:Hidden Gnomes Hunt
DESCRIPTION:Take a walk around the park to look for the hidden gnomes. Once you find them\, find or call a Ranger for a prize! Ranger call 614-565-1539\nYou can use any of the park entrances to find the gnomes (Lake Area Parking Lot\, Waterfall Parking lot\, North Entrance)\n*Please leave the gnomes for others to find!
URL:https://www.metroparks.net/event/hidden-gnomes-hunt/2025-12-21/
LOCATION:Quarry Trails\, 2600 Dublin Road\, Columbus\, OH\, 43228\, United States
END:VEVENT
BEGIN:VEVENT
DTSTART;TZID=America/New_York:20251220T063000
DTEND;TZID=America/New_York:20251220T173000
DTSTAMP:20260419T085631
CREATED:20251201T165409Z
LAST-MODIFIED:20251201T165409Z
UID:10003594-1766212200-1766251800@www.metroparks.net
SUMMARY:Hidden Gnomes Hunt
DESCRIPTION:Take a walk around the park to look for the hidden gnomes. Once you find them\, find or call a Ranger for a prize! Ranger call 614-565-1539\nYou can use any of the park entrances to find the gnomes (Lake Area Parking Lot\, Waterfall Parking lot\, North Entrance)\n*Please leave the gnomes for others to find!
URL:https://www.metroparks.net/event/hidden-gnomes-hunt/2025-12-20/
LOCATION:Quarry Trails\, 2600 Dublin Road\, Columbus\, OH\, 43228\, United States
END:VEVENT
BEGIN:VEVENT
DTSTART;TZID=America/New_York:20251219T163000
DTEND;TZID=America/New_York:20251219T173000
DTSTAMP:20260419T085631
CREATED:20251126T133919Z
LAST-MODIFIED:20251126T133919Z
UID:10003571-1766161800-1766165400@www.metroparks.net
SUMMARY:Sunset and S'mores
DESCRIPTION:Join us by the lakes at Quarry Trails Metro Park and enjoy a s’more while enjoying the setting sun! Use entrance 2319 Quarry Trails Drive to find the closest parking lot to the program.
URL:https://www.metroparks.net/event/sunset-and-smores-7/
LOCATION:Quarry Trails\, 2600 Dublin Road\, Columbus\, OH\, 43228\, United States
END:VEVENT
BEGIN:VEVENT
DTSTART;TZID=America/New_York:20251214T140000
DTEND;TZID=America/New_York:20251214T153000
DTSTAMP:20260419T085631
CREATED:20251201T170256Z
LAST-MODIFIED:20251201T170256Z
UID:10003600-1765720800-1765726200@www.metroparks.net
SUMMARY:Campfire Cookies
DESCRIPTION:Join us for cookies over the campfire at Quarry Trails Metro Park! Meet at the firepit at the bottom of the sled hill.
URL:https://www.metroparks.net/event/campfire-cookies/
LOCATION:Quarry Trails\, 2600 Dublin Road\, Columbus\, OH\, 43228\, United States
END:VEVENT
BEGIN:VEVENT
DTSTART;TZID=America/New_York:20251214T110000
DTEND;TZID=America/New_York:20251214T130000
DTSTAMP:20260419T085631
CREATED:20251201T170204Z
LAST-MODIFIED:20251201T170204Z
UID:10003599-1765710000-1765717200@www.metroparks.net
SUMMARY:Christmas Bird Count
DESCRIPTION:More information coming\, check our Facebook page!
URL:https://www.metroparks.net/event/christmas-bird-count-7/
LOCATION:Quarry Trails\, 2600 Dublin Road\, Columbus\, OH\, 43228\, United States
END:VEVENT
BEGIN:VEVENT
DTSTART;TZID=America/New_York:20251128T083000
DTEND;TZID=America/New_York:20251128T093000
DTSTAMP:20260419T085631
CREATED:20251027T123512Z
LAST-MODIFIED:20251027T123512Z
UID:10003475-1764318600-1764322200@www.metroparks.net
SUMMARY:Opt Outside Hike
DESCRIPTION:Meet at the Kingfisher shelter and take a 2 mile hike with a Ranger.\nUse address 2319 Quarry Trails Drive and follow the road back to the Lake Area Parking lot.
URL:https://www.metroparks.net/event/opt-outside-hike-2/
LOCATION:Quarry Trails\, 2600 Dublin Road\, Columbus\, OH\, 43228\, United States
END:VEVENT
END:VCALENDAR