BEGIN:VCALENDAR
VERSION:2.0
PRODID:-//Metro Parks - Central Ohio Park System - ECPv6.15.16.1//NONSGML v1.0//EN
CALSCALE:GREGORIAN
METHOD:PUBLISH
X-ORIGINAL-URL:https://www.metroparks.net
X-WR-CALDESC:Events for Metro Parks - Central Ohio Park System
REFRESH-INTERVAL;VALUE=DURATION:PT1H
X-Robots-Tag:noindex
X-PUBLISHED-TTL:PT1H
BEGIN:VTIMEZONE
TZID:America/New_York
BEGIN:DAYLIGHT
TZOFFSETFROM:-0500
TZOFFSETTO:-0400
TZNAME:EDT
DTSTART:20230312T070000
END:DAYLIGHT
BEGIN:STANDARD
TZOFFSETFROM:-0400
TZOFFSETTO:-0500
TZNAME:EST
DTSTART:20231105T060000
END:STANDARD
BEGIN:DAYLIGHT
TZOFFSETFROM:-0500
TZOFFSETTO:-0400
TZNAME:EDT
DTSTART:20240310T070000
END:DAYLIGHT
BEGIN:STANDARD
TZOFFSETFROM:-0400
TZOFFSETTO:-0500
TZNAME:EST
DTSTART:20241103T060000
END:STANDARD
BEGIN:DAYLIGHT
TZOFFSETFROM:-0500
TZOFFSETTO:-0400
TZNAME:EDT
DTSTART:20250309T070000
END:DAYLIGHT
BEGIN:STANDARD
TZOFFSETFROM:-0400
TZOFFSETTO:-0500
TZNAME:EST
DTSTART:20251102T060000
END:STANDARD
BEGIN:DAYLIGHT
TZOFFSETFROM:-0500
TZOFFSETTO:-0400
TZNAME:EDT
DTSTART:20260308T070000
END:DAYLIGHT
BEGIN:STANDARD
TZOFFSETFROM:-0400
TZOFFSETTO:-0500
TZNAME:EST
DTSTART:20261101T060000
END:STANDARD
END:VTIMEZONE
BEGIN:VEVENT
DTSTART;TZID=America/New_York:20250110T160000
DTEND;TZID=America/New_York:20250110T170000
DTSTAMP:20260420T042256
CREATED:20241231T140708Z
LAST-MODIFIED:20241231T140708Z
UID:10002231-1736524800-1736528400@www.metroparks.net
SUMMARY:Sunset and S'mores
DESCRIPTION:Enjoy watching the sunset while eating a toasty s’more around a warm campfire at Quarry Trails Metro Park! Meet at the Basin Parking Lot\, all equipment provided. \nQuarry Trails Metro Park has several separate park entrances. The address is 2319 Quarry Trails Dr\, Columbus\, OH. This is a newly opened entrance. Please follow signage and be on the lookout for construction traffic.
URL:https://www.metroparks.net/event/sunset-and-smores-4/2025-01-10/
LOCATION:Quarry Trails\, 2600 Dublin Road\, Columbus\, OH\, 43228\, United States
ATTACH;FMTTYPE=image/jpeg:https://www.metroparks.net/wp-content/uploads/2024/12/QT-Sunset-JackRockwood-2024-06-21.jpg
END:VEVENT
BEGIN:VEVENT
DTSTART;TZID=America/New_York:20250105T100000
DTEND;TZID=America/New_York:20250105T110000
DTSTAMP:20260420T042256
CREATED:20241231T140837Z
LAST-MODIFIED:20241231T140837Z
UID:10002233-1736071200-1736074800@www.metroparks.net
SUMMARY:Cowboy Campfire Coffee!
DESCRIPTION:Howdy Y’all! Come out to the Lower Sled Hill at Quarry Trails Metro Park to learn how to make Cowboy style Campfire Coffee! All ingredients and equipment will be supplied\, feel free to bring your own reusable mug or cup and fill it up with some warm and toasty fire brewed coffee
URL:https://www.metroparks.net/event/cowboy-campfire-coffee/2025-01-05/
LOCATION:Quarry Trails\, 2600 Dublin Road\, Columbus\, OH\, 43228\, United States
END:VEVENT
BEGIN:VEVENT
DTSTART;TZID=America/New_York:20250102T173000
DTEND;TZID=America/New_York:20250102T183000
DTSTAMP:20260420T042256
CREATED:20241231T140929Z
LAST-MODIFIED:20241231T140929Z
UID:10002235-1735839000-1735842600@www.metroparks.net
SUMMARY:Lantern Hike
DESCRIPTION:Come on out for a staff-led lantern hike around the lakes at Quarry Trails! Lanterns will be available on a first come first served basis\, hike will be approx. 1.5 miles\nMeet at the lakes area parking lot\, use the entrance off of Trabue Rd. (2319 Quarry Trails Dr.)
URL:https://www.metroparks.net/event/lantern-hike-13/
LOCATION:Quarry Trails\, 2600 Dublin Road\, Columbus\, OH\, 43228\, United States
END:VEVENT
BEGIN:VEVENT
DTSTART;TZID=America/New_York:20250101T100000
DTEND;TZID=America/New_York:20250101T110000
DTSTAMP:20260420T042256
CREATED:20241231T135843Z
LAST-MODIFIED:20241231T135843Z
UID:10002222-1735725600-1735729200@www.metroparks.net
SUMMARY:Cardio Hike
DESCRIPTION:Happy New Year! Join us for a fast-paced\, staff led Cardio Hike to kick off the new year right! Meet at the Lakes area parking lot at Quarry Trails Metro Park.\nUse the entrance off of Trabue Rd. (2319 Quarry Trails Drive)
URL:https://www.metroparks.net/event/cardio-hike-2/
LOCATION:Quarry Trails\, 2600 Dublin Road\, Columbus\, OH\, 43228\, United States
END:VEVENT
BEGIN:VEVENT
DTSTART;TZID=America/New_York:20241228T100000
DTEND;TZID=America/New_York:20241228T110000
DTSTAMP:20260420T042256
CREATED:20241127T143200Z
LAST-MODIFIED:20241127T143200Z
UID:10002156-1735380000-1735383600@www.metroparks.net
SUMMARY:Adventure Book Club!
DESCRIPTION:NEW LOCATION!!! Join us for our Monthly Adventure Book Club! No registration necessary\, all are welcome. This months book is “Endurance: Shackelton’s Incredible Voyage” by Alfred Lansing.\nWe will meet at the end of each month to discuss a different book. Meet at The Quarry Trails park office lobby
URL:https://www.metroparks.net/event/adventure-book-club-7/
LOCATION:Quarry Trails\, 2600 Dublin Road\, Columbus\, OH\, 43228\, United States
ATTACH;FMTTYPE=image/jpeg:https://www.metroparks.net/wp-content/uploads/2024/11/91hNDMxz4L.jpg
END:VEVENT
BEGIN:VEVENT
DTSTART;TZID=America/New_York:20241227T160000
DTEND;TZID=America/New_York:20241227T170000
DTSTAMP:20260420T042256
CREATED:20241126T145246Z
LAST-MODIFIED:20241126T145246Z
UID:10002133-1735315200-1735318800@www.metroparks.net
SUMMARY:Sunset and S'mores
DESCRIPTION:Enjoy watching the sunset while eating a toasty s’more around a warm campfire at Quarry Trails Metro Park! Meet at the Basin Parking Lot\, all equipment provided. \nQuarry Trails Metro Park has several separate park entrances. The address is 2319 Quarry Trails Dr\, Columbus\, OH. This is a newly opened entrance. Please follow signage and be on the lookout for construction traffic.
URL:https://www.metroparks.net/event/sunset-and-smores-3/2024-12-27/
LOCATION:Quarry Trails\, 2600 Dublin Road\, Columbus\, OH\, 43228\, United States
ATTACH;FMTTYPE=image/jpeg:https://www.metroparks.net/wp-content/uploads/2024/11/QT_PumpkinRoll2024_LizChristian-37.jpg
END:VEVENT
BEGIN:VEVENT
DTSTART;TZID=America/New_York:20241222T110000
DTEND;TZID=America/New_York:20241222T120000
DTSTAMP:20260420T042256
CREATED:20241126T150513Z
LAST-MODIFIED:20241126T150513Z
UID:10002143-1734865200-1734868800@www.metroparks.net
SUMMARY:Campfire Coffee
DESCRIPTION:Down for an adventure and want to stay caffeinated? Come out to learn how to make campfire coffee! Staff will have all the equipment and ingredients necessary for participants to brew their own caffeinated beverage. Meet at the base of the sled hill parking lot (second parking lot on the left at the bottom of the sled hill). Feel free to bring your own mug/tumbler\, disposable cups will be available \nUse the Dublin Rd Park entrance: 2600 Dublin Road\, Columbus\, OH
URL:https://www.metroparks.net/event/campfire-coffee/
LOCATION:Quarry Trails\, 2600 Dublin Road\, Columbus\, OH\, 43228\, United States
END:VEVENT
BEGIN:VEVENT
DTSTART;TZID=America/New_York:20241213T160000
DTEND;TZID=America/New_York:20241213T170000
DTSTAMP:20260420T042256
CREATED:20241126T145246Z
LAST-MODIFIED:20241126T145246Z
UID:10002132-1734105600-1734109200@www.metroparks.net
SUMMARY:Sunset and S'mores
DESCRIPTION:Enjoy watching the sunset while eating a toasty s’more around a warm campfire at Quarry Trails Metro Park! Meet at the Basin Parking Lot\, all equipment provided. \nQuarry Trails Metro Park has several separate park entrances. The address is 2319 Quarry Trails Dr\, Columbus\, OH. This is a newly opened entrance. Please follow signage and be on the lookout for construction traffic.
URL:https://www.metroparks.net/event/sunset-and-smores-3/2024-12-13/
LOCATION:Quarry Trails\, 2600 Dublin Road\, Columbus\, OH\, 43228\, United States
ATTACH;FMTTYPE=image/jpeg:https://www.metroparks.net/wp-content/uploads/2024/11/QT_PumpkinRoll2024_LizChristian-37.jpg
END:VEVENT
BEGIN:VEVENT
DTSTART;TZID=America/New_York:20241030T180000
DTEND;TZID=America/New_York:20241030T190000
DTSTAMP:20260420T042256
CREATED:20240930T163809Z
LAST-MODIFIED:20240930T163809Z
UID:10001916-1730311200-1730314800@www.metroparks.net
SUMMARY:Cemetery Hike
DESCRIPTION:Meet at the Dog Park parking lot -use address 2600 Dublin Road Columbus OH 43228. Follow the road all the way till it forces you to turn left and the parking lot will be on your right.\nTake a half a mile round trip hike to the Cemetery to learn about it!
URL:https://www.metroparks.net/event/cemetery-hike/
LOCATION:Quarry Trails\, 2600 Dublin Road\, Columbus\, OH\, 43228\, United States
END:VEVENT
BEGIN:VEVENT
DTSTART;TZID=America/New_York:20241022T180000
DTEND;TZID=America/New_York:20241022T190000
DTSTAMP:20260420T042256
CREATED:20240926T164633Z
LAST-MODIFIED:20240926T164633Z
UID:10001892-1729620000-1729623600@www.metroparks.net
SUMMARY:Fall Foliage Ride
DESCRIPTION:Join us for a ride around Quarry Trails Metro Park! If you have your own bike and equipment\, you do not need to register. We have a few adult bikes available for people to borrow\, but you must register to reserve your bike. Meet at the Park Office! Use the address 2600 Dublin Road\, and follow signs to the Park Office. \nRegister here.
URL:https://www.metroparks.net/event/fall-foliage-ride/
LOCATION:Quarry Trails\, 2600 Dublin Road\, Columbus\, OH\, 43228\, United States
END:VEVENT
BEGIN:VEVENT
DTSTART;TZID=America/New_York:20241019T140000
DTEND;TZID=America/New_York:20241019T150000
DTSTAMP:20260420T042256
CREATED:20240930T163716Z
LAST-MODIFIED:20240930T163716Z
UID:10001915-1729346400-1729350000@www.metroparks.net
SUMMARY:Leaf Craft
DESCRIPTION:Meet at the Dog Park parking lot-use address 2600 Dublin Rd Columbus OH 43228. Follow the road all the way till it forces you to turn left and the dog park will be on your right.\nTake a 1 mile hike to collect leaves and then make a craft with them!
URL:https://www.metroparks.net/event/leaf-craft/
LOCATION:Quarry Trails\, 2600 Dublin Road\, Columbus\, OH\, 43228\, United States
ATTACH;FMTTYPE=image/jpeg:https://www.metroparks.net/wp-content/uploads/2020/02/Cunningham-Larry-Autumn-Leaf-After-Rain-BLN-1080p.jpg
END:VEVENT
BEGIN:VEVENT
DTSTART;TZID=America/New_York:20241018T170000
DTEND;TZID=America/New_York:20241018T180000
DTSTAMP:20260420T042256
CREATED:20240930T163422Z
LAST-MODIFIED:20240930T163422Z
UID:10001914-1729270800-1729274400@www.metroparks.net
SUMMARY:Campfire Building and Cooking
DESCRIPTION:Meet at the Kingfisher Shelter in the Lake Area parking lot- use address 2319 Quarry Trails Drive.\nCome learn how to build a fire and make some tasty treats.
URL:https://www.metroparks.net/event/campfire-building-and-cooking/
LOCATION:Quarry Trails\, 2600 Dublin Road\, Columbus\, OH\, 43228\, United States
ATTACH;FMTTYPE=image/jpeg:https://www.metroparks.net/wp-content/uploads/2023/10/SLR_50FallFestCampfire_LizChristian-scaled.jpg
END:VEVENT
BEGIN:VEVENT
DTSTART;TZID=America/New_York:20240928T140000
DTEND;TZID=America/New_York:20240928T153000
DTSTAMP:20260420T042256
CREATED:20240827T172639Z
LAST-MODIFIED:20240827T172639Z
UID:10001773-1727532000-1727537400@www.metroparks.net
SUMMARY:Homemade Bird Food Craft
DESCRIPTION:Meet at the Kingfisher Shelter. Use address 2319 Quarry Trails Drive Columbus OH 43228. Make a homemade bird food craft to take home!
URL:https://www.metroparks.net/event/homemade-bird-food-craft/
LOCATION:Quarry Trails\, 2600 Dublin Road\, Columbus\, OH\, 43228\, United States
END:VEVENT
BEGIN:VEVENT
DTSTART;TZID=America/New_York:20240925T180000
DTEND;TZID=America/New_York:20240925T190000
DTSTAMP:20260420T042256
CREATED:20240830T135013Z
LAST-MODIFIED:20240830T135013Z
UID:10001809-1727287200-1727290800@www.metroparks.net
SUMMARY:Adventure Book Club!
DESCRIPTION:Join us for our Monthly Adventure Book Club! No registration necessary\, all are welcome. This months book is “Pink Boots and A Machete: My Journey From NFL Cheerleader to National Geographic Explorer” by Mireya Mayor. We will meet at the end of each month to discuss a different book. Bring your own hammock or chair to lounge in the trees and chat about this months reading! We will meet at the DOG PARK PARKING LOT\, past the maintenance are/park office 2600 Dublin Road\, Columbus
URL:https://www.metroparks.net/event/adventure-book-club-5/
LOCATION:Quarry Trails\, 2600 Dublin Road\, Columbus\, OH\, 43228\, United States
END:VEVENT
BEGIN:VEVENT
DTSTART;TZID=America/New_York:20240918T190000
DTEND;TZID=America/New_York:20240918T200000
DTSTAMP:20260420T042256
CREATED:20240827T172304Z
LAST-MODIFIED:20240827T172304Z
UID:10001769-1726686000-1726689600@www.metroparks.net
SUMMARY:Harvest Full Moon Hike
DESCRIPTION:Meet in the Kingfisher Shelter Use address 2319 Quarry Trails Drive Columbus OH 43228. Come on a 1.5 mile full moon hike.
URL:https://www.metroparks.net/event/harvest-full-moon-hike/
LOCATION:Quarry Trails\, 2600 Dublin Road\, Columbus\, OH\, 43228\, United States
END:VEVENT
BEGIN:VEVENT
DTSTART;TZID=America/New_York:20240908T130000
DTEND;TZID=America/New_York:20240908T140000
DTSTAMP:20260420T042256
CREATED:20240826T163356Z
LAST-MODIFIED:20240826T163356Z
UID:10001729-1725800400-1725804000@www.metroparks.net
SUMMARY:Loose Leaf Tea
DESCRIPTION:Meet in the Kingfisher Shelter. Use address 2319 Quarry Trails Drive Columbus Oh 43228. Come and make some loose leaf tea to take home. All supplies provided.
URL:https://www.metroparks.net/event/loose-leaf-tea/
LOCATION:Quarry Trails\, 2600 Dublin Road\, Columbus\, OH\, 43228\, United States
END:VEVENT
BEGIN:VEVENT
DTSTART;TZID=America/New_York:20240906T110000
DTEND;TZID=America/New_York:20240906T130000
DTSTAMP:20260420T042256
CREATED:20240830T135440Z
LAST-MODIFIED:20240830T135440Z
UID:10001814-1725620400-1725627600@www.metroparks.net
SUMMARY:Try It! Kayaking
DESCRIPTION:Come out anytime during the listed times and enjoy kayaking on the lake at Quarry Trails Metro Park\, first come first served. Solo\, sit in kayaks available for ages 10+\, max weight: 275Ibs. A couple of tandem kayaks will be available for participants of all ages\, with an adult\, on a first come first serve basis. Equipment and instruction is provided. Free and fun!\nQuarry Trails Metro Park has several park entrances-\n* The closest parking lot to the paddling launch area is off of Trabue Road. The address is 2319 Quarry Trails Dr\, Columbus\, OH. This is a newly opened entrance. Please follow signage and be on the lookout for construction traffic.
URL:https://www.metroparks.net/event/try-it-kayaking-8/
LOCATION:Quarry Trails\, 2600 Dublin Road\, Columbus\, OH\, 43228\, United States
END:VEVENT
BEGIN:VEVENT
DTSTART;TZID=America/New_York:20240903T110000
DTEND;TZID=America/New_York:20240903T140000
DTSTAMP:20260420T042256
CREATED:20240830T135535Z
LAST-MODIFIED:20240830T135535Z
UID:10001815-1725361200-1725372000@www.metroparks.net
SUMMARY:Try It! Kayak and SUP
DESCRIPTION:Come out to the new Quarry Trails Metro Park and try out a standup paddle board or kayak! Solo\, sit in kayaks will be available with a max weight of 275 lbs\, and are open to ages 10+. A couple of tandem kayaks will be available for all ages with an adult present. Ages 10+ for SUP. Equipment and instruction provided. First come first served. 2319 Quarry Trails Dr\, Columbus\, OH. This is a newly opened entrance\, please follow signage and be on the lookout for construction traffic.
URL:https://www.metroparks.net/event/try-it-kayak-and-sup-3/
LOCATION:Quarry Trails\, 2600 Dublin Road\, Columbus\, OH\, 43228\, United States
ATTACH;FMTTYPE=image/jpeg:https://www.metroparks.net/wp-content/uploads/2024/06/POK-Kayaking-JackRockwood-2024-05-31-1.jpg
END:VEVENT
BEGIN:VEVENT
DTSTART;TZID=America/New_York:20240830T193000
DTEND;TZID=America/New_York:20240830T203000
DTSTAMP:20260420T042256
CREATED:20240723T144618Z
LAST-MODIFIED:20240723T144618Z
UID:10001610-1725046200-1725049800@www.metroparks.net
SUMMARY:Sunset & S'mores
DESCRIPTION:Come meet at the sled hill parking lot. Use address 2600 Dublin Road Columbus OH 43228 and follow the road back to the Sled Hill parking lot\, the second gravel parking lot on your right. Enjoy the sunset and a s’more!
URL:https://www.metroparks.net/event/sunset-smores/
LOCATION:Quarry Trails\, 2600 Dublin Road\, Columbus\, OH\, 43228\, United States
END:VEVENT
BEGIN:VEVENT
DTSTART;TZID=America/New_York:20240828T180000
DTEND;TZID=America/New_York:20240828T190000
DTSTAMP:20260420T042256
CREATED:20240802T181108Z
LAST-MODIFIED:20240802T181108Z
UID:10001699-1724868000-1724871600@www.metroparks.net
SUMMARY:Adventure Book Club!
DESCRIPTION:Join us for our Monthly Adventure Book Club! No registration necessary\, all are welcome. This months book is “The Sun is a Compass” by Caroline Van Hermert. We will meet at the end of each month to discuss a different book. Bring your own hammock or chair to lounge in the trees and chat about this months reading! We will meet at the DOG PARK PARKING LOT\, past the maintenance are/park office 2600 Dublin Road\, Columbus
URL:https://www.metroparks.net/event/adventure-book-club-4/
LOCATION:Quarry Trails\, 2600 Dublin Road\, Columbus\, OH\, 43228\, United States
ATTACH;FMTTYPE=image/jpeg:https://www.metroparks.net/wp-content/uploads/2024/08/40696959.jpg
END:VEVENT
BEGIN:VEVENT
DTSTART;TZID=America/New_York:20240824T140000
DTEND;TZID=America/New_York:20240824T160000
DTSTAMP:20260420T042256
CREATED:20240723T144403Z
LAST-MODIFIED:20240723T144403Z
UID:10001608-1724508000-1724515200@www.metroparks.net
SUMMARY:Homemade Dog Treat
DESCRIPTION:Meet at the Dog Park. Use address 2600 Dublin Rd Columbus OH 43228 and follow the roadway till it stops and take a left. The dog park will be on your right.\nCome and make a no-bake dog treat for your pet to enjoy!
URL:https://www.metroparks.net/event/homemade-dog-treat-2/
LOCATION:Quarry Trails\, 2600 Dublin Road\, Columbus\, OH\, 43228\, United States
ATTACH;FMTTYPE=image/jpeg:https://www.metroparks.net/wp-content/uploads/2024/07/QT_WinkingDog_LizChristian-1.jpg
END:VEVENT
BEGIN:VEVENT
DTSTART;TZID=America/New_York:20240822T150000
DTEND;TZID=America/New_York:20240822T170000
DTSTAMP:20260420T042256
CREATED:20240802T175543Z
LAST-MODIFIED:20240802T175543Z
UID:10001686-1724338800-1724346000@www.metroparks.net
SUMMARY:Try It! Kayaking
DESCRIPTION:Come out anytime during the listed times and enjoy kayaking the lake at Quarry Trails Metro Park\, kayaking will be first come first served. Solo\, sit in kayaks available for ages 10+\, max weight: 275Ibs. A couple of tandem kayaks will be available for participants of all ages\, with an adult\, on a first come first serve basis. Equipment and instruction is provided. Free and fun! \nQuarry Trails Metro Park has several park entrances-\n* The closest parking lot to the paddling launch area is off of Trabue Road. The address is 2319 Quarry Trails Dr\, Columbus\, OH. This is a newly opened entrance. Please follow signage and be on the lookout for construction traffic.
URL:https://www.metroparks.net/event/try-it-kayaking-7/2024-08-22/
LOCATION:Quarry Trails\, 2600 Dublin Road\, Columbus\, OH\, 43228\, United States
ATTACH;FMTTYPE=image/jpeg:https://www.metroparks.net/wp-content/uploads/2024/07/1200px_QTR-paddleboarding-etc.jpg
END:VEVENT
BEGIN:VEVENT
DTSTART;TZID=America/New_York:20240820T150000
DTEND;TZID=America/New_York:20240820T180000
DTSTAMP:20260420T042256
CREATED:20240802T175758Z
LAST-MODIFIED:20240802T175758Z
UID:10001689-1724166000-1724176800@www.metroparks.net
SUMMARY:Try It! SUP
DESCRIPTION:Come out and try standup paddle boarding for free at Quarry Trails Metro Park. First come first served. All equipment provided. Ages 10+\nQuarry Trails Metro Park has several park entrances-\n* The closest parking lot to the paddling launch area is off of Trabue Road. The address is 2319 Quarry Trails Dr\, Columbus\, OH. This is a newly opened entrance. Please follow signage and be on the lookout for construction traffic.
URL:https://www.metroparks.net/event/try-it-sup-4/
LOCATION:Quarry Trails\, 2600 Dublin Road\, Columbus\, OH\, 43228\, United States
ATTACH;FMTTYPE=image/jpeg:https://www.metroparks.net/wp-content/uploads/2020/08/SUP-program-POK-DBL-turpening-june-2020.jpg
END:VEVENT
BEGIN:VEVENT
DTSTART;TZID=America/New_York:20240818T100000
DTEND;TZID=America/New_York:20240818T130000
DTSTAMP:20260420T042256
CREATED:20240802T180909Z
LAST-MODIFIED:20240802T180909Z
UID:10001698-1723975200-1723986000@www.metroparks.net
SUMMARY:Try It! Kayaking and SUP
DESCRIPTION:Come out and try standup paddle boarding and kayaking for free at Quarry Trails Metro Park. First come first served. All equipment provided. SUPs and Solo sit-in kayaks ages 10+ only. Tandems open for all ages. Solo sit-kayaks have a 275Ibs limit.\nQuarry Trails Metro Park has several park entrances-\n* The closest parking lot to the paddling launch area is off of Trabue Road. The address is 2319 Quarry Trails Dr\, Columbus\, OH. This is a newly opened entrance. Please follow signage and be on the lookout for construction traffic.
URL:https://www.metroparks.net/event/try-it-kayaking-and-sup-6/
LOCATION:Quarry Trails\, 2600 Dublin Road\, Columbus\, OH\, 43228\, United States
ATTACH;FMTTYPE=image/jpeg:https://www.metroparks.net/wp-content/uploads/2016/02/1080p_Camp-2016_Day-Travelers_kayaking-6_SGR_vgordon.jpg
END:VEVENT
BEGIN:VEVENT
DTSTART;TZID=America/New_York:20240811T100000
DTEND;TZID=America/New_York:20240811T110000
DTSTAMP:20260420T042256
CREATED:20240723T144432Z
LAST-MODIFIED:20240723T144432Z
UID:10001609-1723370400-1723374000@www.metroparks.net
SUMMARY:Wildflower Walk
DESCRIPTION:Meet at the Kingfisher Shelter (use address 2319 Quarry Trails Drive Columbus OH 43228). Come on a 1 mile hike to look for wildflowers.
URL:https://www.metroparks.net/event/wildflower-walk-4/
LOCATION:Quarry Trails\, 2600 Dublin Road\, Columbus\, OH\, 43228\, United States
END:VEVENT
BEGIN:VEVENT
DTSTART;TZID=America/New_York:20240808T100000
DTEND;TZID=America/New_York:20240808T130000
DTSTAMP:20260420T042256
CREATED:20240802T175543Z
LAST-MODIFIED:20240802T175543Z
UID:10001685-1723111200-1723122000@www.metroparks.net
SUMMARY:Try It! Kayaking
DESCRIPTION:Come out anytime during the listed times and enjoy kayaking the lake at Quarry Trails Metro Park\, kayaking will be first come first served. Solo\, sit in kayaks available for ages 10+\, max weight: 275Ibs. A couple of tandem kayaks will be available for participants of all ages\, with an adult\, on a first come first serve basis. Equipment and instruction is provided. Free and fun! \nQuarry Trails Metro Park has several park entrances-\n* The closest parking lot to the paddling launch area is off of Trabue Road. The address is 2319 Quarry Trails Dr\, Columbus\, OH. This is a newly opened entrance. Please follow signage and be on the lookout for construction traffic.
URL:https://www.metroparks.net/event/try-it-kayaking-7/2024-08-08/
LOCATION:Quarry Trails\, 2600 Dublin Road\, Columbus\, OH\, 43228\, United States
ATTACH;FMTTYPE=image/jpeg:https://www.metroparks.net/wp-content/uploads/2024/07/1200px_QTR-paddleboarding-etc.jpg
END:VEVENT
BEGIN:VEVENT
DTSTART;TZID=America/New_York:20240731T180000
DTEND;TZID=America/New_York:20240731T190000
DTSTAMP:20260420T042256
CREATED:20240628T133737Z
LAST-MODIFIED:20240628T133737Z
UID:10001561-1722448800-1722452400@www.metroparks.net
SUMMARY:Adventure Book Club
DESCRIPTION:Join us for our Monthly Adventure Book Club! No registration necessary\, all are welcome. This months book is “Between a Rock and a Hard Place” by Aron Ralston. We will meet at the end of each month to discuss a different book. Bring your own hammock or chair to lounge in the trees and chat about this months reading! We will meet at the DOG PARK PARKING LOT\, past the maintenance are/park office 2600 Dublin Road\, Columbus
URL:https://www.metroparks.net/event/adventure-book-club-3/
LOCATION:Quarry Trails\, 2600 Dublin Road\, Columbus\, OH\, 43228\, United States
END:VEVENT
BEGIN:VEVENT
DTSTART;TZID=America/New_York:20240728T120000
DTEND;TZID=America/New_York:20240728T150000
DTSTAMP:20260420T042256
CREATED:20240628T132543Z
LAST-MODIFIED:20240628T132543Z
UID:10001549-1722168000-1722178800@www.metroparks.net
SUMMARY:Try It! Kayaking
DESCRIPTION:Come out anytime during the listed time and enjoy kayaking the lake at Quarry Trails Metro Park\, kayaking will be first come first served. Solo\, sit in kayaks available for ages 10+\, max weight: 275Ibs. A couple of tandem kayaks will be available for participants of all ages\, with an adult\, on a first come first serve basis. Equipment and instruction is provided. Free and fun!\nQuarry Trails Metro Park has several park entrances-\n* The closest parking lot to the paddling launch area is off of Trabue Road. The address is 2319 Quarry Trails Dr\, Columbus\, OH. This is a newly opened entrance. Please follow signage and be on the lookout for construction traffic.
URL:https://www.metroparks.net/event/try-it-kayaking-6/2024-07-28/
LOCATION:Quarry Trails\, 2600 Dublin Road\, Columbus\, OH\, 43228\, United States
ATTACH;FMTTYPE=image/jpeg:https://www.metroparks.net/wp-content/uploads/2022/02/Camp-at-HBK_Virginia-Gordon-scaled.jpg
END:VEVENT
BEGIN:VEVENT
DTSTART;TZID=America/New_York:20240728T100000
DTEND;TZID=America/New_York:20240728T113000
DTSTAMP:20260420T042256
CREATED:20240628T133712Z
LAST-MODIFIED:20240628T133712Z
UID:10001560-1722160800-1722166200@www.metroparks.net
SUMMARY:50+ Kayaking
DESCRIPTION:Enjoy kayaking on the lakes at Quarry Trails Metro Park. 50+ only\, all equipment and instruction provided. The Lake Area parking lot is at 2319 Quarry Trails Drive\, Columbus\, Ohio 43228.
URL:https://www.metroparks.net/event/50-kayaking/
LOCATION:Quarry Trails\, 2600 Dublin Road\, Columbus\, OH\, 43228\, United States
END:VEVENT
BEGIN:VEVENT
DTSTART;TZID=America/New_York:20240727T100000
DTEND;TZID=America/New_York:20240727T150000
DTSTAMP:20260420T042256
CREATED:20240625T171546Z
LAST-MODIFIED:20240625T171546Z
UID:10001524-1722074400-1722092400@www.metroparks.net
SUMMARY:Scavenger Hunt
DESCRIPTION:Come grab a Scavenger Hunt sheet from the Lobby at the Park Office. Use address 2600 Dublin Road Columbus OH 43228. Drive the main road to the dead end and turn left. The park office is on your left. Grab a sheet between 10am and 3pm and complete the Scavenger Hunt to receive a prize!
URL:https://www.metroparks.net/event/scavenger-hunt-2/
LOCATION:Quarry Trails\, 2600 Dublin Road\, Columbus\, OH\, 43228\, United States
END:VEVENT
END:VCALENDAR