BEGIN:VCALENDAR
VERSION:2.0
PRODID:-//Metro Parks - Central Ohio Park System - ECPv6.15.16.1//NONSGML v1.0//EN
CALSCALE:GREGORIAN
METHOD:PUBLISH
X-WR-CALNAME:Metro Parks - Central Ohio Park System
X-ORIGINAL-URL:https://www.metroparks.net
X-WR-CALDESC:Events for Metro Parks - Central Ohio Park System
REFRESH-INTERVAL;VALUE=DURATION:PT1H
X-Robots-Tag:noindex
X-PUBLISHED-TTL:PT1H
BEGIN:VTIMEZONE
TZID:America/New_York
BEGIN:DAYLIGHT
TZOFFSETFROM:-0500
TZOFFSETTO:-0400
TZNAME:EDT
DTSTART:20220313T070000
END:DAYLIGHT
BEGIN:STANDARD
TZOFFSETFROM:-0400
TZOFFSETTO:-0500
TZNAME:EST
DTSTART:20221106T060000
END:STANDARD
BEGIN:DAYLIGHT
TZOFFSETFROM:-0500
TZOFFSETTO:-0400
TZNAME:EDT
DTSTART:20230312T070000
END:DAYLIGHT
BEGIN:STANDARD
TZOFFSETFROM:-0400
TZOFFSETTO:-0500
TZNAME:EST
DTSTART:20231105T060000
END:STANDARD
BEGIN:DAYLIGHT
TZOFFSETFROM:-0500
TZOFFSETTO:-0400
TZNAME:EDT
DTSTART:20240310T070000
END:DAYLIGHT
BEGIN:STANDARD
TZOFFSETFROM:-0400
TZOFFSETTO:-0500
TZNAME:EST
DTSTART:20241103T060000
END:STANDARD
BEGIN:DAYLIGHT
TZOFFSETFROM:-0500
TZOFFSETTO:-0400
TZNAME:EDT
DTSTART:20250309T070000
END:DAYLIGHT
BEGIN:STANDARD
TZOFFSETFROM:-0400
TZOFFSETTO:-0500
TZNAME:EST
DTSTART:20251102T060000
END:STANDARD
END:VTIMEZONE
BEGIN:VEVENT
DTSTART;TZID=America/New_York:20240530T150000
DTEND;TZID=America/New_York:20240530T180000
DTSTAMP:20260420T111125
CREATED:20240429T132814Z
LAST-MODIFIED:20240429T132814Z
UID:10001289-1717081200-1717092000@www.metroparks.net
SUMMARY:Try It! Kayaking
DESCRIPTION:Come out to the new Quarry Trails Metro Park and try out a kayak! Solo\, sit in kayaks will be available with a max weight of 275 lbs\, and are open to ages 10+. A couple of tandem kayaks will be available for all ages with an adult present. Equipment and instruction provided. First come first served.\n2319 Quarry Trails Dr\, Columbus\, OH has the closest parking lot to the water. This is a newly opened entrance\, please follow signage and be on the lookout for construction traffic.
URL:https://www.metroparks.net/event/try-it-kayaking-4/
LOCATION:Quarry Trails\, 2600 Dublin Road\, Columbus\, OH\, 43228\, United States
ATTACH;FMTTYPE=image/jpeg:https://www.metroparks.net/wp-content/uploads/2024/04/QT_Kayaks_HonourLackey.jpg
END:VEVENT
BEGIN:VEVENT
DTSTART;TZID=America/New_York:20240517T170000
DTEND;TZID=America/New_York:20240517T180000
DTSTAMP:20260420T111125
CREATED:20240429T140021Z
LAST-MODIFIED:20240429T140021Z
UID:10001308-1715965200-1715968800@www.metroparks.net
SUMMARY:Introduction To Rucking
DESCRIPTION:Rucking is a form of exercise that combines walking/hiking with weight training! Learn about the tips and tricks of this interesting and cost-effective exercise routine! The program will consist of basic introduction and history of Rucking as well as the opportunity to practice rucking on your own! We recommend that you bring your own backpack for the practice portion of the program!
URL:https://www.metroparks.net/event/introduction-to-rucking-3/
LOCATION:Quarry Trails\, 2600 Dublin Road\, Columbus\, OH\, 43228\, United States
END:VEVENT
BEGIN:VEVENT
DTSTART;TZID=America/New_York:20240517T120000
DTEND;TZID=America/New_York:20240517T130000
DTSTAMP:20260420T111125
CREATED:20240422T134221Z
LAST-MODIFIED:20240422T134221Z
UID:10001239-1715947200-1715950800@www.metroparks.net
SUMMARY:Salamander Stroll
DESCRIPTION:Meet at the Dog Park Parking lot. Use address 2600 Dublin Rd Columbus Oh 43228 and follow the sign back to the dog park.\nLearn about salamanders and take a 1 mile hike to look for them.
URL:https://www.metroparks.net/event/salamander-stroll/
LOCATION:Quarry Trails\, 2600 Dublin Road\, Columbus\, OH\, 43228\, United States
ATTACH;FMTTYPE=image/jpeg:https://www.metroparks.net/wp-content/uploads/2021/07/SLR_red-backed-salamander_SLR_May_Andrea-Krava-scaled-1.jpg
END:VEVENT
BEGIN:VEVENT
DTSTART;TZID=America/New_York:20240428T110000
DTEND;TZID=America/New_York:20240428T130000
DTSTAMP:20260420T111125
CREATED:20240325T144235Z
LAST-MODIFIED:20240325T144235Z
UID:10001189-1714302000-1714309200@www.metroparks.net
SUMMARY:Fly Fishing 101
DESCRIPTION:Have you ever wanted to learn about fly fishing but didn’t know where to start? Come to this free and fun program and learn what fly fishing is and how to get started! We will practice casting and get a chance to fish on the beautiful lakes at Quarry Trails Metro Park! All equipment provided. Quarry Trails Metro Park has several park entrances-\n* The closest parking lot to the Lakes is off of Trabue Road. The address is 2319 Quarry Trails Dr\, Columbus\, OH. This is a newly opened entrance. Please follow signage and be on the lookout for construction traffic.
URL:https://www.metroparks.net/event/fly-fishing-101/
LOCATION:Quarry Trails\, 2600 Dublin Road\, Columbus\, OH\, 43228\, United States
END:VEVENT
BEGIN:VEVENT
DTSTART;TZID=America/New_York:20240426T150000
DTEND;TZID=America/New_York:20240426T160000
DTSTAMP:20260420T111125
CREATED:20240325T143802Z
LAST-MODIFIED:20240325T143802Z
UID:10001184-1714143600-1714147200@www.metroparks.net
SUMMARY:Quarry Trails History Hike
DESCRIPTION:Meet at Sled Hill parking lot – use address 2600 Dublin Road and turn into the 4th parking lot (gravel).\nCome on a 3 mile hike to learn about the history of Quarry Trails.
URL:https://www.metroparks.net/event/quarry-trails-history-hike/
LOCATION:Quarry Trails\, 2600 Dublin Road\, Columbus\, OH\, 43228\, United States
ATTACH;FMTTYPE=image/jpeg:https://www.metroparks.net/wp-content/uploads/2022/12/STEPS-UP-TO-AND-FALLS-at-Millikin-Falls-1200px.jpg
END:VEVENT
BEGIN:VEVENT
DTSTART;TZID=America/New_York:20240422T170000
DTEND;TZID=America/New_York:20240422T180000
DTSTAMP:20260420T111125
CREATED:20240325T142725Z
LAST-MODIFIED:20240325T142725Z
UID:10001177-1713805200-1713808800@www.metroparks.net
SUMMARY:Earth Day Tree Planting
DESCRIPTION:Meet at the dog park parking lot (use address 2600 Dublin Road Columbus OH) and drive back to the dog park.\nCome and plant trees for earth day. All supplies provided.
URL:https://www.metroparks.net/event/earth-day-tree-planting/
LOCATION:Quarry Trails\, 2600 Dublin Road\, Columbus\, OH\, 43228\, United States
END:VEVENT
BEGIN:VEVENT
DTSTART;TZID=America/New_York:20240420T140000
DTEND;TZID=America/New_York:20240420T150000
DTSTAMP:20260420T111125
CREATED:20240325T141823Z
LAST-MODIFIED:20240325T141823Z
UID:10001170-1713621600-1713625200@www.metroparks.net
SUMMARY:Homemade Dog Treat
DESCRIPTION:Meet in Dog Park parking lot. Use address 2600 Dublin Rd Columbus OH 43228 and follow the road all the way to the dog park.\nCome make a no-bake treat for your dog and enjoy the dog park!
URL:https://www.metroparks.net/event/homemade-dog-treat/
LOCATION:Quarry Trails\, 2600 Dublin Road\, Columbus\, OH\, 43228\, United States
ATTACH;FMTTYPE=image/jpeg:https://www.metroparks.net/wp-content/uploads/2024/03/P1250791-scaled.jpg
END:VEVENT
BEGIN:VEVENT
DTSTART;TZID=America/New_York:20240405T170000
DTEND;TZID=America/New_York:20240405T180000
DTSTAMP:20260420T111125
CREATED:20240325T132956Z
LAST-MODIFIED:20240325T132956Z
UID:10001130-1712336400-1712340000@www.metroparks.net
SUMMARY:All About Knots
DESCRIPTION:Meet in Basin parking lot. (2319 Quarry Trails Drive)\nCome learn how to tie 5 different kind of knots. Rope provided.
URL:https://www.metroparks.net/event/all-about-knots/
LOCATION:Quarry Trails\, 2600 Dublin Road\, Columbus\, OH\, 43228\, United States
END:VEVENT
BEGIN:VEVENT
DTSTART;TZID=America/New_York:20240331T160000
DTEND;TZID=America/New_York:20240331T170000
DTSTAMP:20260420T111125
CREATED:20240228T155932Z
LAST-MODIFIED:20240228T155932Z
UID:10001116-1711900800-1711904400@www.metroparks.net
SUMMARY:Adventure Book Club!
DESCRIPTION:Join us for our Monthly Adventure Book Club! No registration necessary\, all are welcome. This months book is “Touching the Void: The True Story of One Mans Miraculous Survival” By Joe Simpson. We will meet at the end of each month to discuss a different book.\nBring your own hammock or chair to lounge in the trees and chat about this months reading!\nWe will meet at the Dog Park Parking lot\, use the north entrance off of Dublin/Roberts Rd and follow signage to the dog park!\n2600 Dublin Road\, Columbus
URL:https://www.metroparks.net/event/adventure-book-club/
LOCATION:Quarry Trails\, 2600 Dublin Road\, Columbus\, OH\, 43228\, United States
END:VEVENT
BEGIN:VEVENT
DTSTART;TZID=America/New_York:20240313T170000
DTEND;TZID=America/New_York:20240313T190000
DTSTAMP:20260420T111125
CREATED:20240228T155655Z
LAST-MODIFIED:20240228T155655Z
UID:10001112-1710349200-1710356400@www.metroparks.net
SUMMARY:Ladies - Fly Fishing 101
DESCRIPTION:Learn how to fly fish with other adventure ladies at Quarry Trails Metro Park! All equipment and instruction is provided for this program Learn the basics of fly fishing\, and then fish on the lake with an instructor! Meet at Lakes Area Parking Lot: 2319 Quarry Trails Drive\, Columbus\, OH
URL:https://www.metroparks.net/event/ladies-fly-fishing-101/
LOCATION:Quarry Trails\, 2600 Dublin Road\, Columbus\, OH\, 43228\, United States
END:VEVENT
BEGIN:VEVENT
DTSTART;TZID=America/New_York:20240223T170000
DTEND;TZID=America/New_York:20240223T183000
DTSTAMP:20260420T111125
CREATED:20240130T144850Z
LAST-MODIFIED:20240130T144850Z
UID:10001024-1708707600-1708713000@www.metroparks.net
SUMMARY:Sunset and S'mores
DESCRIPTION:Enjoy watching the sunset while eating a toasty s’more around a warm campfire at Quarry Trails Metro Park! Meet at the Basin Parking Lot\, all equipment provided. \nQuarry Trails Metro Park has several separate park entrances. The address is 2319 Quarry Trails Dr\, Columbus\, OH. This is a newly opened entrance. Please follow signage and be on the lookout for construction traffic.
URL:https://www.metroparks.net/event/sunset-and-smores-2/2024-02-23/
LOCATION:Quarry Trails\, 2600 Dublin Road\, Columbus\, OH\, 43228\, United States
ATTACH;FMTTYPE=image/jpeg:https://www.metroparks.net/wp-content/uploads/2019/03/gallery-spring-QTR-bonfire-party-1080p.jpg
END:VEVENT
BEGIN:VEVENT
DTSTART;TZID=America/New_York:20240216T170000
DTEND;TZID=America/New_York:20240216T183000
DTSTAMP:20260420T111125
CREATED:20240130T144850Z
LAST-MODIFIED:20240130T144850Z
UID:10001023-1708102800-1708108200@www.metroparks.net
SUMMARY:Sunset and S'mores
DESCRIPTION:Enjoy watching the sunset while eating a toasty s’more around a warm campfire at Quarry Trails Metro Park! Meet at the Basin Parking Lot\, all equipment provided. \nQuarry Trails Metro Park has several separate park entrances. The address is 2319 Quarry Trails Dr\, Columbus\, OH. This is a newly opened entrance. Please follow signage and be on the lookout for construction traffic.
URL:https://www.metroparks.net/event/sunset-and-smores-2/2024-02-16/
LOCATION:Quarry Trails\, 2600 Dublin Road\, Columbus\, OH\, 43228\, United States
ATTACH;FMTTYPE=image/jpeg:https://www.metroparks.net/wp-content/uploads/2019/03/gallery-spring-QTR-bonfire-party-1080p.jpg
END:VEVENT
BEGIN:VEVENT
DTSTART;TZID=America/New_York:20240212T120000
DTEND;TZID=America/New_York:20240212T133000
DTSTAMP:20260420T111125
CREATED:20240130T145541Z
LAST-MODIFIED:20240130T145541Z
UID:10001025-1707739200-1707744600@www.metroparks.net
SUMMARY:Lunar New Year Hot Coco and Hike
DESCRIPTION:Celebrate the Lunar New Year with Outdoor Adventure! Grab a hot coco\, treat bag\, and go for a hike around the beautiful Quarry Trails Metro Park! Meet at the Lakes. The address is 2319 Quarry Trails Dr\, Columbus\, OH. This is a newly opened entrance. Please follow signage and be on the lookout for construction traffic.
URL:https://www.metroparks.net/event/lunar-new-year-hot-coco-and-hike/
LOCATION:Quarry Trails\, 2600 Dublin Road\, Columbus\, OH\, 43228\, United States
END:VEVENT
BEGIN:VEVENT
DTSTART;TZID=America/New_York:20240211T100000
DTEND;TZID=America/New_York:20240211T130000
DTSTAMP:20260420T111125
CREATED:20231115T180321Z
LAST-MODIFIED:20231207T151232Z
UID:10000739-1707645600-1707656400@www.metroparks.net
SUMMARY:Quarry Trails Winter Hike
DESCRIPTION:Gather your friends and family for a hike on any trail at Quarry Trails Metro Park. Refreshments and a treat will be served between 10am and 1pm. \nLearn more about winter hikes by clicking here.
URL:https://www.metroparks.net/event/quarry-trails-winter-hike/
LOCATION:Quarry Trails\, 2600 Dublin Road\, Columbus\, OH\, 43228\, United States
ATTACH;FMTTYPE=image/png:https://www.metroparks.net/wp-content/uploads/2023/11/QT.png
END:VEVENT
BEGIN:VEVENT
DTSTART;TZID=America/New_York:20240209T163000
DTEND;TZID=America/New_York:20240209T180000
DTSTAMP:20260420T111125
CREATED:20240130T144850Z
LAST-MODIFIED:20240130T144850Z
UID:10001022-1707496200-1707501600@www.metroparks.net
SUMMARY:Sunset and S'mores
DESCRIPTION:Enjoy watching the sunset while eating a toasty s’more around a warm campfire at Quarry Trails Metro Park! Meet at the Basin Parking Lot\, all equipment provided. \nQuarry Trails Metro Park has several separate park entrances. The address is 2319 Quarry Trails Dr\, Columbus\, OH. This is a newly opened entrance. Please follow signage and be on the lookout for construction traffic.
URL:https://www.metroparks.net/event/sunset-and-smores-2/2024-02-09/
LOCATION:Quarry Trails\, 2600 Dublin Road\, Columbus\, OH\, 43228\, United States
ATTACH;FMTTYPE=image/jpeg:https://www.metroparks.net/wp-content/uploads/2019/03/gallery-spring-QTR-bonfire-party-1080p.jpg
END:VEVENT
BEGIN:VEVENT
DTSTART;TZID=America/New_York:20240202T163000
DTEND;TZID=America/New_York:20240202T180000
DTSTAMP:20260420T111125
CREATED:20240130T144850Z
LAST-MODIFIED:20240130T144850Z
UID:10001021-1706891400-1706896800@www.metroparks.net
SUMMARY:Sunset and S'mores
DESCRIPTION:Enjoy watching the sunset while eating a toasty s’more around a warm campfire at Quarry Trails Metro Park! Meet at the Basin Parking Lot\, all equipment provided. \nQuarry Trails Metro Park has several separate park entrances. The address is 2319 Quarry Trails Dr\, Columbus\, OH. This is a newly opened entrance. Please follow signage and be on the lookout for construction traffic.
URL:https://www.metroparks.net/event/sunset-and-smores-2/2024-02-02/
LOCATION:Quarry Trails\, 2600 Dublin Road\, Columbus\, OH\, 43228\, United States
ATTACH;FMTTYPE=image/jpeg:https://www.metroparks.net/wp-content/uploads/2019/03/gallery-spring-QTR-bonfire-party-1080p.jpg
END:VEVENT
BEGIN:VEVENT
DTSTART;TZID=America/New_York:20240126T160000
DTEND;TZID=America/New_York:20240126T173000
DTSTAMP:20260420T111125
CREATED:20231228T173919Z
LAST-MODIFIED:20231228T173919Z
UID:10000851-1706284800-1706290200@www.metroparks.net
SUMMARY:Sunset and S'mores
DESCRIPTION:Enjoy watching the sunset while eating a toasty s’more around a warm campfire at Quarry Trails Metro Park! Meet at the Basin Parking Lot\, all equipment provided. \nQuarry Trails Metro Park has several separate park entrances. The address is 2319 Quarry Trails Dr\, Columbus\, OH. This is a newly opened entrance. Please follow signage and be on the lookout for construction traffic.
URL:https://www.metroparks.net/event/sunset-and-smores/2024-01-26/
LOCATION:Quarry Trails\, 2600 Dublin Road\, Columbus\, OH\, 43228\, United States
ATTACH;FMTTYPE=image/jpeg:https://www.metroparks.net/wp-content/uploads/2019/03/gallery-spring-QTR-bonfire-party-1080p.jpg
END:VEVENT
BEGIN:VEVENT
DTSTART;TZID=America/New_York:20240119T160000
DTEND;TZID=America/New_York:20240119T173000
DTSTAMP:20260420T111125
CREATED:20231228T173919Z
LAST-MODIFIED:20231228T173919Z
UID:10000850-1705680000-1705685400@www.metroparks.net
SUMMARY:Sunset and S'mores
DESCRIPTION:Enjoy watching the sunset while eating a toasty s’more around a warm campfire at Quarry Trails Metro Park! Meet at the Basin Parking Lot\, all equipment provided. \nQuarry Trails Metro Park has several separate park entrances. The address is 2319 Quarry Trails Dr\, Columbus\, OH. This is a newly opened entrance. Please follow signage and be on the lookout for construction traffic.
URL:https://www.metroparks.net/event/sunset-and-smores/2024-01-19/
LOCATION:Quarry Trails\, 2600 Dublin Road\, Columbus\, OH\, 43228\, United States
ATTACH;FMTTYPE=image/jpeg:https://www.metroparks.net/wp-content/uploads/2019/03/gallery-spring-QTR-bonfire-party-1080p.jpg
END:VEVENT
BEGIN:VEVENT
DTSTART;TZID=America/New_York:20240112T153000
DTEND;TZID=America/New_York:20240112T173000
DTSTAMP:20260420T111125
CREATED:20231228T173919Z
LAST-MODIFIED:20231228T173919Z
UID:10000849-1705073400-1705080600@www.metroparks.net
SUMMARY:Sunset and S'mores
DESCRIPTION:Enjoy watching the sunset while eating a toasty s’more around a warm campfire at Quarry Trails Metro Park! Meet at the Basin Parking Lot\, all equipment provided. \nQuarry Trails Metro Park has several separate park entrances. The address is 2319 Quarry Trails Dr\, Columbus\, OH. This is a newly opened entrance. Please follow signage and be on the lookout for construction traffic.
URL:https://www.metroparks.net/event/sunset-and-smores/2024-01-12/
LOCATION:Quarry Trails\, 2600 Dublin Road\, Columbus\, OH\, 43228\, United States
ATTACH;FMTTYPE=image/jpeg:https://www.metroparks.net/wp-content/uploads/2019/03/gallery-spring-QTR-bonfire-party-1080p.jpg
END:VEVENT
BEGIN:VEVENT
DTSTART;TZID=America/New_York:20240105T153000
DTEND;TZID=America/New_York:20240105T170000
DTSTAMP:20260420T111125
CREATED:20231228T173919Z
LAST-MODIFIED:20231228T173919Z
UID:10000848-1704468600-1704474000@www.metroparks.net
SUMMARY:Sunset and S'mores
DESCRIPTION:Enjoy watching the sunset while eating a toasty s’more around a warm campfire at Quarry Trails Metro Park! Meet at the Basin Parking Lot\, all equipment provided. \nQuarry Trails Metro Park has several separate park entrances. The address is 2319 Quarry Trails Dr\, Columbus\, OH. This is a newly opened entrance. Please follow signage and be on the lookout for construction traffic.
URL:https://www.metroparks.net/event/sunset-and-smores/2024-01-05/
LOCATION:Quarry Trails\, 2600 Dublin Road\, Columbus\, OH\, 43228\, United States
ATTACH;FMTTYPE=image/jpeg:https://www.metroparks.net/wp-content/uploads/2019/03/gallery-spring-QTR-bonfire-party-1080p.jpg
END:VEVENT
BEGIN:VEVENT
DTSTART;TZID=America/New_York:20231021T090000
DTEND;TZID=America/New_York:20231021T100000
DTSTAMP:20260420T111125
CREATED:20230929T184752Z
LAST-MODIFIED:20230929T184752Z
UID:10000670-1697878800-1697882400@www.metroparks.net
SUMMARY:Embark Dog Hike
DESCRIPTION:Enjoy this approx. 2-mile hike around Quarry Trails Metro Park with your dog! Meet at the Lakes Parking lot. 2319 Quarry Trails Drive\, Columbus\, follow signs for the park.
URL:https://www.metroparks.net/event/embark-dog-hike/
LOCATION:Quarry Trails\, 2600 Dublin Road\, Columbus\, OH\, 43228\, United States
ATTACH;FMTTYPE=image/jpeg:https://www.metroparks.net/wp-content/uploads/2017/06/feature-image-QuarryTrails-22x9.jpg
END:VEVENT
BEGIN:VEVENT
DTSTART;TZID=America/New_York:20230829T100000
DTEND;TZID=America/New_York:20230829T150000
DTSTAMP:20260420T111125
CREATED:20230823T153238Z
LAST-MODIFIED:20230823T153238Z
UID:10000595-1693303200-1693321200@www.metroparks.net
SUMMARY:Try it! Kayaking and SUP
DESCRIPTION:Come out and try standup paddle boarding and kayaking for free at Quarry Trails Metro Park. First come first served. All equipment provided. SUPs and Solo sit-in kayaks ages 10+ only. Tandems open for all ages. Solo sit-kayaks have a 275Ibs limit.\nQuarry Trails Metro Park has several park entrances-\n* The closest parking lot to the paddling launch area is off of Trabue Road. The address is 2319 Quarry Trails Dr\, Columbus\, OH. This is a newly opened entrance. Please follow signage and be on the lookout for construction traffic.
URL:https://www.metroparks.net/event/try-it-kayaking-and-sup-3/
LOCATION:Quarry Trails\, 2600 Dublin Road\, Columbus\, OH\, 43228\, United States
ATTACH;FMTTYPE=image/jpeg:https://www.metroparks.net/wp-content/uploads/2023/07/PRO_woman-on-standup-paddleboard-Mellisa-Turpening.jpg
END:VEVENT
BEGIN:VEVENT
DTSTART;TZID=America/New_York:20230802T150000
DTEND;TZID=America/New_York:20230802T190000
DTSTAMP:20260420T111125
CREATED:20230731T134205Z
LAST-MODIFIED:20230731T134205Z
UID:10000552-1690988400-1691002800@www.metroparks.net
SUMMARY:Sasquatch and SUP
DESCRIPTION:Come out and try standup paddle boarding for free at Quarry Trails Metro Park. Maybe Sasquatch will be hanging around while you’re out on the water…. First come first served. All equipment provided. SUPs for ages 10+ only.\nQuarry Trails Metro Park has several park entrances-\n* The closest parking lot to the paddling launch area is off of Trabue Road. The address is 2319 Quarry Trails Dr\, Columbus\, OH. This is a newly opened entrance. Please follow signage and be on the lookout for construction traffic.
URL:https://www.metroparks.net/event/sasquatch-and-sup/
LOCATION:Quarry Trails\, 2600 Dublin Road\, Columbus\, OH\, 43228\, United States
END:VEVENT
BEGIN:VEVENT
DTSTART;TZID=America/New_York:20230627T170000
DTEND;TZID=America/New_York:20230627T190000
DTSTAMP:20260420T111125
CREATED:20230622T124429Z
LAST-MODIFIED:20230622T124429Z
UID:10000486-1687885200-1687892400@www.metroparks.net
SUMMARY:Try it! Kayaking and SUP
DESCRIPTION:Come out and try standup paddle boarding and kayaking for free at Quarry Trails Metro Park. First come first served. All equipment provided. SUPs and Solo sit-in kayaks ages 10+ only. Tandems open for all ages. Solo sit-kayaks have a 275Ibs limit.\nQuarry Trails Metro Park has several park entrances-\n* The closest parking lot to the paddling launch area is off of Trabue Road. The address is 2319 Quarry Trails Dr\, Columbus\, OH. This is a newly opened entrance. Please follow signage and be on the lookout for construction traffic.
URL:https://www.metroparks.net/event/try-it-kayaking-and-sup/2023-06-27/
LOCATION:Quarry Trails\, 2600 Dublin Road\, Columbus\, OH\, 43228\, United States
ATTACH;FMTTYPE=image/jpeg:https://www.metroparks.net/wp-content/uploads/2023/03/QTR_1200px_kayakers-and-dog_Kobe-Collins.jpg
END:VEVENT
BEGIN:VEVENT
DTSTART;TZID=America/New_York:20230626T180000
DTEND;TZID=America/New_York:20230626T193000
DTSTAMP:20260420T111125
CREATED:20230622T124303Z
LAST-MODIFIED:20230622T124303Z
UID:10000484-1687802400-1687807800@www.metroparks.net
SUMMARY:For Adults 50+: Kayaking and Stand Up Paddleboarding Try-It!
DESCRIPTION:Enjoy the lake from a solo\, sit-in kayak or stand up paddleboard! Equipment and instruction are provided. Recommended maximum weight of 275 lbs for kayaks. Life jackets are provided and worn on the water. First come\, first serve. Come out anytime during the time listed.\nQuarry Trails Metro Park has several park entrances. 2319 Quarry Trails Dr\, Columbus\, OH has the closest parking lot to the water. This is a newly opened entrance\, please follow signage and be on the lookout for construction traffic.
URL:https://www.metroparks.net/event/for-adults-50-kayaking-and-stand-up-paddleboarding-try-it/
LOCATION:Quarry Trails\, 2600 Dublin Road\, Columbus\, OH\, 43228\, United States
ATTACH;FMTTYPE=image/jpeg:https://www.metroparks.net/wp-content/uploads/2020/09/POK_Man-paddleboards-at-Outdoor-Adventure-program_August_Tina-Fronk-scaled.jpg
END:VEVENT
BEGIN:VEVENT
DTSTART;TZID=America/New_York:20230626T140000
DTEND;TZID=America/New_York:20230626T180000
DTSTAMP:20260420T111125
CREATED:20230622T124429Z
LAST-MODIFIED:20230622T124429Z
UID:10000485-1687788000-1687802400@www.metroparks.net
SUMMARY:Try it! Kayaking and SUP
DESCRIPTION:Come out and try standup paddle boarding and kayaking for free at Quarry Trails Metro Park. First come first served. All equipment provided. SUPs and Solo sit-in kayaks ages 10+ only. Tandems open for all ages. Solo sit-kayaks have a 275Ibs limit.\nQuarry Trails Metro Park has several park entrances-\n* The closest parking lot to the paddling launch area is off of Trabue Road. The address is 2319 Quarry Trails Dr\, Columbus\, OH. This is a newly opened entrance. Please follow signage and be on the lookout for construction traffic.
URL:https://www.metroparks.net/event/try-it-kayaking-and-sup/2023-06-26/
LOCATION:Quarry Trails\, 2600 Dublin Road\, Columbus\, OH\, 43228\, United States
ATTACH;FMTTYPE=image/jpeg:https://www.metroparks.net/wp-content/uploads/2023/03/QTR_1200px_kayakers-and-dog_Kobe-Collins.jpg
END:VEVENT
BEGIN:VEVENT
DTSTART;TZID=America/New_York:20230609T160000
DTEND;TZID=America/New_York:20230609T210000
DTSTAMP:20260420T111125
CREATED:20230530T125956Z
LAST-MODIFIED:20230530T125956Z
UID:10000452-1686326400-1686344400@www.metroparks.net
SUMMARY:Yappy Hour: SUP with Your Pup
DESCRIPTION:Looking for a new adventure with your furry best friend? Join Friends of Metro Parks and Metro Parks Outdoor Adventure for Yappy Hour Presents: SUP with Your Pup on Friday\, June 9th to make new memories\, enjoy food and drinks\, and learn tips for introducing your dog to paddling. Whether your dog loves it\, or thinks you’re a little crazy\, you’re both guaranteed to have a fun time trying! And it’s FREE! Standup Paddle Boards will be available from 4-9pm with Yappy Hour hosted by Friends of Metro Parks running from 5-8pm. Food and beer will be available for purchase during Yappy Hour\, as well as vendors and activities to enjoy for free!\nSome things to keep in mind:\n* Every participant (and dog) is required to wear a life jacket. Please provide your own canine life jacket if you own one. Human life jackets provided by Metro Parks. Some dog life jackets will be available to borrow.\n* Ages 10+ for SUP\n* Beer will be available to purchase and enjoy at the event\, you are unable to participate in watersports after purchasing beer so please plan to enjoy paddling before drinking at the event!\n* Dogs must be leashed during the event \n2319 Quarry Trails Dr\, Columbus\, OH has the closest parking lot to the water. This is a newly opened entrance\, please follow signage and be on the lookout for construction traffic.
URL:https://www.metroparks.net/event/yappy-hour-sup-with-your-pup/
LOCATION:Quarry Trails\, 2600 Dublin Road\, Columbus\, OH\, 43228\, United States
ATTACH;FMTTYPE=image/jpeg:https://www.metroparks.net/wp-content/uploads/2023/05/QT_DogOnSUP_KobeCollins-scaled.jpg
END:VEVENT
BEGIN:VEVENT
DTSTART;TZID=America/New_York:20230527T100000
DTEND;TZID=America/New_York:20230527T150000
DTSTAMP:20260420T111125
CREATED:20230517T185125Z
LAST-MODIFIED:20230517T185125Z
UID:10000440-1685181600-1685199600@www.metroparks.net
SUMMARY:Try It! Kayaking
DESCRIPTION:Come out to the new Quarry Trails Metro Park and try out a kayak! Solo\, sit in kayaks will be available with a max weight of 275 lbs\, and are open to ages 10+. A couple of tandem kayaks will be available for all ages with an adult present. Equipment and instruction provided. First come first served.\n2319 Quarry Trails Dr\, Columbus\, OH has the closest parking lot to the water. This is a newly opened entrance\, please follow signage and be on the lookout for construction traffic.
URL:https://www.metroparks.net/event/try-it-kayaking/2023-05-27/
LOCATION:Quarry Trails\, 2600 Dublin Road\, Columbus\, OH\, 43228\, United States
ATTACH;FMTTYPE=image/jpeg:https://www.metroparks.net/wp-content/uploads/2018/05/canoeist-on-lake-QuarryTrails-Walker-Evans.jpg
END:VEVENT
BEGIN:VEVENT
DTSTART;TZID=America/New_York:20230526T100000
DTEND;TZID=America/New_York:20230526T150000
DTSTAMP:20260420T111125
CREATED:20230517T185125Z
LAST-MODIFIED:20230517T185125Z
UID:10000439-1685095200-1685113200@www.metroparks.net
SUMMARY:Try It! Kayaking
DESCRIPTION:Come out to the new Quarry Trails Metro Park and try out a kayak! Solo\, sit in kayaks will be available with a max weight of 275 lbs\, and are open to ages 10+. A couple of tandem kayaks will be available for all ages with an adult present. Equipment and instruction provided. First come first served.\n2319 Quarry Trails Dr\, Columbus\, OH has the closest parking lot to the water. This is a newly opened entrance\, please follow signage and be on the lookout for construction traffic.
URL:https://www.metroparks.net/event/try-it-kayaking/2023-05-26/
LOCATION:Quarry Trails\, 2600 Dublin Road\, Columbus\, OH\, 43228\, United States
ATTACH;FMTTYPE=image/jpeg:https://www.metroparks.net/wp-content/uploads/2018/05/canoeist-on-lake-QuarryTrails-Walker-Evans.jpg
END:VEVENT
END:VCALENDAR