BEGIN:VCALENDAR
VERSION:2.0
PRODID:-//Metro Parks - Central Ohio Park System - ECPv6.15.16.1//NONSGML v1.0//EN
CALSCALE:GREGORIAN
METHOD:PUBLISH
X-ORIGINAL-URL:https://www.metroparks.net
X-WR-CALDESC:Events for Metro Parks - Central Ohio Park System
REFRESH-INTERVAL;VALUE=DURATION:PT1H
X-Robots-Tag:noindex
X-PUBLISHED-TTL:PT1H
BEGIN:VTIMEZONE
TZID:America/New_York
BEGIN:DAYLIGHT
TZOFFSETFROM:-0500
TZOFFSETTO:-0400
TZNAME:EDT
DTSTART:20220313T070000
END:DAYLIGHT
BEGIN:STANDARD
TZOFFSETFROM:-0400
TZOFFSETTO:-0500
TZNAME:EST
DTSTART:20221106T060000
END:STANDARD
BEGIN:DAYLIGHT
TZOFFSETFROM:-0500
TZOFFSETTO:-0400
TZNAME:EDT
DTSTART:20230312T070000
END:DAYLIGHT
BEGIN:STANDARD
TZOFFSETFROM:-0400
TZOFFSETTO:-0500
TZNAME:EST
DTSTART:20231105T060000
END:STANDARD
BEGIN:DAYLIGHT
TZOFFSETFROM:-0500
TZOFFSETTO:-0400
TZNAME:EDT
DTSTART:20240310T070000
END:DAYLIGHT
BEGIN:STANDARD
TZOFFSETFROM:-0400
TZOFFSETTO:-0500
TZNAME:EST
DTSTART:20241103T060000
END:STANDARD
END:VTIMEZONE
BEGIN:VEVENT
DTSTART;TZID=America/New_York:20230626T180000
DTEND;TZID=America/New_York:20230626T193000
DTSTAMP:20260420T143354
CREATED:20230622T124303Z
LAST-MODIFIED:20230622T124303Z
UID:10000484-1687802400-1687807800@www.metroparks.net
SUMMARY:For Adults 50+: Kayaking and Stand Up Paddleboarding Try-It!
DESCRIPTION:Enjoy the lake from a solo\, sit-in kayak or stand up paddleboard! Equipment and instruction are provided. Recommended maximum weight of 275 lbs for kayaks. Life jackets are provided and worn on the water. First come\, first serve. Come out anytime during the time listed.\nQuarry Trails Metro Park has several park entrances. 2319 Quarry Trails Dr\, Columbus\, OH has the closest parking lot to the water. This is a newly opened entrance\, please follow signage and be on the lookout for construction traffic.
URL:https://www.metroparks.net/event/for-adults-50-kayaking-and-stand-up-paddleboarding-try-it/
LOCATION:Quarry Trails\, 2600 Dublin Road\, Columbus\, OH\, 43228\, United States
ATTACH;FMTTYPE=image/jpeg:https://www.metroparks.net/wp-content/uploads/2020/09/POK_Man-paddleboards-at-Outdoor-Adventure-program_August_Tina-Fronk-scaled.jpg
END:VEVENT
BEGIN:VEVENT
DTSTART;TZID=America/New_York:20230626T140000
DTEND;TZID=America/New_York:20230626T180000
DTSTAMP:20260420T143354
CREATED:20230622T124429Z
LAST-MODIFIED:20230622T124429Z
UID:10000485-1687788000-1687802400@www.metroparks.net
SUMMARY:Try it! Kayaking and SUP
DESCRIPTION:Come out and try standup paddle boarding and kayaking for free at Quarry Trails Metro Park. First come first served. All equipment provided. SUPs and Solo sit-in kayaks ages 10+ only. Tandems open for all ages. Solo sit-kayaks have a 275Ibs limit.\nQuarry Trails Metro Park has several park entrances-\n* The closest parking lot to the paddling launch area is off of Trabue Road. The address is 2319 Quarry Trails Dr\, Columbus\, OH. This is a newly opened entrance. Please follow signage and be on the lookout for construction traffic.
URL:https://www.metroparks.net/event/try-it-kayaking-and-sup/2023-06-26/
LOCATION:Quarry Trails\, 2600 Dublin Road\, Columbus\, OH\, 43228\, United States
ATTACH;FMTTYPE=image/jpeg:https://www.metroparks.net/wp-content/uploads/2023/03/QTR_1200px_kayakers-and-dog_Kobe-Collins.jpg
END:VEVENT
BEGIN:VEVENT
DTSTART;TZID=America/New_York:20230609T160000
DTEND;TZID=America/New_York:20230609T210000
DTSTAMP:20260420T143354
CREATED:20230530T125956Z
LAST-MODIFIED:20230530T125956Z
UID:10000452-1686326400-1686344400@www.metroparks.net
SUMMARY:Yappy Hour: SUP with Your Pup
DESCRIPTION:Looking for a new adventure with your furry best friend? Join Friends of Metro Parks and Metro Parks Outdoor Adventure for Yappy Hour Presents: SUP with Your Pup on Friday\, June 9th to make new memories\, enjoy food and drinks\, and learn tips for introducing your dog to paddling. Whether your dog loves it\, or thinks you’re a little crazy\, you’re both guaranteed to have a fun time trying! And it’s FREE! Standup Paddle Boards will be available from 4-9pm with Yappy Hour hosted by Friends of Metro Parks running from 5-8pm. Food and beer will be available for purchase during Yappy Hour\, as well as vendors and activities to enjoy for free!\nSome things to keep in mind:\n* Every participant (and dog) is required to wear a life jacket. Please provide your own canine life jacket if you own one. Human life jackets provided by Metro Parks. Some dog life jackets will be available to borrow.\n* Ages 10+ for SUP\n* Beer will be available to purchase and enjoy at the event\, you are unable to participate in watersports after purchasing beer so please plan to enjoy paddling before drinking at the event!\n* Dogs must be leashed during the event \n2319 Quarry Trails Dr\, Columbus\, OH has the closest parking lot to the water. This is a newly opened entrance\, please follow signage and be on the lookout for construction traffic.
URL:https://www.metroparks.net/event/yappy-hour-sup-with-your-pup/
LOCATION:Quarry Trails\, 2600 Dublin Road\, Columbus\, OH\, 43228\, United States
ATTACH;FMTTYPE=image/jpeg:https://www.metroparks.net/wp-content/uploads/2023/05/QT_DogOnSUP_KobeCollins-scaled.jpg
END:VEVENT
BEGIN:VEVENT
DTSTART;TZID=America/New_York:20230527T100000
DTEND;TZID=America/New_York:20230527T150000
DTSTAMP:20260420T143354
CREATED:20230517T185125Z
LAST-MODIFIED:20230517T185125Z
UID:10000440-1685181600-1685199600@www.metroparks.net
SUMMARY:Try It! Kayaking
DESCRIPTION:Come out to the new Quarry Trails Metro Park and try out a kayak! Solo\, sit in kayaks will be available with a max weight of 275 lbs\, and are open to ages 10+. A couple of tandem kayaks will be available for all ages with an adult present. Equipment and instruction provided. First come first served.\n2319 Quarry Trails Dr\, Columbus\, OH has the closest parking lot to the water. This is a newly opened entrance\, please follow signage and be on the lookout for construction traffic.
URL:https://www.metroparks.net/event/try-it-kayaking/2023-05-27/
LOCATION:Quarry Trails\, 2600 Dublin Road\, Columbus\, OH\, 43228\, United States
ATTACH;FMTTYPE=image/jpeg:https://www.metroparks.net/wp-content/uploads/2018/05/canoeist-on-lake-QuarryTrails-Walker-Evans.jpg
END:VEVENT
BEGIN:VEVENT
DTSTART;TZID=America/New_York:20230526T100000
DTEND;TZID=America/New_York:20230526T150000
DTSTAMP:20260420T143354
CREATED:20230517T185125Z
LAST-MODIFIED:20230517T185125Z
UID:10000439-1685095200-1685113200@www.metroparks.net
SUMMARY:Try It! Kayaking
DESCRIPTION:Come out to the new Quarry Trails Metro Park and try out a kayak! Solo\, sit in kayaks will be available with a max weight of 275 lbs\, and are open to ages 10+. A couple of tandem kayaks will be available for all ages with an adult present. Equipment and instruction provided. First come first served.\n2319 Quarry Trails Dr\, Columbus\, OH has the closest parking lot to the water. This is a newly opened entrance\, please follow signage and be on the lookout for construction traffic.
URL:https://www.metroparks.net/event/try-it-kayaking/2023-05-26/
LOCATION:Quarry Trails\, 2600 Dublin Road\, Columbus\, OH\, 43228\, United States
ATTACH;FMTTYPE=image/jpeg:https://www.metroparks.net/wp-content/uploads/2018/05/canoeist-on-lake-QuarryTrails-Walker-Evans.jpg
END:VEVENT
END:VCALENDAR