BEGIN:VCALENDAR
VERSION:2.0
PRODID:-//Metro Parks - Central Ohio Park System - ECPv6.15.16.1//NONSGML v1.0//EN
CALSCALE:GREGORIAN
METHOD:PUBLISH
X-WR-CALNAME:Metro Parks - Central Ohio Park System
X-ORIGINAL-URL:https://www.metroparks.net
X-WR-CALDESC:Events for Metro Parks - Central Ohio Park System
REFRESH-INTERVAL;VALUE=DURATION:PT1H
X-Robots-Tag:noindex
X-PUBLISHED-TTL:PT1H
BEGIN:VTIMEZONE
TZID:America/New_York
BEGIN:DAYLIGHT
TZOFFSETFROM:-0500
TZOFFSETTO:-0400
TZNAME:EDT
DTSTART:20240310T070000
END:DAYLIGHT
BEGIN:STANDARD
TZOFFSETFROM:-0400
TZOFFSETTO:-0500
TZNAME:EST
DTSTART:20241103T060000
END:STANDARD
BEGIN:DAYLIGHT
TZOFFSETFROM:-0500
TZOFFSETTO:-0400
TZNAME:EDT
DTSTART:20250309T070000
END:DAYLIGHT
BEGIN:STANDARD
TZOFFSETFROM:-0400
TZOFFSETTO:-0500
TZNAME:EST
DTSTART:20251102T060000
END:STANDARD
BEGIN:DAYLIGHT
TZOFFSETFROM:-0500
TZOFFSETTO:-0400
TZNAME:EDT
DTSTART:20260308T070000
END:DAYLIGHT
BEGIN:STANDARD
TZOFFSETFROM:-0400
TZOFFSETTO:-0500
TZNAME:EST
DTSTART:20261101T060000
END:STANDARD
END:VTIMEZONE
BEGIN:VEVENT
DTSTART;TZID=America/New_York:20250530T100000
DTEND;TZID=America/New_York:20250530T150000
DTSTAMP:20260419T210934
CREATED:20250429T125416Z
LAST-MODIFIED:20250429T125416Z
UID:10002696-1748599200-1748617200@www.metroparks.net
SUMMARY:Try It! Kayaking
DESCRIPTION:Come out to the new Quarry Trails Metro Park and try out a kayak! Solo\, sit in kayaks will be available with a max weight of 275 lbs\, and are open to ages 10+. A couple of tandem kayaks will be available for all ages with an adult present. Equipment and instruction provided. First come first served.\n2319 Quarry Trails Dr\, Columbus\, OH has the closest parking lot to the water. This is a newly opened entrance\, please follow signage and be on the lookout for construction traffic.
URL:https://www.metroparks.net/event/try-it-kayaking-9/2025-05-30/
LOCATION:Quarry Trails\, 2600 Dublin Road\, Columbus\, OH\, 43228\, United States
END:VEVENT
BEGIN:VEVENT
DTSTART;TZID=America/New_York:20250528T150000
DTEND;TZID=America/New_York:20250528T190000
DTSTAMP:20260419T210934
CREATED:20250429T125416Z
LAST-MODIFIED:20250429T125416Z
UID:10002695-1748444400-1748458800@www.metroparks.net
SUMMARY:Try It! Kayaking
DESCRIPTION:Come out to the new Quarry Trails Metro Park and try out a kayak! Solo\, sit in kayaks will be available with a max weight of 275 lbs\, and are open to ages 10+. A couple of tandem kayaks will be available for all ages with an adult present. Equipment and instruction provided. First come first served.\n2319 Quarry Trails Dr\, Columbus\, OH has the closest parking lot to the water. This is a newly opened entrance\, please follow signage and be on the lookout for construction traffic.
URL:https://www.metroparks.net/event/try-it-kayaking-9/2025-05-28/
LOCATION:Quarry Trails\, 2600 Dublin Road\, Columbus\, OH\, 43228\, United States
END:VEVENT
BEGIN:VEVENT
DTSTART;TZID=America/New_York:20250525T140000
DTEND;TZID=America/New_York:20250525T150000
DTSTAMP:20260419T210934
CREATED:20250429T130854Z
LAST-MODIFIED:20250429T130854Z
UID:10002704-1748181600-1748185200@www.metroparks.net
SUMMARY:Intro to Trail Running
DESCRIPTION:This program will be centered around Trail Running! From beginners to experienced runners\, all are welcome!! Join us for a staff led program including trail running through Quarry Trails Metro Park. This program will cover trail running basics as well as a run/jog on the trails. Meet at the Lake Area. Use address 2319 Quarry Trails Drive.
URL:https://www.metroparks.net/event/intro-to-trail-running-2/
LOCATION:Quarry Trails\, 2600 Dublin Road\, Columbus\, OH\, 43228\, United States
END:VEVENT
BEGIN:VEVENT
DTSTART;TZID=America/New_York:20250520T200000
DTEND;TZID=America/New_York:20250520T210000
DTSTAMP:20260419T210934
CREATED:20250429T130958Z
LAST-MODIFIED:20250429T130958Z
UID:10002705-1747771200-1747774800@www.metroparks.net
SUMMARY:Sunset Hike to the Waterfall
DESCRIPTION:Enjoy a sunset hike at Quarry Trails Metro Park\, and journey up to the waterfall! Meet at the Lake Area. Use address 2319 Quarry Trails Drive.
URL:https://www.metroparks.net/event/sunset-hike-to-the-waterfall/
LOCATION:Quarry Trails\, 2600 Dublin Road\, Columbus\, OH\, 43228\, United States
END:VEVENT
BEGIN:VEVENT
DTSTART;TZID=America/New_York:20250517T140000
DTEND;TZID=America/New_York:20250517T150000
DTSTAMP:20260419T210934
CREATED:20250429T124945Z
LAST-MODIFIED:20250429T124945Z
UID:10002694-1747490400-1747494000@www.metroparks.net
SUMMARY:Introduction To Rucking
DESCRIPTION:Rucking is a form of fitness that combines strength training with cardio! Join us for our staff-led Rucking Club. Participants are required to bring their own bag to carry weight in (typically some form of backpack). Weights will be provided\, but you are encouraged to bring your own wearable weights (rucking vests\, backpacks filled with gear/water jugs\, etc). \nMeet at the Lake Area. Use address 2319 Quarry Trails Drive.
URL:https://www.metroparks.net/event/introduction-to-rucking-4/
LOCATION:Quarry Trails\, 2600 Dublin Road\, Columbus\, OH\, 43228\, United States
END:VEVENT
BEGIN:VEVENT
DTSTART;TZID=America/New_York:20250517T140000
DTEND;TZID=America/New_York:20250517T150000
DTSTAMP:20260419T210934
CREATED:20250425T125848Z
LAST-MODIFIED:20250425T125848Z
UID:10002665-1747490400-1747494000@www.metroparks.net
SUMMARY:Vulture Viewing
DESCRIPTION:Meet at the sled hill parking lot. Come on a 1.25 mile hike to look for Vultures!\nUse address 2600 Dublin Rd Columbus OH 43228 and park in the first paved parking lot on your right!
URL:https://www.metroparks.net/event/vulture-viewing/
LOCATION:Quarry Trails\, 2600 Dublin Road\, Columbus\, OH\, 43228\, United States
END:VEVENT
BEGIN:VEVENT
DTSTART;TZID=America/New_York:20250512T180000
DTEND;TZID=America/New_York:20250512T183000
DTSTAMP:20260419T210934
CREATED:20250425T125738Z
LAST-MODIFIED:20250425T125738Z
UID:10002664-1747072800-1747074600@www.metroparks.net
SUMMARY:Run with a Ranger
DESCRIPTION:Meet at the Kingfisher shelter and come on a 2.5 mile run with a Ranger!\nUse address 2319 Quarry Trails Drive Columbus OH 43228 and follow the roadway to the Lake Area parking lot.
URL:https://www.metroparks.net/event/run-with-a-ranger-4/
LOCATION:Quarry Trails\, 2600 Dublin Road\, Columbus\, OH\, 43228\, United States
END:VEVENT
BEGIN:VEVENT
DTSTART;TZID=America/New_York:20250511T140000
DTEND;TZID=America/New_York:20250511T150000
DTSTAMP:20260419T210934
CREATED:20250425T125553Z
LAST-MODIFIED:20250425T125553Z
UID:10002663-1746972000-1746975600@www.metroparks.net
SUMMARY:Mother's Day Tweets and Treats
DESCRIPTION:Meet at the Kingfisher shelter\, enjoy a treat and take a 1 mile hike to look for birds. Binoculars provided.\nKingfisher shelter is in Lake Area parking lot. Use address 2319 Quarry Trails Drive Columbus OH 43228
URL:https://www.metroparks.net/event/mothers-day-tweets-and-treats/
LOCATION:Quarry Trails\, 2600 Dublin Road\, Columbus\, OH\, 43228\, United States
END:VEVENT
BEGIN:VEVENT
DTSTART;TZID=America/New_York:20250506T100000
DTEND;TZID=America/New_York:20250506T103000
DTSTAMP:20260419T210934
CREATED:20250429T130237Z
LAST-MODIFIED:20250429T130237Z
UID:10002698-1746525600-1746527400@www.metroparks.net
SUMMARY:Morning Cardio Hike
DESCRIPTION:Join us for a fast-paced\, staff-led Cardio Hike at Quarry Trails Metro Park!\nMeet at the Lakes Area. Use address 2319 Quarry Trails Drive.
URL:https://www.metroparks.net/event/morning-cardio-hike/
LOCATION:Quarry Trails\, 2600 Dublin Road\, Columbus\, OH\, 43228\, United States
END:VEVENT
BEGIN:VEVENT
DTSTART;TZID=America/New_York:20250427T100000
DTEND;TZID=America/New_York:20250427T113000
DTSTAMP:20260419T210934
CREATED:20250328T123358Z
LAST-MODIFIED:20250328T123358Z
UID:10002590-1745748000-1745753400@www.metroparks.net
SUMMARY:Cowboy Campfire Coffee!
DESCRIPTION:Howdy Y’all! Come out to the Lower Sled Hill at Quarry Trails Metro Park to learn how to make Cowboy style Campfire Coffee! All ingredients and equipment will be supplied\, feel free to bring your own reusable mug or cup and fill it up with some warm and toasty fire brewed coffee
URL:https://www.metroparks.net/event/cowboy-campfire-coffee-4/2025-04-27/
LOCATION:Quarry Trails\, 2600 Dublin Road\, Columbus\, OH\, 43228\, United States
END:VEVENT
BEGIN:VEVENT
DTSTART;TZID=America/New_York:20250426T130000
DTEND;TZID=America/New_York:20250426T140000
DTSTAMP:20260419T210934
CREATED:20250328T131126Z
LAST-MODIFIED:20250328T131126Z
UID:10002607-1745672400-1745676000@www.metroparks.net
SUMMARY:Spring Craft
DESCRIPTION:Stop in at the Lobby at the Park Office to make a spring craft!\nUse address 2600 Dublin Road Columbus OH 43228 and follow the roadway towards the dog park. When the road forces you to turn left the lobby will be on your left. The Lobby is open 9am-7pm.
URL:https://www.metroparks.net/event/spring-craft/
LOCATION:Quarry Trails\, 2600 Dublin Road\, Columbus\, OH\, 43228\, United States
END:VEVENT
BEGIN:VEVENT
DTSTART;TZID=America/New_York:20250425T180000
DTEND;TZID=America/New_York:20250425T190000
DTSTAMP:20260419T210934
CREATED:20250328T124620Z
LAST-MODIFIED:20250328T124620Z
UID:10002604-1745604000-1745607600@www.metroparks.net
SUMMARY:Evening Hike
DESCRIPTION:Join us for an evening stroll around Quarry Trails Metro Park on this approx. 2-mile guided hike! Trail will have gravel and paved sections. Meet at the Lake Area. Use address 2319 Quarry Trails Drive.
URL:https://www.metroparks.net/event/evening-hike-2/
LOCATION:Quarry Trails\, 2600 Dublin Road\, Columbus\, OH\, 43228\, United States
END:VEVENT
BEGIN:VEVENT
DTSTART;TZID=America/New_York:20250424T160000
DTEND;TZID=America/New_York:20250424T180000
DTSTAMP:20260419T210934
CREATED:20250328T131159Z
LAST-MODIFIED:20250328T131159Z
UID:10002608-1745510400-1745517600@www.metroparks.net
SUMMARY:Earth Day Tree Planting
DESCRIPTION:Meet at the first parking lot when you come in the North/Mountain bike entrance and plant a tree!\nUse address 2600 Dublin Road Columbus OH 43228 and park in the first parking lot that will be on your left.
URL:https://www.metroparks.net/event/earth-day-tree-planting-2/
LOCATION:Quarry Trails\, 2600 Dublin Road\, Columbus\, OH\, 43228\, United States
END:VEVENT
BEGIN:VEVENT
DTSTART;TZID=America/New_York:20250423T180000
DTEND;TZID=America/New_York:20250423T190000
DTSTAMP:20260419T210934
CREATED:20250328T124422Z
LAST-MODIFIED:20250328T124422Z
UID:10002602-1745431200-1745434800@www.metroparks.net
SUMMARY:Evening Hike to the Waterfall
DESCRIPTION:Join us for a hike to see the waterfall at Quarry Trails Metro Park! The hike will be approx. 1.5 miles\, on paved trail with some incline. We will meet at the Lake Area\, use address 2319 Quarry Trails Drive.
URL:https://www.metroparks.net/event/evening-hike-to-the-waterfall/
LOCATION:Quarry Trails\, 2600 Dublin Road\, Columbus\, OH\, 43228\, United States
ATTACH;FMTTYPE=image/jpeg:https://www.metroparks.net/wp-content/uploads/2021/02/Waterfall-of-Milliken-Creek-in-summer.jpg
END:VEVENT
BEGIN:VEVENT
DTSTART;TZID=America/New_York:20250417T180000
DTEND;TZID=America/New_York:20250417T190000
DTSTAMP:20260419T210934
CREATED:20250328T124131Z
LAST-MODIFIED:20250328T124131Z
UID:10002600-1744912800-1744916400@www.metroparks.net
SUMMARY:Evening S'mores
DESCRIPTION:Enjoy a toasty s’more around a warm campfire at Quarry Trails Metro Park! Meet at the Basin Parking Lot\, all equipment provided. \nQuarry Trails Metro Park has several separate park entrances. The address is 2319 Quarry Trails Dr\, Columbus\, OH. This is a newly opened entrance. Please follow signage and be on the lookout for construction traffic.
URL:https://www.metroparks.net/event/evening-smores-2/
LOCATION:Quarry Trails\, 2600 Dublin Road\, Columbus\, OH\, 43228\, United States
END:VEVENT
BEGIN:VEVENT
DTSTART;TZID=America/New_York:20250413T100000
DTEND;TZID=America/New_York:20250413T113000
DTSTAMP:20260419T210934
CREATED:20250328T123358Z
LAST-MODIFIED:20250328T123358Z
UID:10002589-1744538400-1744543800@www.metroparks.net
SUMMARY:Cowboy Campfire Coffee!
DESCRIPTION:Howdy Y’all! Come out to the Lower Sled Hill at Quarry Trails Metro Park to learn how to make Cowboy style Campfire Coffee! All ingredients and equipment will be supplied\, feel free to bring your own reusable mug or cup and fill it up with some warm and toasty fire brewed coffee
URL:https://www.metroparks.net/event/cowboy-campfire-coffee-4/2025-04-13/
LOCATION:Quarry Trails\, 2600 Dublin Road\, Columbus\, OH\, 43228\, United States
END:VEVENT
BEGIN:VEVENT
DTSTART;TZID=America/New_York:20250410T170000
DTEND;TZID=America/New_York:20250410T180000
DTSTAMP:20260419T210934
CREATED:20250328T123303Z
LAST-MODIFIED:20250328T123303Z
UID:10002588-1744304400-1744308000@www.metroparks.net
SUMMARY:Campfire Cooking
DESCRIPTION:Join us for a meal around the campfire at Quarry Trails\, and learn how to make your own campfire treat! All materials and equipment will be provided\, free and fun! Meet at the lower sled hill parking lot. Use address 2600 Dublin Rd.
URL:https://www.metroparks.net/event/campfire-cooking-5/
LOCATION:Quarry Trails\, 2600 Dublin Road\, Columbus\, OH\, 43228\, United States
END:VEVENT
BEGIN:VEVENT
DTSTART;TZID=America/New_York:20250407T180000
DTEND;TZID=America/New_York:20250407T190000
DTSTAMP:20260419T210934
CREATED:20250328T131020Z
LAST-MODIFIED:20250328T131020Z
UID:10002606-1744048800-1744052400@www.metroparks.net
SUMMARY:Run with a Ranger
DESCRIPTION:Meet at the Kingfisher shelter and come on a 2 mile run with a Ranger! To access the shelter\, use the address 2319 Quarry Trails Drive Columbus OH 43228 and follow the roadway to the Lake Area Parking lot.
URL:https://www.metroparks.net/event/run-with-a-ranger-3/
LOCATION:Quarry Trails\, 2600 Dublin Road\, Columbus\, OH\, 43228\, United States
END:VEVENT
BEGIN:VEVENT
DTSTART;TZID=America/New_York:20250330T100000
DTEND;TZID=America/New_York:20250330T113000
DTSTAMP:20260419T210934
CREATED:20250228T162500Z
LAST-MODIFIED:20250228T162500Z
UID:10002474-1743328800-1743334200@www.metroparks.net
SUMMARY:Cowboy Campfire Coffee!
DESCRIPTION:Howdy Y’all! Come out to the Lower Sled Hill at Quarry Trails Metro Park to learn how to make Cowboy style Campfire Coffee! All ingredients and equipment will be supplied\, feel free to bring your own reusable mug or cup and fill it up with some warm and toasty fire brewed coffee. \nUse the 2600 Dublin Rd. Park entrance.
URL:https://www.metroparks.net/event/cowboy-campfire-coffee-3/2025-03-30/
LOCATION:Quarry Trails\, 2600 Dublin Road\, Columbus\, OH\, 43228\, United States
ATTACH;FMTTYPE=image/jpeg:https://www.metroparks.net/wp-content/uploads/2025/02/Cowboy-Coffee-QT.jpg
END:VEVENT
BEGIN:VEVENT
DTSTART;TZID=America/New_York:20250328T193000
DTEND;TZID=America/New_York:20250328T203000
DTSTAMP:20260419T210934
CREATED:20250228T161907Z
LAST-MODIFIED:20250228T161907Z
UID:10002470-1743190200-1743193800@www.metroparks.net
SUMMARY:Sunset and S'mores
DESCRIPTION:Enjoy watching the sunset while eating a toasty s’more around a warm campfire at Quarry Trails Metro Park! Meet at the Basin Parking Lot\, all equipment provided. \nQuarry Trails Metro Park has several separate park entrances. The address is 2319 Quarry Trails Dr\, Columbus\, OH. This is a newly opened entrance. Please follow signage and be on the lookout for construction traffic.
URL:https://www.metroparks.net/event/sunset-and-smores-6/2025-03-28/
LOCATION:Quarry Trails\, 2600 Dublin Road\, Columbus\, OH\, 43228\, United States
END:VEVENT
BEGIN:VEVENT
DTSTART;TZID=America/New_York:20250328T180000
DTEND;TZID=America/New_York:20250328T183000
DTSTAMP:20260419T210934
CREATED:20250228T131717Z
LAST-MODIFIED:20250228T131717Z
UID:10002464-1743184800-1743186600@www.metroparks.net
SUMMARY:Beaver Hike
DESCRIPTION:Meet at the Kingfisher shelter and come on a 1.5 mile hike to learn about beavers and look for signs of them.\nUse address 2319 Quarry Trails Drive Columbus OH 43228 and follow the roads back to the lake area parking lot.
URL:https://www.metroparks.net/event/beaver-hike/
LOCATION:Quarry Trails\, 2600 Dublin Road\, Columbus\, OH\, 43228\, United States
END:VEVENT
BEGIN:VEVENT
DTSTART;TZID=America/New_York:20250327T140000
DTEND;TZID=America/New_York:20250327T153000
DTSTAMP:20260419T210934
CREATED:20250226T135644Z
LAST-MODIFIED:20250226T135644Z
UID:10002444-1743084000-1743089400@www.metroparks.net
SUMMARY:For Adults 50+: Falls\, Lake and Turtle Cove
DESCRIPTION:Hike about 2-miles past the falls\, around the lake and by Turtle Cove. Most of the paths are considered easy but we will be going up and down stone stairs to get to the trail. \nMeet at the Waterfall Entrance at 2158 Old Dublin Rd.\, Columbus.
URL:https://www.metroparks.net/event/for-adults-50-falls-lake-and-turtle-cove/
LOCATION:Quarry Trails\, 2600 Dublin Road\, Columbus\, OH\, 43228\, United States
END:VEVENT
BEGIN:VEVENT
DTSTART;TZID=America/New_York:20250319T173000
DTEND;TZID=America/New_York:20250319T183000
DTSTAMP:20260419T210934
CREATED:20250228T164350Z
LAST-MODIFIED:20250228T164350Z
UID:10002487-1742405400-1742409000@www.metroparks.net
SUMMARY:Pie Iron Cooking
DESCRIPTION:Join us for a Pie Iron meal around the campfire at Quarry Trails! Learn how to use a Pie Iron\, and make your very own campfire pie. All materials and equipment will be provided\, free and fun! Meet at the lower sled hill parking lot. Use address 2600 Dublin Rd.
URL:https://www.metroparks.net/event/pie-iron-cooking-6/
LOCATION:Quarry Trails\, 2600 Dublin Road\, Columbus\, OH\, 43228\, United States
END:VEVENT
BEGIN:VEVENT
DTSTART;TZID=America/New_York:20250315T100000
DTEND;TZID=America/New_York:20250315T110000
DTSTAMP:20260419T210934
CREATED:20250228T163755Z
LAST-MODIFIED:20250228T163755Z
UID:10002483-1742032800-1742036400@www.metroparks.net
SUMMARY:Toddler Hike
DESCRIPTION:Join us for a staff-led Toddler Hike around the lakes at Quarry Trails! We will walk as far as possible in the time allotted. We will be on stroller friendly trails so feel free to bring strollers and wagons. Toddlers will receive a sticker at the end of the hike!!\nMeet at the lakes area parking lot bulletin board\, Use the park entrance off of trabue Rd. 2319 Quarry trails Dr.
URL:https://www.metroparks.net/event/toddler-hike-14/
LOCATION:Quarry Trails\, 2600 Dublin Road\, Columbus\, OH\, 43228\, United States
END:VEVENT
BEGIN:VEVENT
DTSTART;TZID=America/New_York:20250315T063000
DTEND;TZID=America/New_York:20250315T183000
DTSTAMP:20260419T210934
CREATED:20250228T131544Z
LAST-MODIFIED:20250228T131544Z
UID:10002462-1742020200-1742063400@www.metroparks.net
SUMMARY:Hidden Leprechaun Hunt
DESCRIPTION:Take a hike around the park and look for the hidden leprechauns. If you find one call or find a Ranger for a prize!
URL:https://www.metroparks.net/event/hidden-leprechaun-hunt/
LOCATION:Quarry Trails\, 2600 Dublin Road\, Columbus\, OH\, 43228\, United States
END:VEVENT
BEGIN:VEVENT
DTSTART;TZID=America/New_York:20250314T180000
DTEND;TZID=America/New_York:20250314T190000
DTSTAMP:20260419T210934
CREATED:20250228T131416Z
LAST-MODIFIED:20250228T131416Z
UID:10002460-1741975200-1741978800@www.metroparks.net
SUMMARY:Pi Day 5K
DESCRIPTION:Meet at the Kingfisher Shelter and take a 3.14 mile walk and enjoy some pie after!\nUse address 2319 Quarry Trails Drive Columbus Oh 43228 and follow the roadway back to the lake area parking lot.
URL:https://www.metroparks.net/event/pi-day-5k/
LOCATION:Quarry Trails\, 2600 Dublin Road\, Columbus\, OH\, 43228\, United States
END:VEVENT
BEGIN:VEVENT
DTSTART;TZID=America/New_York:20250313T173000
DTEND;TZID=America/New_York:20250313T183000
DTSTAMP:20260419T210934
CREATED:20250228T163454Z
LAST-MODIFIED:20250228T163454Z
UID:10002480-1741887000-1741890600@www.metroparks.net
SUMMARY:Campfire Cooking
DESCRIPTION:Join us for a meal around the campfire at Quarry Trails! All materials and equipment will be provided\, free and fun! Meet at the lower sled hill parking lot. Use address 2600 Dublin Rd.
URL:https://www.metroparks.net/event/campfire-cooking-4/
LOCATION:Quarry Trails\, 2600 Dublin Road\, Columbus\, OH\, 43228\, United States
END:VEVENT
BEGIN:VEVENT
DTSTART;TZID=America/New_York:20250310T180000
DTEND;TZID=America/New_York:20250310T190000
DTSTAMP:20260419T210934
CREATED:20250228T131334Z
LAST-MODIFIED:20250228T131334Z
UID:10002459-1741629600-1741633200@www.metroparks.net
SUMMARY:Run with a Ranger
DESCRIPTION:Meet at the Kingfisher shelter and come on a 1.5 mile run with a Ranger!\nUse address 2319 Quarry Trails Drive and follow the roadway to the lake area parking lot.
URL:https://www.metroparks.net/event/run-with-a-ranger-2/
LOCATION:Quarry Trails\, 2600 Dublin Road\, Columbus\, OH\, 43228\, United States
END:VEVENT
BEGIN:VEVENT
DTSTART;TZID=America/New_York:20250309T100000
DTEND;TZID=America/New_York:20250309T113000
DTSTAMP:20260419T210934
CREATED:20250228T162500Z
LAST-MODIFIED:20250228T162500Z
UID:10002473-1741514400-1741519800@www.metroparks.net
SUMMARY:Cowboy Campfire Coffee!
DESCRIPTION:Howdy Y’all! Come out to the Lower Sled Hill at Quarry Trails Metro Park to learn how to make Cowboy style Campfire Coffee! All ingredients and equipment will be supplied\, feel free to bring your own reusable mug or cup and fill it up with some warm and toasty fire brewed coffee. \nUse the 2600 Dublin Rd. Park entrance.
URL:https://www.metroparks.net/event/cowboy-campfire-coffee-3/2025-03-09/
LOCATION:Quarry Trails\, 2600 Dublin Road\, Columbus\, OH\, 43228\, United States
ATTACH;FMTTYPE=image/jpeg:https://www.metroparks.net/wp-content/uploads/2025/02/Cowboy-Coffee-QT.jpg
END:VEVENT
BEGIN:VEVENT
DTSTART;TZID=America/New_York:20250307T180000
DTEND;TZID=America/New_York:20250307T190000
DTSTAMP:20260419T210934
CREATED:20250228T161907Z
LAST-MODIFIED:20250228T161907Z
UID:10002469-1741370400-1741374000@www.metroparks.net
SUMMARY:Sunset and S'mores
DESCRIPTION:Enjoy watching the sunset while eating a toasty s’more around a warm campfire at Quarry Trails Metro Park! Meet at the Basin Parking Lot\, all equipment provided. \nQuarry Trails Metro Park has several separate park entrances. The address is 2319 Quarry Trails Dr\, Columbus\, OH. This is a newly opened entrance. Please follow signage and be on the lookout for construction traffic.
URL:https://www.metroparks.net/event/sunset-and-smores-6/2025-03-07/
LOCATION:Quarry Trails\, 2600 Dublin Road\, Columbus\, OH\, 43228\, United States
END:VEVENT
END:VCALENDAR