BEGIN:VCALENDAR
VERSION:2.0
PRODID:-//Metro Parks - Central Ohio Park System - ECPv6.15.16.1//NONSGML v1.0//EN
CALSCALE:GREGORIAN
METHOD:PUBLISH
X-ORIGINAL-URL:https://www.metroparks.net
X-WR-CALDESC:Events for Metro Parks - Central Ohio Park System
REFRESH-INTERVAL;VALUE=DURATION:PT1H
X-Robots-Tag:noindex
X-PUBLISHED-TTL:PT1H
BEGIN:VTIMEZONE
TZID:America/New_York
BEGIN:DAYLIGHT
TZOFFSETFROM:-0500
TZOFFSETTO:-0400
TZNAME:EDT
DTSTART:20220313T070000
END:DAYLIGHT
BEGIN:STANDARD
TZOFFSETFROM:-0400
TZOFFSETTO:-0500
TZNAME:EST
DTSTART:20221106T060000
END:STANDARD
BEGIN:DAYLIGHT
TZOFFSETFROM:-0500
TZOFFSETTO:-0400
TZNAME:EDT
DTSTART:20230312T070000
END:DAYLIGHT
BEGIN:STANDARD
TZOFFSETFROM:-0400
TZOFFSETTO:-0500
TZNAME:EST
DTSTART:20231105T060000
END:STANDARD
BEGIN:DAYLIGHT
TZOFFSETFROM:-0500
TZOFFSETTO:-0400
TZNAME:EDT
DTSTART:20240310T070000
END:DAYLIGHT
BEGIN:STANDARD
TZOFFSETFROM:-0400
TZOFFSETTO:-0500
TZNAME:EST
DTSTART:20241103T060000
END:STANDARD
BEGIN:DAYLIGHT
TZOFFSETFROM:-0500
TZOFFSETTO:-0400
TZNAME:EDT
DTSTART:20250309T070000
END:DAYLIGHT
BEGIN:STANDARD
TZOFFSETFROM:-0400
TZOFFSETTO:-0500
TZNAME:EST
DTSTART:20251102T060000
END:STANDARD
BEGIN:DAYLIGHT
TZOFFSETFROM:-0500
TZOFFSETTO:-0400
TZNAME:EDT
DTSTART:20260308T070000
END:DAYLIGHT
BEGIN:STANDARD
TZOFFSETFROM:-0400
TZOFFSETTO:-0500
TZNAME:EST
DTSTART:20261101T060000
END:STANDARD
BEGIN:DAYLIGHT
TZOFFSETFROM:-0500
TZOFFSETTO:-0400
TZNAME:EDT
DTSTART:20270314T070000
END:DAYLIGHT
BEGIN:STANDARD
TZOFFSETFROM:-0400
TZOFFSETTO:-0500
TZNAME:EST
DTSTART:20271107T060000
END:STANDARD
END:VTIMEZONE
BEGIN:VEVENT
DTSTART;TZID=America/New_York:20260118T100000
DTEND;TZID=America/New_York:20260118T130000
DTSTAMP:20260420T135715
CREATED:20251201T172042Z
LAST-MODIFIED:20260112T132811Z
UID:10003611-1768730400-1768741200@www.metroparks.net
SUMMARY:Rocky Fork Winter Hike
DESCRIPTION:Gather your friends and family for a hike on any trail at Rocky Fork Metro Park. Refreshments and a treat will be served between 10am and 1pm at the Millstone Shelter. \nLearn more about winter hikes by clicking here.
URL:https://www.metroparks.net/event/rocky-fork-winter-hike-3/
LOCATION:Rocky Fork\, 7180 East Walnut St.\, Westerville\, OH\, 43081\, United States
ATTACH;FMTTYPE=image/png:https://www.metroparks.net/wp-content/uploads/2025/12/RKY.png
END:VEVENT
BEGIN:VEVENT
DTSTART;TZID=America/New_York:20251016T163000
DTEND;TZID=America/New_York:20251016T190000
DTSTAMP:20260420T135715
CREATED:20250918T120526Z
LAST-MODIFIED:20250930T124313Z
UID:10003265-1760632200-1760641200@www.metroparks.net
SUMMARY:Barktoberfest
DESCRIPTION:Fun for you and your canine best friend! Costume contest registration from 4:30-6; judging and parade at 6:15. Prizes awarded! Food trucks! Also accepting donations of puppy/kitten Food\, cat litter\, & any large non-fabric dog toys for the local shelter.
URL:https://www.metroparks.net/event/barktoberfest-3/
LOCATION:Rocky Fork\, 7180 East Walnut St.\, Westerville\, OH\, 43081\, United States
ATTACH;FMTTYPE=image/png:https://www.metroparks.net/wp-content/uploads/2025/09/Black-and-Orange-Halloween-Party-Vintage-Flyer-1.png
END:VEVENT
BEGIN:VEVENT
DTSTART;TZID=America/New_York:20250923T180000
DTEND;TZID=America/New_York:20250923T190000
DTSTAMP:20260420T135715
CREATED:20250825T120328Z
LAST-MODIFIED:20250825T120328Z
UID:10003163-1758650400-1758654000@www.metroparks.net
SUMMARY:Puppy Socialization Adventure Hike
DESCRIPTION:Introduce your puppy to the outdoors and hiking in the presence of other dogs and people. Puppies should be fully vaccinated and under 1yr old. Hike will be at a slow pace with opportunities for you to practice skills you are working on\, so bring favorite treats. Please no retractable leashes; max. six foot leads. This program is not meant to be a “puppy playtime”\, but an opportunity for you to teach your puppy how to walk calmly and politely in a new environment. Please leave older dogs at home. Meets Tuesdays in September & October at 6pm\, except Sept 30. Hike will conclude by 645pm. Hike will be cancelled in event of inclement weather; see the Rocky Fork Facebook page for up to date information on cancellation.
URL:https://www.metroparks.net/event/puppy-socialization-adventure-hike/2025-09-23/
LOCATION:Rocky Fork\, 7180 East Walnut St.\, Westerville\, OH\, 43081\, United States
END:VEVENT
BEGIN:VEVENT
DTSTART;TZID=America/New_York:20250916T180000
DTEND;TZID=America/New_York:20250916T190000
DTSTAMP:20260420T135715
CREATED:20250825T120328Z
LAST-MODIFIED:20250825T120328Z
UID:10003162-1758045600-1758049200@www.metroparks.net
SUMMARY:Puppy Socialization Adventure Hike
DESCRIPTION:Introduce your puppy to the outdoors and hiking in the presence of other dogs and people. Puppies should be fully vaccinated and under 1yr old. Hike will be at a slow pace with opportunities for you to practice skills you are working on\, so bring favorite treats. Please no retractable leashes; max. six foot leads. This program is not meant to be a “puppy playtime”\, but an opportunity for you to teach your puppy how to walk calmly and politely in a new environment. Please leave older dogs at home. Meets Tuesdays in September & October at 6pm\, except Sept 30. Hike will conclude by 645pm. Hike will be cancelled in event of inclement weather; see the Rocky Fork Facebook page for up to date information on cancellation.
URL:https://www.metroparks.net/event/puppy-socialization-adventure-hike/2025-09-16/
LOCATION:Rocky Fork\, 7180 East Walnut St.\, Westerville\, OH\, 43081\, United States
END:VEVENT
BEGIN:VEVENT
DTSTART;TZID=America/New_York:20250909T180000
DTEND;TZID=America/New_York:20250909T190000
DTSTAMP:20260420T135715
CREATED:20250825T120328Z
LAST-MODIFIED:20250825T120328Z
UID:10003161-1757440800-1757444400@www.metroparks.net
SUMMARY:Puppy Socialization Adventure Hike
DESCRIPTION:Introduce your puppy to the outdoors and hiking in the presence of other dogs and people. Puppies should be fully vaccinated and under 1yr old. Hike will be at a slow pace with opportunities for you to practice skills you are working on\, so bring favorite treats. Please no retractable leashes; max. six foot leads. This program is not meant to be a “puppy playtime”\, but an opportunity for you to teach your puppy how to walk calmly and politely in a new environment. Please leave older dogs at home. Meets Tuesdays in September & October at 6pm\, except Sept 30. Hike will conclude by 645pm. Hike will be cancelled in event of inclement weather; see the Rocky Fork Facebook page for up to date information on cancellation.
URL:https://www.metroparks.net/event/puppy-socialization-adventure-hike/2025-09-09/
LOCATION:Rocky Fork\, 7180 East Walnut St.\, Westerville\, OH\, 43081\, United States
END:VEVENT
BEGIN:VEVENT
DTSTART;TZID=America/New_York:20250902T180000
DTEND;TZID=America/New_York:20250902T190000
DTSTAMP:20260420T135715
CREATED:20250825T120328Z
LAST-MODIFIED:20250825T120328Z
UID:10003160-1756836000-1756839600@www.metroparks.net
SUMMARY:Puppy Socialization Adventure Hike
DESCRIPTION:Introduce your puppy to the outdoors and hiking in the presence of other dogs and people. Puppies should be fully vaccinated and under 1yr old. Hike will be at a slow pace with opportunities for you to practice skills you are working on\, so bring favorite treats. Please no retractable leashes; max. six foot leads. This program is not meant to be a “puppy playtime”\, but an opportunity for you to teach your puppy how to walk calmly and politely in a new environment. Please leave older dogs at home. Meets Tuesdays in September & October at 6pm\, except Sept 30. Hike will conclude by 645pm. Hike will be cancelled in event of inclement weather; see the Rocky Fork Facebook page for up to date information on cancellation.
URL:https://www.metroparks.net/event/puppy-socialization-adventure-hike/2025-09-02/
LOCATION:Rocky Fork\, 7180 East Walnut St.\, Westerville\, OH\, 43081\, United States
END:VEVENT
BEGIN:VEVENT
DTSTART;TZID=America/New_York:20250621T193000
DTEND;TZID=America/New_York:20250621T203000
DTSTAMP:20260420T135715
CREATED:20250530T155623Z
LAST-MODIFIED:20250530T155623Z
UID:10002856-1750534200-1750537800@www.metroparks.net
SUMMARY:For Adults 50+: Walk The Dog
DESCRIPTION:Take a 1.3-mile paved walk with your furry friend on the Beech Woodland trail. Pets must be leashed. \nMeet in the Millstone Picnic Area near the bulletin board
URL:https://www.metroparks.net/event/for-adults-50-walk-the-dog-3/
LOCATION:Rocky Fork\, 7180 East Walnut St.\, Westerville\, OH\, 43081\, United States
END:VEVENT
BEGIN:VEVENT
DTSTART;TZID=America/New_York:20250405T180000
DTEND;TZID=America/New_York:20250405T190000
DTSTAMP:20260420T135715
CREATED:20250324T133621Z
LAST-MODIFIED:20250324T133621Z
UID:10002529-1743876000-1743879600@www.metroparks.net
SUMMARY:Sounds of the Swamp
DESCRIPTION:Take an evening hike to listen for frogs\, birds and other springtime sounds.
URL:https://www.metroparks.net/event/sounds-of-the-swamp/
LOCATION:Rocky Fork\, 7180 East Walnut St.\, Westerville\, OH\, 43081\, United States
END:VEVENT
BEGIN:VEVENT
DTSTART;TZID=America/New_York:20250309T100000
DTEND;TZID=America/New_York:20250309T113000
DTSTAMP:20260420T135715
CREATED:20250217T140529Z
LAST-MODIFIED:20250217T140529Z
UID:10002384-1741514400-1741519800@www.metroparks.net
SUMMARY:Amphibian Hike
DESCRIPTION:Hike 1.5mi off-trail to look for amphibians in the vernal pools. Wear waterproof boots.
URL:https://www.metroparks.net/event/amphibian-hike/
LOCATION:Rocky Fork\, 7180 East Walnut St.\, Westerville\, OH\, 43081\, United States
END:VEVENT
BEGIN:VEVENT
DTSTART;TZID=America/New_York:20250119T100000
DTEND;TZID=America/New_York:20250119T130000
DTSTAMP:20260420T135715
CREATED:20241023T152235Z
LAST-MODIFIED:20241023T152235Z
UID:10001951-1737280800-1737291600@www.metroparks.net
SUMMARY:Rocky Fork Winter Hike
DESCRIPTION:Gather your friends and family for a hike on any trail at Rocky Fork Metro Park. Refreshments and a treat will be served between 10am and 1pm. \nLearn more about winter hikes by clicking here.
URL:https://www.metroparks.net/event/rocky-fork-winter-hike-2/
LOCATION:Rocky Fork\, 7180 East Walnut St.\, Westerville\, OH\, 43081\, United States
ATTACH;FMTTYPE=image/png:https://www.metroparks.net/wp-content/uploads/2024/10/25.png
END:VEVENT
BEGIN:VEVENT
DTSTART;TZID=America/New_York:20241214T170000
DTEND;TZID=America/New_York:20241214T180000
DTSTAMP:20260420T135715
CREATED:20241120T154427Z
LAST-MODIFIED:20241120T154427Z
UID:10002071-1734195600-1734199200@www.metroparks.net
SUMMARY:Full Moon Dog Hike
DESCRIPTION:Walk with your furry friend on this 1.5-mile hike through the moonlit forest. Meet at Millstone picnic area.
URL:https://www.metroparks.net/event/full-moon-dog-hike/
LOCATION:Rocky Fork\, 7180 East Walnut St.\, Westerville\, OH\, 43081\, United States
END:VEVENT
BEGIN:VEVENT
DTSTART;TZID=America/New_York:20241123T100000
DTEND;TZID=America/New_York:20241123T110000
DTSTAMP:20260420T135715
CREATED:20241023T130733Z
LAST-MODIFIED:20241023T130733Z
UID:10001936-1732356000-1732359600@www.metroparks.net
SUMMARY:Coyotes at Rocky Fork
DESCRIPTION:**THIS EVENT MEETS AT ROCKY FORK METRO PARK!!**\nLearn all about coyotes as we take a walk to look for evidence of them.
URL:https://www.metroparks.net/event/coyotes-at-rocky-fork/
LOCATION:Rocky Fork\, 7180 East Walnut St.\, Westerville\, OH\, 43081\, United States
ATTACH;FMTTYPE=image/jpeg:https://www.metroparks.net/wp-content/uploads/2019/03/gallery-spring-RKF_coyote-in-meadow-Dan-Bissonette.jpg
END:VEVENT
BEGIN:VEVENT
DTSTART;TZID=America/New_York:20241017T170000
DTEND;TZID=America/New_York:20241017T190000
DTSTAMP:20260420T135715
CREATED:20241001T172115Z
LAST-MODIFIED:20241001T172115Z
UID:10001917-1729184400-1729191600@www.metroparks.net
SUMMARY:Barktoberfest
DESCRIPTION:Fun for you and your canine best friend! We’ll have food trucks and a costume contest!
URL:https://www.metroparks.net/event/barktoberfest-2/
LOCATION:Rocky Fork\, 7180 East Walnut St.\, Westerville\, OH\, 43081\, United States
ATTACH;FMTTYPE=image/png:https://www.metroparks.net/wp-content/uploads/2024/10/barktoberfest-2024-flyer.png
END:VEVENT
BEGIN:VEVENT
DTSTART;TZID=America/New_York:20240920T180000
DTEND;TZID=America/New_York:20240920T190000
DTSTAMP:20260420T135715
CREATED:20240826T165116Z
LAST-MODIFIED:20240826T165351Z
UID:10001744-1726855200-1726858800@www.metroparks.net
SUMMARY:For Adults 50+: Dog Park Gathering
DESCRIPTION:Bring your canine friends and join other like-minded pup owners for an evening at the dog park. We’ll have refreshments for people and treats for dogs. Bring water and a bowl for your pooch. Please follow all posted dog park rules. \nMeet in the Millstone Area at the back of the park
URL:https://www.metroparks.net/event/for-adults-50-dog-park-gathering/
LOCATION:Rocky Fork\, 7180 East Walnut St.\, Westerville\, OH\, 43081\, United States
ATTACH;FMTTYPE=image/png:https://www.metroparks.net/wp-content/uploads/2024/08/Dog-Park-Gathering.png
END:VEVENT
BEGIN:VEVENT
DTSTART;TZID=America/New_York:20240811T140000
DTEND;TZID=America/New_York:20240811T150000
DTSTAMP:20260420T135715
CREATED:20240715T125306Z
LAST-MODIFIED:20240715T125306Z
UID:10001587-1723384800-1723388400@www.metroparks.net
SUMMARY:Prairie Hike
DESCRIPTION:Take hike along a natural surface trail to look for prairie plants and wildlife.
URL:https://www.metroparks.net/event/prairie-hike/
LOCATION:Rocky Fork\, 7180 East Walnut St.\, Westerville\, OH\, 43081\, United States
END:VEVENT
BEGIN:VEVENT
DTSTART;TZID=America/New_York:20240630T150000
DTEND;TZID=America/New_York:20240630T160000
DTSTAMP:20260420T135715
CREATED:20240522T172017Z
LAST-MODIFIED:20240522T172017Z
UID:10001339-1719759600-1719763200@www.metroparks.net
SUMMARY:Flying High
DESCRIPTION:Birds amaze us with their powers of flight. Learn about their special adaptations that allow them to fly\, then make your own kite or paper airplane to test your flight skills.
URL:https://www.metroparks.net/event/flying-high/
LOCATION:Rocky Fork\, 7180 East Walnut St.\, Westerville\, OH\, 43081\, United States
END:VEVENT
BEGIN:VEVENT
DTSTART;TZID=America/New_York:20240629T090000
DTEND;TZID=America/New_York:20240629T103000
DTSTAMP:20260420T135715
CREATED:20240522T171710Z
LAST-MODIFIED:20240522T171710Z
UID:10001337-1719651600-1719657000@www.metroparks.net
SUMMARY:Morning Bird Walk
DESCRIPTION:Explore birds of field and edge habitats at Rocky Fork Metro Park. Walk will be about 1 mile. Meet at Millstone picnic shelter. Limited binoculars available to borrow.
URL:https://www.metroparks.net/event/morning-bird-walk/
LOCATION:Rocky Fork\, 7180 East Walnut St.\, Westerville\, OH\, 43081\, United States
END:VEVENT
BEGIN:VEVENT
DTSTART;TZID=America/New_York:20240623T190000
DTEND;TZID=America/New_York:20240623T203000
DTSTAMP:20260420T135715
CREATED:20240528T131103Z
LAST-MODIFIED:20240603T132747Z
UID:10001387-1719169200-1719174600@www.metroparks.net
SUMMARY:For Adults 50+: Leather Craft and Campfire
DESCRIPTION:Design your own leather bookmark or keychain and enjoy a s’more over the open fire. \nMeet at the Millstone Shelter.
URL:https://www.metroparks.net/event/for-adults-50-leather-craft-and-campfire/
LOCATION:Rocky Fork\, 7180 East Walnut St.\, Westerville\, OH\, 43081\, United States
END:VEVENT
BEGIN:VEVENT
DTSTART;TZID=America/New_York:20240310T140000
DTEND;TZID=America/New_York:20240310T150000
DTSTAMP:20260420T135715
CREATED:20240226T135904Z
LAST-MODIFIED:20240226T135904Z
UID:10001057-1710079200-1710082800@www.metroparks.net
SUMMARY:Amphibian Search
DESCRIPTION:Hike 1.5 mi on and off trail to look for early spring amphibians.
URL:https://www.metroparks.net/event/amphibian-search-3/
LOCATION:Rocky Fork\, 7180 East Walnut St.\, Westerville\, OH\, 43081\, United States
END:VEVENT
BEGIN:VEVENT
DTSTART;TZID=America/New_York:20240303T140000
DTEND;TZID=America/New_York:20240303T150000
DTSTAMP:20260420T135715
CREATED:20240226T134524Z
LAST-MODIFIED:20240226T134524Z
UID:10001044-1709474400-1709478000@www.metroparks.net
SUMMARY:Amphibian Search
DESCRIPTION:Hike 1.5 mi on and off trail to look for early spring amphibians.
URL:https://www.metroparks.net/event/amphibian-search-2/
LOCATION:Rocky Fork\, 7180 East Walnut St.\, Westerville\, OH\, 43081\, United States
END:VEVENT
BEGIN:VEVENT
DTSTART;TZID=America/New_York:20240121T100000
DTEND;TZID=America/New_York:20240121T130000
DTSTAMP:20260420T135715
CREATED:20231115T175603Z
LAST-MODIFIED:20231207T150734Z
UID:10000733-1705831200-1705842000@www.metroparks.net
SUMMARY:Rocky Fork Winter Hike
DESCRIPTION:Gather your friends and family for a hike on any trail at Rocky Fork Metro Park. Refreshments and a treat will be served between 10am and 1pm. \nLearn more about winter hikes by clicking here.
URL:https://www.metroparks.net/event/rocky-fork-winter-hike/
LOCATION:Rocky Fork\, 7180 East Walnut St.\, Westerville\, OH\, 43081\, United States
ATTACH;FMTTYPE=image/png:https://www.metroparks.net/wp-content/uploads/2023/11/RKY.png
END:VEVENT
BEGIN:VEVENT
DTSTART;TZID=America/New_York:20231019T170000
DTEND;TZID=America/New_York:20231019T190000
DTSTAMP:20260420T135715
CREATED:20230925T181541Z
LAST-MODIFIED:20230927T180549Z
UID:10000659-1697734800-1697742000@www.metroparks.net
SUMMARY:Barktoberfest
DESCRIPTION:Fun for you and your canine best friend! We’ll have food trucks and a costume contest!
URL:https://www.metroparks.net/event/barktoberfest/
LOCATION:Rocky Fork\, 7180 East Walnut St.\, Westerville\, OH\, 43081\, United States
ATTACH;FMTTYPE=image/jpeg:https://www.metroparks.net/wp-content/uploads/2023/09/383497632_634495805480130_1192126149246142643_n.jpg
END:VEVENT
BEGIN:VEVENT
DTSTART;TZID=America/New_York:20230718T180000
DTEND;TZID=America/New_York:20230718T190000
DTSTAMP:20260420T135715
CREATED:20230710T150527Z
LAST-MODIFIED:20230710T174726Z
UID:10000526-1689703200-1689706800@www.metroparks.net
SUMMARY:Rockin' Around Rocky
DESCRIPTION:Take a fast paced fitness hike while listening to your favorite classic rock tunes. Paved and natural surface trails
URL:https://www.metroparks.net/event/rockin-around-rocky/
LOCATION:Rocky Fork\, 7180 East Walnut St.\, Westerville\, OH\, 43081\, United States
END:VEVENT
BEGIN:VEVENT
DTSTART;TZID=America/New_York:20230401T110000
DTEND;TZID=America/New_York:20230401T140000
DTSTAMP:20260420T135715
CREATED:20230324T151913Z
LAST-MODIFIED:20230324T152323Z
UID:10000400-1680346800-1680357600@www.metroparks.net
SUMMARY:Hoppin' Hound Hunt
DESCRIPTION:Why should kids have all the fun? Bring your canine friend for a doggone good egg hunt at the dog park! Registration starts 10:30 am. \n  \n 
URL:https://www.metroparks.net/event/hoppin-hound-hunt/
LOCATION:Rocky Fork\, 7180 East Walnut St.\, Westerville\, OH\, 43081\, United States
ATTACH;FMTTYPE=image/jpeg:https://www.metroparks.net/wp-content/uploads/2023/03/QT_DogOnAWalk_LizChristian-scaled-e1679671380201.jpg
END:VEVENT
BEGIN:VEVENT
DTSTART;TZID=America/New_York:20230311T140000
DTEND;TZID=America/New_York:20230311T150000
DTSTAMP:20260420T135715
CREATED:20230215T185611Z
LAST-MODIFIED:20230215T185611Z
UID:10000390-1678543200-1678546800@www.metroparks.net
SUMMARY:Amphibian Search
DESCRIPTION:Hike 1.5 miles on- and off-trail at Rocky Fork Metro Park to look for early spring amphibians!
URL:https://www.metroparks.net/event/amphibian-search/2023-03-11/
LOCATION:Rocky Fork\, 7180 East Walnut St.\, Westerville\, OH\, 43081\, United States
ATTACH;FMTTYPE=image/jpeg:https://www.metroparks.net/wp-content/uploads/2023/02/Spotted-salamander-in-vernal-pool-off-Buttonbush-Trail-at-BLK_Feb_Cody-Berkebile-scaled.jpg
END:VEVENT
BEGIN:VEVENT
DTSTART;TZID=America/New_York:20230304T140000
DTEND;TZID=America/New_York:20230304T150000
DTSTAMP:20260420T135715
CREATED:20230215T185611Z
LAST-MODIFIED:20230215T185611Z
UID:10000389-1677938400-1677942000@www.metroparks.net
SUMMARY:Amphibian Search
DESCRIPTION:Hike 1.5 miles on- and off-trail at Rocky Fork Metro Park to look for early spring amphibians!
URL:https://www.metroparks.net/event/amphibian-search/2023-03-04/
LOCATION:Rocky Fork\, 7180 East Walnut St.\, Westerville\, OH\, 43081\, United States
ATTACH;FMTTYPE=image/jpeg:https://www.metroparks.net/wp-content/uploads/2023/02/Spotted-salamander-in-vernal-pool-off-Buttonbush-Trail-at-BLK_Feb_Cody-Berkebile-scaled.jpg
END:VEVENT
END:VCALENDAR