BEGIN:VCALENDAR
VERSION:2.0
PRODID:-//Metro Parks - Central Ohio Park System - ECPv6.15.16.1//NONSGML v1.0//EN
CALSCALE:GREGORIAN
METHOD:PUBLISH
X-ORIGINAL-URL:https://www.metroparks.net
X-WR-CALDESC:Events for Metro Parks - Central Ohio Park System
REFRESH-INTERVAL;VALUE=DURATION:PT1H
X-Robots-Tag:noindex
X-PUBLISHED-TTL:PT1H
BEGIN:VTIMEZONE
TZID:America/New_York
BEGIN:DAYLIGHT
TZOFFSETFROM:-0500
TZOFFSETTO:-0400
TZNAME:EDT
DTSTART:20250309T070000
END:DAYLIGHT
BEGIN:STANDARD
TZOFFSETFROM:-0400
TZOFFSETTO:-0500
TZNAME:EST
DTSTART:20251102T060000
END:STANDARD
BEGIN:DAYLIGHT
TZOFFSETFROM:-0500
TZOFFSETTO:-0400
TZNAME:EDT
DTSTART:20260308T070000
END:DAYLIGHT
BEGIN:STANDARD
TZOFFSETFROM:-0400
TZOFFSETTO:-0500
TZNAME:EST
DTSTART:20261101T060000
END:STANDARD
BEGIN:DAYLIGHT
TZOFFSETFROM:-0500
TZOFFSETTO:-0400
TZNAME:EDT
DTSTART:20270314T070000
END:DAYLIGHT
BEGIN:STANDARD
TZOFFSETFROM:-0400
TZOFFSETTO:-0500
TZNAME:EST
DTSTART:20271107T060000
END:STANDARD
END:VTIMEZONE
BEGIN:VEVENT
DTSTART;TZID=America/New_York:20260326T180000
DTEND;TZID=America/New_York:20260326T190000
DTSTAMP:20260419T081324
CREATED:20260223T133936Z
LAST-MODIFIED:20260223T133936Z
UID:10003909-1774548000-1774551600@www.metroparks.net
SUMMARY:Adventure Book Club!
DESCRIPTION:Join us for our Monthly Adventure Book Club! No registration necessary\, all adults are welcome.\nTo celebrate women’s history month\, we will be reading “Grandma Gatewood’s Walk: The Inspiring Story of the Woman Who Saved the Appalachian Trail” by Ben Montgomery.\nWe will meet at the end of each month to discuss a different book. Meet at The Grove Lodge at Scioto Grove Metro Park.
URL:https://www.metroparks.net/event/adventure-book-club-13/
LOCATION:Scioto Grove\, 5172 Jackson Pike\, Grove City\, OH\, 43123\, United States
END:VEVENT
BEGIN:VEVENT
DTSTART;TZID=America/New_York:20260323T183000
DTEND;TZID=America/New_York:20260323T193000
DTSTAMP:20260419T081324
CREATED:20260223T134228Z
LAST-MODIFIED:20260223T134228Z
UID:10003911-1774290600-1774294200@www.metroparks.net
SUMMARY:Candlelight Yoga
DESCRIPTION:Join us for candle light yoga at Scioto Grove Metro Park! This class will take place outdoors\, weather permitting. There will be an indoor option as well. Meet at The Grove\, free and fun!
URL:https://www.metroparks.net/event/candlelight-yoga-5/
LOCATION:Scioto Grove\, 5172 Jackson Pike\, Grove City\, OH\, 43123\, United States
END:VEVENT
BEGIN:VEVENT
DTSTART;TZID=America/New_York:20260320T180000
DTEND;TZID=America/New_York:20260320T190000
DTSTAMP:20260419T081324
CREATED:20260223T134459Z
LAST-MODIFIED:20260223T134459Z
UID:10003915-1774029600-1774033200@www.metroparks.net
SUMMARY:Spring Equinox S'mores
DESCRIPTION:Celebrate the spring equinox by having a warm s’more around the campfire! Meet at the Arrowhead fire pit at Scioto Grove Metro Park.
URL:https://www.metroparks.net/event/spring-equinox-smores/
LOCATION:Scioto Grove\, 5172 Jackson Pike\, Grove City\, OH\, 43123\, United States
END:VEVENT
BEGIN:VEVENT
DTSTART;TZID=America/New_York:20260320T170000
DTEND;TZID=America/New_York:20260320T180000
DTSTAMP:20260419T081324
CREATED:20260223T134634Z
LAST-MODIFIED:20260223T134634Z
UID:10003916-1774026000-1774029600@www.metroparks.net
SUMMARY:DIY Sundials
DESCRIPTION:This class\, we will be learning about the history of sundials\, and making our own to take home! Meet at The Grove lodge at Scioto Grove Metro Park. This class will take place indoors.
URL:https://www.metroparks.net/event/diy-sundials/
LOCATION:Scioto Grove\, 5172 Jackson Pike\, Grove City\, OH\, 43123\, United States
END:VEVENT
BEGIN:VEVENT
DTSTART;TZID=America/New_York:20260317T180000
DTEND;TZID=America/New_York:20260317T193000
DTSTAMP:20260419T081324
CREATED:20260223T133008Z
LAST-MODIFIED:20260223T133008Z
UID:10003898-1773770400-1773775800@www.metroparks.net
SUMMARY:Shamrock Scavenger Hunt!
DESCRIPTION:Come out to Scioto Grove Metro Park and hunt for shamrocks! Shamrocks will be scattered all around the Arrowhead picnic area section of the park\, find them all and win a prize!! Meet at the arrowhead picnic shelter for instruction and supplies\, free and fun
URL:https://www.metroparks.net/event/shamrock-scavenger-hunt-2/
LOCATION:Scioto Grove\, 5172 Jackson Pike\, Grove City\, OH\, 43123\, United States
END:VEVENT
BEGIN:VEVENT
DTSTART;TZID=America/New_York:20260316T183000
DTEND;TZID=America/New_York:20260316T193000
DTSTAMP:20260419T081324
CREATED:20260223T132748Z
LAST-MODIFIED:20260223T132748Z
UID:10003895-1773685800-1773689400@www.metroparks.net
SUMMARY:Deep Stretch Yoga with Naomi
DESCRIPTION:Join us for an evening of deep stretch yoga at Scioto Grove Metro Park! Yoga will be outdoors weather permitting\, with an option to be indoors if needed. Meet at The Grove lodge.
URL:https://www.metroparks.net/event/deep-stretch-yoga-with-naomi-3/2026-03-16/
LOCATION:Scioto Grove\, 5172 Jackson Pike\, Grove City\, OH\, 43123\, United States
END:VEVENT
BEGIN:VEVENT
DTSTART;TZID=America/New_York:20260313T130000
DTEND;TZID=America/New_York:20260313T143000
DTSTAMP:20260419T081324
CREATED:20260223T134728Z
LAST-MODIFIED:20260223T134728Z
UID:10003918-1773406800-1773412200@www.metroparks.net
SUMMARY:Pi Day Eve! Pie Iron Cooking
DESCRIPTION:Join us in celebrating Pi Day Eve with a pie iron sandwich at Scioto Grove Metro Park! Meet at the Arrowhead fire pit for ingredients and instruction.
URL:https://www.metroparks.net/event/pi-day-eve-pie-iron-cooking/
LOCATION:Scioto Grove\, 5172 Jackson Pike\, Grove City\, OH\, 43123\, United States
END:VEVENT
BEGIN:VEVENT
DTSTART;TZID=America/New_York:20260310T183000
DTEND;TZID=America/New_York:20260310T193000
DTSTAMP:20260419T081324
CREATED:20260223T133431Z
LAST-MODIFIED:20260223T133431Z
UID:10003903-1773167400-1773171000@www.metroparks.net
SUMMARY:Stretch and Strengthen Fitness Class
DESCRIPTION:Join us for a beginner friendly stretching and strengthening fitness class at The Grove Lodge at Scioto Grove Metro Park. Yoga mats will not be provided.
URL:https://www.metroparks.net/event/stretch-and-strengthen-fitness-class/
LOCATION:Scioto Grove\, 5172 Jackson Pike\, Grove City\, OH\, 43123\, United States
END:VEVENT
BEGIN:VEVENT
DTSTART;TZID=America/New_York:20260305T183000
DTEND;TZID=America/New_York:20260305T193000
DTSTAMP:20260419T081324
CREATED:20260223T133243Z
LAST-MODIFIED:20260223T133243Z
UID:10003901-1772735400-1772739000@www.metroparks.net
SUMMARY:Backcountry Cooking
DESCRIPTION:Learn how to make a backcountry meal over an ultra light stove at Scioto Grove Metro Park! Meet at the Arrowhead Picnic Area\, all equipment and ingredients provided.
URL:https://www.metroparks.net/event/backcountry-cooking/
LOCATION:Scioto Grove\, 5172 Jackson Pike\, Grove City\, OH\, 43123\, United States
END:VEVENT
BEGIN:VEVENT
DTSTART;TZID=America/New_York:20260302T183000
DTEND;TZID=America/New_York:20260302T193000
DTSTAMP:20260419T081324
CREATED:20260223T132748Z
LAST-MODIFIED:20260223T132748Z
UID:10003894-1772476200-1772479800@www.metroparks.net
SUMMARY:Deep Stretch Yoga with Naomi
DESCRIPTION:Join us for an evening of deep stretch yoga at Scioto Grove Metro Park! Yoga will be outdoors weather permitting\, with an option to be indoors if needed. Meet at The Grove lodge.
URL:https://www.metroparks.net/event/deep-stretch-yoga-with-naomi-3/2026-03-02/
LOCATION:Scioto Grove\, 5172 Jackson Pike\, Grove City\, OH\, 43123\, United States
END:VEVENT
BEGIN:VEVENT
DTSTART;TZID=America/New_York:20260227T180000
DTEND;TZID=America/New_York:20260227T190000
DTSTAMP:20260419T081324
CREATED:20260128T141243Z
LAST-MODIFIED:20260128T141243Z
UID:10003838-1772215200-1772218800@www.metroparks.net
SUMMARY:Adventure Book Club!
DESCRIPTION:Join us for our Monthly Adventure Book Club! No registration necessary\, all adults are welcome.\nThis month’s book is “The Home Place: Memoirs of a Colored Man’s Love Affair with Nature” by J. Drew Lanham\nWe will meet at the end of each month to discuss a different book. Meet at The Grove Lodge at Scioto Grove Metro Park.
URL:https://www.metroparks.net/event/adventure-book-club-12/
LOCATION:Scioto Grove\, 5172 Jackson Pike\, Grove City\, OH\, 43123\, United States
END:VEVENT
BEGIN:VEVENT
DTSTART;TZID=America/New_York:20260226T180000
DTEND;TZID=America/New_York:20260226T193000
DTSTAMP:20260419T081324
CREATED:20260128T140158Z
LAST-MODIFIED:20260128T140158Z
UID:10003824-1772128800-1772134200@www.metroparks.net
SUMMARY:Speaker Series: Hiking the Triple Crown
DESCRIPTION:Join us in welcoming local legend “Danger” Dave Humeston as he presents on his experience earning the “Triple Crown of Hiking”: thru-hiking the entirety of the Pacific Crest\, Continental Divide\, and Appalachian Trails. Meet at the Grove Lodge to hear about his journey exploring the United States by foot! Light refreshments will be provided.
URL:https://www.metroparks.net/event/speaker-series-hiking-the-triple-crown/
LOCATION:Scioto Grove\, 5172 Jackson Pike\, Grove City\, OH\, 43123\, United States
END:VEVENT
BEGIN:VEVENT
DTSTART;TZID=America/New_York:20260226T140000
DTEND;TZID=America/New_York:20260226T153000
DTSTAMP:20260419T081324
CREATED:20260128T135005Z
LAST-MODIFIED:20260128T135005Z
UID:10003812-1772114400-1772119800@www.metroparks.net
SUMMARY:Disc Golf Classes and Games
DESCRIPTION:Learn. Play. Connect.\nColumbus Metro Parks Outdoor Adventure and Vets Disc Golf Club of Central Ohio offer beginner instruction and interactive games designed for all ages and skill levels. Free\, indoor\, inclusive! All equipment and instruction provided. Meet at the Grove Lodge at Scioto Grove Metro Park.
URL:https://www.metroparks.net/event/disc-golf-classes-and-games-2/2026-02-26/
LOCATION:Scioto Grove\, 5172 Jackson Pike\, Grove City\, OH\, 43123\, United States
END:VEVENT
BEGIN:VEVENT
DTSTART;TZID=America/New_York:20260224T180000
DTEND;TZID=America/New_York:20260224T193000
DTSTAMP:20260419T081324
CREATED:20260128T135925Z
LAST-MODIFIED:20260128T135925Z
UID:10003820-1771956000-1771961400@www.metroparks.net
SUMMARY:Pie Iron Cooking
DESCRIPTION:Pie irons? Pudgy pies? Toastie irons? Regardless of what you grew up calling them\, or if you are brand new to using them\, join us to make recipes and learn tips and tricks! Meet at the campfire in Arrowhead Picnic Area at Scioto Grove Metro Park.
URL:https://www.metroparks.net/event/pie-iron-cooking-7/
LOCATION:Scioto Grove\, 5172 Jackson Pike\, Grove City\, OH\, 43123\, United States
END:VEVENT
BEGIN:VEVENT
DTSTART;TZID=America/New_York:20260223T183000
DTEND;TZID=America/New_York:20260223T193000
DTSTAMP:20260419T081324
CREATED:20260128T135845Z
LAST-MODIFIED:20260128T135845Z
UID:10003819-1771871400-1771875000@www.metroparks.net
SUMMARY:Deep Stretch Yoga with Naomi
DESCRIPTION:Meet at the Grove Lodge for a deep stretch yoga flow\, perfect for all skill levels\, at Scioto Grove Metro Park! Yoga will be indoors\, bring your own mat!
URL:https://www.metroparks.net/event/deep-stretch-yoga-with-naomi-2/2026-02-23/
LOCATION:Scioto Grove\, 5172 Jackson Pike\, Grove City\, OH\, 43123\, United States
END:VEVENT
BEGIN:VEVENT
DTSTART;TZID=America/New_York:20260219T180000
DTEND;TZID=America/New_York:20260219T190000
DTSTAMP:20260419T081324
CREATED:20260128T141209Z
LAST-MODIFIED:20260128T141209Z
UID:10003837-1771524000-1771527600@www.metroparks.net
SUMMARY:DIY Firestarters
DESCRIPTION:Learn what makes a good fire starter and make one to take home with you at this free and fun class!\nMeet at The Grove Lodge at Scioto Grove Metro Park.
URL:https://www.metroparks.net/event/diy-firestarters/
LOCATION:Scioto Grove\, 5172 Jackson Pike\, Grove City\, OH\, 43123\, United States
END:VEVENT
BEGIN:VEVENT
DTSTART;TZID=America/New_York:20260219T140000
DTEND;TZID=America/New_York:20260219T153000
DTSTAMP:20260419T081324
CREATED:20260128T135005Z
LAST-MODIFIED:20260128T135005Z
UID:10003811-1771509600-1771515000@www.metroparks.net
SUMMARY:Disc Golf Classes and Games
DESCRIPTION:Learn. Play. Connect.\nColumbus Metro Parks Outdoor Adventure and Vets Disc Golf Club of Central Ohio offer beginner instruction and interactive games designed for all ages and skill levels. Free\, indoor\, inclusive! All equipment and instruction provided. Meet at the Grove Lodge at Scioto Grove Metro Park.
URL:https://www.metroparks.net/event/disc-golf-classes-and-games-2/2026-02-19/
LOCATION:Scioto Grove\, 5172 Jackson Pike\, Grove City\, OH\, 43123\, United States
END:VEVENT
BEGIN:VEVENT
DTSTART;TZID=America/New_York:20260217T183000
DTEND;TZID=America/New_York:20260217T193000
DTSTAMP:20260419T081324
CREATED:20260128T141129Z
LAST-MODIFIED:20260128T141129Z
UID:10003836-1771353000-1771356600@www.metroparks.net
SUMMARY:Ladies Lantern Hike
DESCRIPTION:Join us for a ladies-only Lantern Hike at Scioto Grove Metro Park! This staff-led hike will be approx. 2 miles long. Meet at the Arrowhead Picnic Area.
URL:https://www.metroparks.net/event/ladies-lantern-hike/
LOCATION:Scioto Grove\, 5172 Jackson Pike\, Grove City\, OH\, 43123\, United States
END:VEVENT
BEGIN:VEVENT
DTSTART;TZID=America/New_York:20260216T183000
DTEND;TZID=America/New_York:20260216T193000
DTSTAMP:20260419T081324
CREATED:20260128T140959Z
LAST-MODIFIED:20260128T140959Z
UID:10003834-1771266600-1771270200@www.metroparks.net
SUMMARY:Candlelight Yoga
DESCRIPTION:Enjoy a relaxing slow yoga flow at Scioto Grove Metro Park. Perfect for beginners\, and those who want a peaceful practice after a long day! Bring your own mat. Meet at The Grove Lodge indoors.
URL:https://www.metroparks.net/event/candlelight-yoga-4/
LOCATION:Scioto Grove\, 5172 Jackson Pike\, Grove City\, OH\, 43123\, United States
END:VEVENT
BEGIN:VEVENT
DTSTART;TZID=America/New_York:20260216T173000
DTEND;TZID=America/New_York:20260216T183000
DTSTAMP:20260419T081324
CREATED:20260128T140845Z
LAST-MODIFIED:20260128T140845Z
UID:10003833-1771263000-1771266600@www.metroparks.net
SUMMARY:DIY Yoga Mat Cleaner
DESCRIPTION:Join us for this free and fun DIY activity at Scioto Grove Metro Park! We will be making cleaning spray for yoga mats and other workout equipment. Meet at The Grove lodge at Scioto Grove Metro Park.
URL:https://www.metroparks.net/event/diy-yoga-mat-cleaner-2/
LOCATION:Scioto Grove\, 5172 Jackson Pike\, Grove City\, OH\, 43123\, United States
END:VEVENT
BEGIN:VEVENT
DTSTART;TZID=America/New_York:20260215T160000
DTEND;TZID=America/New_York:20260215T170000
DTSTAMP:20260419T081324
CREATED:20260128T140822Z
LAST-MODIFIED:20260128T140822Z
UID:10003832-1771171200-1771174800@www.metroparks.net
SUMMARY:Scavenger Hunt
DESCRIPTION:Go for a short hike while hunting for all of the missing Cupids during this Valentine’s Day-themed scavenger hunt! Meet at Arrowhead picnic shelter to get your activity sheet to start and prizes once you complete the hunt!
URL:https://www.metroparks.net/event/scavenger-hunt-6/
LOCATION:Scioto Grove\, 5172 Jackson Pike\, Grove City\, OH\, 43123\, United States
END:VEVENT
BEGIN:VEVENT
DTSTART;TZID=America/New_York:20260212T140000
DTEND;TZID=America/New_York:20260212T153000
DTSTAMP:20260419T081324
CREATED:20260128T135005Z
LAST-MODIFIED:20260128T135005Z
UID:10003810-1770904800-1770910200@www.metroparks.net
SUMMARY:Disc Golf Classes and Games
DESCRIPTION:Learn. Play. Connect.\nColumbus Metro Parks Outdoor Adventure and Vets Disc Golf Club of Central Ohio offer beginner instruction and interactive games designed for all ages and skill levels. Free\, indoor\, inclusive! All equipment and instruction provided. Meet at the Grove Lodge at Scioto Grove Metro Park.
URL:https://www.metroparks.net/event/disc-golf-classes-and-games-2/2026-02-12/
LOCATION:Scioto Grove\, 5172 Jackson Pike\, Grove City\, OH\, 43123\, United States
END:VEVENT
BEGIN:VEVENT
DTSTART;TZID=America/New_York:20260211T160000
DTEND;TZID=America/New_York:20260211T170000
DTSTAMP:20260419T081324
CREATED:20260128T140628Z
LAST-MODIFIED:20260128T140628Z
UID:10003830-1770825600-1770829200@www.metroparks.net
SUMMARY:Adventure 101: Shelter Building
DESCRIPTION:From tarps to knots\, we will go over everything shelter building during this hands on class! We will provide all of the equipment and instruction necessary\, to teach participants the best shelter types to utilize and when to use them.\nMeet at the Arrowhead Picnic Area at Scioto Grove Metro Park.
URL:https://www.metroparks.net/event/adventure-101-shelter-building-5/
LOCATION:Scioto Grove\, 5172 Jackson Pike\, Grove City\, OH\, 43123\, United States
END:VEVENT
BEGIN:VEVENT
DTSTART;TZID=America/New_York:20260209T183000
DTEND;TZID=America/New_York:20260209T193000
DTSTAMP:20260419T081324
CREATED:20260128T135845Z
LAST-MODIFIED:20260128T135845Z
UID:10003818-1770661800-1770665400@www.metroparks.net
SUMMARY:Deep Stretch Yoga with Naomi
DESCRIPTION:Meet at the Grove Lodge for a deep stretch yoga flow\, perfect for all skill levels\, at Scioto Grove Metro Park! Yoga will be indoors\, bring your own mat!
URL:https://www.metroparks.net/event/deep-stretch-yoga-with-naomi-2/2026-02-09/
LOCATION:Scioto Grove\, 5172 Jackson Pike\, Grove City\, OH\, 43123\, United States
END:VEVENT
BEGIN:VEVENT
DTSTART;TZID=America/New_York:20260205T140000
DTEND;TZID=America/New_York:20260205T153000
DTSTAMP:20260419T081324
CREATED:20260128T135005Z
LAST-MODIFIED:20260128T135005Z
UID:10003809-1770300000-1770305400@www.metroparks.net
SUMMARY:Disc Golf Classes and Games
DESCRIPTION:Learn. Play. Connect.\nColumbus Metro Parks Outdoor Adventure and Vets Disc Golf Club of Central Ohio offer beginner instruction and interactive games designed for all ages and skill levels. Free\, indoor\, inclusive! All equipment and instruction provided. Meet at the Grove Lodge at Scioto Grove Metro Park.
URL:https://www.metroparks.net/event/disc-golf-classes-and-games-2/2026-02-05/
LOCATION:Scioto Grove\, 5172 Jackson Pike\, Grove City\, OH\, 43123\, United States
END:VEVENT
BEGIN:VEVENT
DTSTART;TZID=America/New_York:20260203T183000
DTEND;TZID=America/New_York:20260203T193000
DTSTAMP:20260419T081324
CREATED:20260128T135700Z
LAST-MODIFIED:20260128T135700Z
UID:10003817-1770143400-1770147000@www.metroparks.net
SUMMARY:Lantern Hike
DESCRIPTION:Join us for an after dark adventure on this approx. two-mile lantern hike! Some lanterns will be available to borrow on a first come\, first served basis. Meet at the Arrowhead Picnic Shelter.
URL:https://www.metroparks.net/event/lantern-hike-32/
LOCATION:Scioto Grove\, 5172 Jackson Pike\, Grove City\, OH\, 43123\, United States
END:VEVENT
BEGIN:VEVENT
DTSTART;TZID=America/New_York:20260202T170000
DTEND;TZID=America/New_York:20260202T180000
DTSTAMP:20260419T081324
CREATED:20260128T135601Z
LAST-MODIFIED:20260128T135601Z
UID:10003816-1770051600-1770055200@www.metroparks.net
SUMMARY:Groundhog Scavenger Hunt & Hike
DESCRIPTION:Go for a short hike while hunting for all of the missing items during this Groundhog Day-themed scavenger hunt! Meet at Arrowhead picnic shelter to get your activity sheet to start and prizes once you complete the hunt!
URL:https://www.metroparks.net/event/groundhog-scavenger-hunt-hike/
LOCATION:Scioto Grove\, 5172 Jackson Pike\, Grove City\, OH\, 43123\, United States
END:VEVENT
BEGIN:VEVENT
DTSTART;TZID=America/New_York:20260127T180000
DTEND;TZID=America/New_York:20260127T190000
DTSTAMP:20260419T081324
CREATED:20251224T154523Z
LAST-MODIFIED:20251224T154523Z
UID:10003679-1769536800-1769540400@www.metroparks.net
SUMMARY:Adventure Book Club!
DESCRIPTION:Join us for our Monthly Adventure Book Club! No registration necessary\, all are welcome. This month’s book is “When it All Burns: Fighting Fire in a Transformed World” by Jordan Thomas\nWe will meet at the end of each month to discuss a different book. Meet at The Grove Lodge at Scioto Grove Metro Park
URL:https://www.metroparks.net/event/adventure-book-club-11/
LOCATION:Scioto Grove\, 5172 Jackson Pike\, Grove City\, OH\, 43123\, United States
END:VEVENT
BEGIN:VEVENT
DTSTART;TZID=America/New_York:20260125T100000
DTEND;TZID=America/New_York:20260125T130000
DTSTAMP:20260419T081324
CREATED:20251201T172240Z
LAST-MODIFIED:20251201T172240Z
UID:10003613-1769335200-1769346000@www.metroparks.net
SUMMARY:Scioto Grove Winter Hike
DESCRIPTION:Gather your friends and family for a hike on any trail at Scioto Grove Metro Park. Refreshments and a treat will be served between 10am and 1pm. \nLearn more about winter hikes by clicking here.
URL:https://www.metroparks.net/event/scioto-grove-winter-hike-3/
LOCATION:Scioto Grove\, 5172 Jackson Pike\, Grove City\, OH\, 43123\, United States
ATTACH;FMTTYPE=image/png:https://www.metroparks.net/wp-content/uploads/2025/12/SGR.png
END:VEVENT
BEGIN:VEVENT
DTSTART;TZID=America/New_York:20260120T180000
DTEND;TZID=America/New_York:20260120T190000
DTSTAMP:20260419T081324
CREATED:20251224T160114Z
LAST-MODIFIED:20251224T160114Z
UID:10003699-1768932000-1768935600@www.metroparks.net
SUMMARY:Navigation Devices
DESCRIPTION:This class we will be learning about different navigation and communication devices! Meet at The Grove lodge at Scioto Grove Metro Park. This class will be indoors.
URL:https://www.metroparks.net/event/navigation-devices/
LOCATION:Scioto Grove\, 5172 Jackson Pike\, Grove City\, OH\, 43123\, United States
END:VEVENT
END:VCALENDAR