BEGIN:VCALENDAR
VERSION:2.0
PRODID:-//Metro Parks - Central Ohio Park System - ECPv6.15.16.1//NONSGML v1.0//EN
CALSCALE:GREGORIAN
METHOD:PUBLISH
X-ORIGINAL-URL:https://www.metroparks.net
X-WR-CALDESC:Events for Metro Parks - Central Ohio Park System
REFRESH-INTERVAL;VALUE=DURATION:PT1H
X-Robots-Tag:noindex
X-PUBLISHED-TTL:PT1H
BEGIN:VTIMEZONE
TZID:America/New_York
BEGIN:DAYLIGHT
TZOFFSETFROM:-0500
TZOFFSETTO:-0400
TZNAME:EDT
DTSTART:20230312T070000
END:DAYLIGHT
BEGIN:STANDARD
TZOFFSETFROM:-0400
TZOFFSETTO:-0500
TZNAME:EST
DTSTART:20231105T060000
END:STANDARD
BEGIN:DAYLIGHT
TZOFFSETFROM:-0500
TZOFFSETTO:-0400
TZNAME:EDT
DTSTART:20240310T070000
END:DAYLIGHT
BEGIN:STANDARD
TZOFFSETFROM:-0400
TZOFFSETTO:-0500
TZNAME:EST
DTSTART:20241103T060000
END:STANDARD
BEGIN:DAYLIGHT
TZOFFSETFROM:-0500
TZOFFSETTO:-0400
TZNAME:EDT
DTSTART:20250309T070000
END:DAYLIGHT
BEGIN:STANDARD
TZOFFSETFROM:-0400
TZOFFSETTO:-0500
TZNAME:EST
DTSTART:20251102T060000
END:STANDARD
BEGIN:DAYLIGHT
TZOFFSETFROM:-0500
TZOFFSETTO:-0400
TZNAME:EDT
DTSTART:20260308T070000
END:DAYLIGHT
BEGIN:STANDARD
TZOFFSETFROM:-0400
TZOFFSETTO:-0500
TZNAME:EST
DTSTART:20261101T060000
END:STANDARD
END:VTIMEZONE
BEGIN:VEVENT
DTSTART;TZID=America/New_York:20250324T180000
DTEND;TZID=America/New_York:20250324T193000
DTSTAMP:20260420T035043
CREATED:20250228T162136Z
LAST-MODIFIED:20250228T162136Z
UID:10002471-1742839200-1742844600@www.metroparks.net
SUMMARY:Backpacking Series: Week 1- Shelter\, Sleep Systems and Packs
DESCRIPTION:Metro Parks Outdoor Adventure Backpacking Series is BACK!! Join us for a 6 week series followed by an overnight backpacking opportunity in the parks! Attendance is required to at least ONE of the backpacking classes/programs to be eligible to attend the overnight trip later in the spring. This series is for those of all backpacking abilities\, from beginner to novice backpackers. \nWeek 1: Shelter and Sleep Systems – Creating a comfortable home away from home in the backcountry is not as simple as pitching a tent. Join us as we explore how to set yourself up for success. Prepare to hike off-trail as we cover site selection following Lean No Trace principles and practice setting up a the shelter. We have gear for demonstration\, but you are encouraged to bring your own. Meet at the Arrowhead Picnic Area at Scioto Grove Metro Park.
URL:https://www.metroparks.net/event/backpacking-series-week-1-shelter-sleep-systems-and-packs/2025-03-24/
LOCATION:Scioto Grove\, 5172 Jackson Pike\, Grove City\, OH\, 43123\, United States
ATTACH;FMTTYPE=image/png:https://www.metroparks.net/wp-content/uploads/2025/02/Backpacking-Series-2.png
END:VEVENT
BEGIN:VEVENT
DTSTART;TZID=America/New_York:20250318T173000
DTEND;TZID=America/New_York:20250318T183000
DTSTAMP:20260420T035043
CREATED:20250228T164231Z
LAST-MODIFIED:20250228T164231Z
UID:10002486-1742319000-1742322600@www.metroparks.net
SUMMARY:Hike to the Swinging Bridge
DESCRIPTION:Join us for a staff-led hike to the famous Scioto Grove Swinging Bridge! The hike will be approx 1.5miles in length and on all natural/gravel trails; be prepared for muddy conditions as this area is in a flood plain.
URL:https://www.metroparks.net/event/hike-to-the-swinging-bridge/
LOCATION:Scioto Grove\, 5172 Jackson Pike\, Grove City\, OH\, 43123\, United States
END:VEVENT
BEGIN:VEVENT
DTSTART;TZID=America/New_York:20250315T130000
DTEND;TZID=America/New_York:20250315T140000
DTSTAMP:20260420T035043
CREATED:20250228T163847Z
LAST-MODIFIED:20250228T163851Z
UID:10002484-1742043600-1742047200@www.metroparks.net
SUMMARY:Adventure 101: Backcountry Water
DESCRIPTION:Our “Adventure 101” educational series includes everything from guest speakers to interactive outdoor skill lessons! Participants are encouraged to take notes and ask questions. \nFrom purification to filtration\, we will go over everything regarding safe water practices and staying hydrated and healthy in the backcountry! Meet at the Arrowhead Picnic Area at Scioto Grove Metro Park
URL:https://www.metroparks.net/event/adventure-101-backcountry-water/
LOCATION:Scioto Grove\, 5172 Jackson Pike\, Grove City\, OH\, 43123\, United States
END:VEVENT
BEGIN:VEVENT
DTSTART;TZID=America/New_York:20250314T150000
DTEND;TZID=America/New_York:20250314T160000
DTSTAMP:20260420T035043
CREATED:20250228T163639Z
LAST-MODIFIED:20250228T163639Z
UID:10002482-1741964400-1741968000@www.metroparks.net
SUMMARY:Shamrock Scavenger Hunt!
DESCRIPTION:Come out to Scioto Grove Metro Park and hunt for shamrocks! Shamrocks will be scattered all around the Arrowhead picnic area section of the park\, find them all and win a prize!! Meet at the arrowhead picnic shelter for instruction and supplies\, free and fun.
URL:https://www.metroparks.net/event/shamrock-scavenger-hunt/
LOCATION:Scioto Grove\, 5172 Jackson Pike\, Grove City\, OH\, 43123\, United States
END:VEVENT
BEGIN:VEVENT
DTSTART;TZID=America/New_York:20250310T170000
DTEND;TZID=America/New_York:20250310T180000
DTSTAMP:20260420T035043
CREATED:20250228T163053Z
LAST-MODIFIED:20250228T163053Z
UID:10002478-1741626000-1741629600@www.metroparks.net
SUMMARY:Spring Into Yoga!
DESCRIPTION:Join us at The Grove facility at Scioto Grove Metro Park for yoga designed to get you stretched and ready for spring! This program will be held outside on the facilities deck if the weather is nice\, or inside the facility if the weather isn’t cooperating\, but the meeting location will stay the same regardless!
URL:https://www.metroparks.net/event/spring-into-yoga/
LOCATION:Scioto Grove\, 5172 Jackson Pike\, Grove City\, OH\, 43123\, United States
ATTACH;FMTTYPE=image/jpeg:https://www.metroparks.net/wp-content/uploads/2025/02/yoga.jpg
END:VEVENT
BEGIN:VEVENT
DTSTART;TZID=America/New_York:20250302T133000
DTEND;TZID=America/New_York:20250302T150000
DTSTAMP:20260420T035043
CREATED:20250226T133509Z
LAST-MODIFIED:20250226T133509Z
UID:10002434-1740922200-1740927600@www.metroparks.net
SUMMARY:For Adults 50+: Greg Miller - A Big Year
DESCRIPTION:Join Greg Miller\, Ohio Birder Extraordinaire\, as he tells stories about his big year of birding in North America in 1998. This amazing year inspired a book and a movie starring Jack Black\, Steve Martin and Owen Wilson. \n“The Big Year: A Tale of Man\, Nature\, and Fowl Obsession” by Mark Obmascik can be reserved at the Columbus Metropolitan Library in book or audiobook form. “The Big Year” movie can be reserved in DVD format at the library and is also available on several streaming platforms. \nMeet at the Grove Lodge.
URL:https://www.metroparks.net/event/for-adults-50-greg-miller-a-big-year/
LOCATION:Scioto Grove\, 5172 Jackson Pike\, Grove City\, OH\, 43123\, United States
ATTACH;FMTTYPE=image/png:https://www.metroparks.net/wp-content/uploads/2025/02/Greg-Miller-for-Online.png
END:VEVENT
BEGIN:VEVENT
DTSTART;TZID=America/New_York:20250226T183000
DTEND;TZID=America/New_York:20250226T193000
DTSTAMP:20260420T035043
CREATED:20250128T144547Z
LAST-MODIFIED:20250128T144547Z
UID:10002321-1740594600-1740598200@www.metroparks.net
SUMMARY:Lantern Hike and Hot Cocoa
DESCRIPTION:Come out for a cup of Hot Cocoa and take an illuminated stroll through the park! We will have lanterns to borrow as well as lots of cocoa to go around! Meet at the Arrowhead Picnic Shelter at Scioto Grove Metro Park
URL:https://www.metroparks.net/event/lantern-hike-and-hot-cocoa/
LOCATION:Scioto Grove\, 5172 Jackson Pike\, Grove City\, OH\, 43123\, United States
END:VEVENT
BEGIN:VEVENT
DTSTART;TZID=America/New_York:20250226T170000
DTEND;TZID=America/New_York:20250226T180000
DTSTAMP:20260420T035043
CREATED:20250128T144517Z
LAST-MODIFIED:20250128T144517Z
UID:10002320-1740589200-1740592800@www.metroparks.net
SUMMARY:Scavenger Hunt!
DESCRIPTION:A strong wind came through Scioto Grove Metro park and scattered all of our equipment! Find all of our missing items hiding around the Arrowhead Picnic area and win a prize! Meet at Arrowhead picnic shelter to get your activity sheet and instruction.
URL:https://www.metroparks.net/event/scavenger-hunt-3/
LOCATION:Scioto Grove\, 5172 Jackson Pike\, Grove City\, OH\, 43123\, United States
END:VEVENT
BEGIN:VEVENT
DTSTART;TZID=America/New_York:20250225T173000
DTEND;TZID=America/New_York:20250225T183000
DTSTAMP:20260420T035043
CREATED:20250128T144336Z
LAST-MODIFIED:20250128T144336Z
UID:10002319-1740504600-1740508200@www.metroparks.net
SUMMARY:Relaxation Yoga
DESCRIPTION:Celebrate self-care and come out to Scioto Grove Metro Park to enjoy yoga indoors! Stay toasty warm while watching the winter wonderland outside from the floor to ceiling windows! This yoga class is perfect for everyone! Free and fun. Meet at The Grove at Scioto Grove Metro Park.
URL:https://www.metroparks.net/event/relaxation-yoga-4/
LOCATION:Scioto Grove\, 5172 Jackson Pike\, Grove City\, OH\, 43123\, United States
END:VEVENT
BEGIN:VEVENT
DTSTART;TZID=America/New_York:20250224T180000
DTEND;TZID=America/New_York:20250224T190000
DTSTAMP:20260420T035043
CREATED:20250128T150133Z
LAST-MODIFIED:20250128T150133Z
UID:10002332-1740420000-1740423600@www.metroparks.net
SUMMARY:Adventure Book Club!
DESCRIPTION:NEW LOCATION!!! Join us for our Monthly Adventure Book Club! No registration necessary\, all are welcome. This months book is “A Walk in the Woods: Rediscovering America on the Appalachian Trail” by Bill Bryson.\nWe will meet at the end of each month to discuss a different book. Meet at The Grove Lodge at Scioto Grove Metro Park
URL:https://www.metroparks.net/event/adventure-book-club-9/
LOCATION:Scioto Grove\, 5172 Jackson Pike\, Grove City\, OH\, 43123\, United States
ATTACH;FMTTYPE=image/jpeg:https://www.metroparks.net/wp-content/uploads/2025/01/91oEsqi7s4L._UF10001000_QL80_.jpg
END:VEVENT
BEGIN:VEVENT
DTSTART;TZID=America/New_York:20250224T150000
DTEND;TZID=America/New_York:20250224T160000
DTSTAMP:20260420T035043
CREATED:20250128T144249Z
LAST-MODIFIED:20250224T133502Z
UID:10002318-1740409200-1740412800@www.metroparks.net
SUMMARY:Winter Compass Quest
DESCRIPTION:Join us for a winter themed compass activity! This map and compass skills program is geared toward children ages 4-15\, participants will be given a map and compass and have to find several winter themed characters hidden around the park . Complete the activity and return to the shelter for a prize! The program starts promptly at 3pm and will take the entire duration of the program to complete; Meet at the Arrowhead Picnic Shelter at Scioto Grove Metro Park
URL:https://www.metroparks.net/event/winter-compass-quest/
LOCATION:Scioto Grove\, 5172 Jackson Pike\, Grove City\, OH\, 43123\, United States
END:VEVENT
BEGIN:VEVENT
DTSTART;TZID=America/New_York:20250218T183000
DTEND;TZID=America/New_York:20250218T193000
DTSTAMP:20260420T035043
CREATED:20250128T142758Z
LAST-MODIFIED:20250128T142758Z
UID:10002308-1739903400-1739907000@www.metroparks.net
SUMMARY:Lantern Hike
DESCRIPTION:Join us for an after dark adventure on this two mile lantern hike! Some lanterns will be available to borrow. Meet at the Arrowhead Picnic Shelter.
URL:https://www.metroparks.net/event/lantern-hike-17/
LOCATION:Scioto Grove\, 5172 Jackson Pike\, Grove City\, OH\, 43123\, United States
END:VEVENT
BEGIN:VEVENT
DTSTART;TZID=America/New_York:20250215T130000
DTEND;TZID=America/New_York:20250215T140000
DTSTAMP:20260420T035043
CREATED:20250128T145850Z
LAST-MODIFIED:20250128T145850Z
UID:10002331-1739624400-1739628000@www.metroparks.net
SUMMARY:Adventure 101: Fire Building
DESCRIPTION:Our “Adventure 101” educational series includes everything from guest speakers to interactive outdoor skill lessons! Participants are encouraged to take notes and ask questions\nJoin us for an in-depth & hands on interactive class focused on campfires! Everything from different ways to build the perfect burn\, to types of fire starters that we recommend. Come with questions and topics for us to talk about\, meet at the arrowhead picnic area at Scioto Grove Metro Park.
URL:https://www.metroparks.net/event/adventure-101-fire-building/
LOCATION:Scioto Grove\, 5172 Jackson Pike\, Grove City\, OH\, 43123\, United States
END:VEVENT
BEGIN:VEVENT
DTSTART;TZID=America/New_York:20250208T130000
DTEND;TZID=America/New_York:20250208T160000
DTSTAMP:20260420T035043
CREATED:20250121T180144Z
LAST-MODIFIED:20250121T180144Z
UID:10002278-1739019600-1739030400@www.metroparks.net
SUMMARY:Metro Parks Outdoor Adventure - OPEN HOUSE
DESCRIPTION:Have you ever wondered who or what Metro Parks Outdoor Adventure is and what programs we offer? On February 8th\, join us at Scioto Grove Metro Park\, The Grove lodge\, to learn more about who we are\, what we do\, what programs and equipment we offer\, try a new skill\, and of course gather FREE SWAG! Information tables highlighting different recreation activities will be around for you to wander through and Program staff will be available for any questions you may have! Complimentary snacks and beverages will be provided while you meander amongst the tables and activities.\n1-4pm\, February 8th. The Grove lodge at Scioto Grove Metro Park
URL:https://www.metroparks.net/event/metro-parks-outdoor-adventure-open-house/
LOCATION:Scioto Grove\, 5172 Jackson Pike\, Grove City\, OH\, 43123\, United States
ATTACH;FMTTYPE=image/jpeg:https://www.metroparks.net/wp-content/uploads/2025/01/473994888_1086231483537051_5788460667751942190_n.jpg
END:VEVENT
BEGIN:VEVENT
DTSTART;TZID=America/New_York:20250208T110000
DTEND;TZID=America/New_York:20250208T123000
DTSTAMP:20260420T035043
CREATED:20250127T142958Z
LAST-MODIFIED:20250127T142958Z
UID:10002300-1739012400-1739017800@www.metroparks.net
SUMMARY:For Adults 50+: Ice Age Ohio
DESCRIPTION:Join Dale Gnidovec\, Curator of the Orton Geological Museum at The Ohio State University\, as he tells tales of the Ice Age in Ohio. Dale will talk about the animals that lived here during the Ice Age\, how glaciers form and the effects they had on the state and will end with a look at a dig near Findlay\, Ohio that produced many fossil bones. \nMeet at the Grove Lodge.
URL:https://www.metroparks.net/event/for-adults-50-ice-age-ohio/
LOCATION:Scioto Grove\, 5172 Jackson Pike\, Grove City\, OH\, 43123\, United States
END:VEVENT
BEGIN:VEVENT
DTSTART;TZID=America/New_York:20250201T130000
DTEND;TZID=America/New_York:20250201T140000
DTSTAMP:20260420T035043
CREATED:20250128T144920Z
LAST-MODIFIED:20250128T144920Z
UID:10002323-1738414800-1738418400@www.metroparks.net
SUMMARY:Adventure 101: Winter Hiking Tips
DESCRIPTION:Our “Adventure 101” educational series includes everything from guest speakers to interactive outdoor skill lessons! Participants are encouraged to take notes and ask questions\nFrom layering to gear\, learn the best tips and tricks for staying warm on the trails! We are here to answer any questions you may have about winter adventuring and can also be your guide for some of the best scenic winter hiking excursions! Meet at the Scioto Grove Arrowhead Picnic area.
URL:https://www.metroparks.net/event/adventure-101-winter-hiking-tips/
LOCATION:Scioto Grove\, 5172 Jackson Pike\, Grove City\, OH\, 43123\, United States
END:VEVENT
BEGIN:VEVENT
DTSTART;TZID=America/New_York:20250130T173000
DTEND;TZID=America/New_York:20250130T183000
DTSTAMP:20260420T035043
CREATED:20241231T140337Z
LAST-MODIFIED:20241231T140337Z
UID:10002229-1738258200-1738261800@www.metroparks.net
SUMMARY:Pie Iron Cooking
DESCRIPTION:Pie irons? Pudgy pies? Toastie irons? Regardless of what you grew up calling them\, or are brand new to using them\, join us to make recipes and learn tips and tricks. Meet at the campfire in Arrowhead Picnic Area at Scioto Grove Metro Park.
URL:https://www.metroparks.net/event/pie-iron-cooking-4/
LOCATION:Scioto Grove\, 5172 Jackson Pike\, Grove City\, OH\, 43123\, United States
END:VEVENT
BEGIN:VEVENT
DTSTART;TZID=America/New_York:20250126T100000
DTEND;TZID=America/New_York:20250126T130000
DTSTAMP:20260420T035043
CREATED:20241023T152435Z
LAST-MODIFIED:20241023T152435Z
UID:10001953-1737885600-1737896400@www.metroparks.net
SUMMARY:Scioto Grove Winter Hike
DESCRIPTION:Gather your friends and family for a hike on any trail at Scioto Grove Metro Park. Refreshments and a treat will be served between 10am and 1pm. \nLearn more about winter hikes by clicking here.
URL:https://www.metroparks.net/event/scioto-grove-winter-hike-2/
LOCATION:Scioto Grove\, 5172 Jackson Pike\, Grove City\, OH\, 43123\, United States
ATTACH;FMTTYPE=image/png:https://www.metroparks.net/wp-content/uploads/2024/10/27.png
END:VEVENT
BEGIN:VEVENT
DTSTART;TZID=America/New_York:20250125T130000
DTEND;TZID=America/New_York:20250125T140000
DTSTAMP:20260420T035043
CREATED:20241231T141928Z
LAST-MODIFIED:20241231T141928Z
UID:10002248-1737810000-1737813600@www.metroparks.net
SUMMARY:Adventure 101: Compass Basics
DESCRIPTION:Adventure 101 programs are skill based\, hands on programs to learn more about outdoor skills and tips!\nJoin us for a beginner-intermediate compass basics program! We will go over everything from compass tips and tricks\, to orienting yourself to maps and everything in between.\nThis course is designed for those who have had little to no experience with compasses or those who may have trouble with learning directions. All ages are welcome! Meet at the arrowhead picnic area at Scioto Grove Metro Park
URL:https://www.metroparks.net/event/adventure-101-compass-basics/
LOCATION:Scioto Grove\, 5172 Jackson Pike\, Grove City\, OH\, 43123\, United States
END:VEVENT
BEGIN:VEVENT
DTSTART;TZID=America/New_York:20250118T130000
DTEND;TZID=America/New_York:20250118T140000
DTSTAMP:20260420T035043
CREATED:20241231T141810Z
LAST-MODIFIED:20241231T141810Z
UID:10002246-1737205200-1737208800@www.metroparks.net
SUMMARY:Adventure 101: Campfire Cooking
DESCRIPTION:Our “Adventure 101” educational series includes everything from guest speakers to interactive outdoor skill lessons! Participants are encouraged to take notes and ask questions\nLearn how to make a delicious meal over the campfire\, and make your very own to enjoy during class! Meet at the Arrowhead Picnic Shelter at Scioto Grove Metro Park (to the right when entering the park)
URL:https://www.metroparks.net/event/adventure-101-campfire-cooking/
LOCATION:Scioto Grove\, 5172 Jackson Pike\, Grove City\, OH\, 43123\, United States
END:VEVENT
BEGIN:VEVENT
DTSTART;TZID=America/New_York:20250115T130000
DTEND;TZID=America/New_York:20250115T150000
DTSTAMP:20260420T035043
CREATED:20241219T144009Z
LAST-MODIFIED:20241219T144009Z
UID:10002171-1736946000-1736953200@www.metroparks.net
SUMMARY:For Adults 50+: Jack of all Trades - Metro Parks' Resource Management
DESCRIPTION:The natural resource management team wears a lot of hats. Or waders. Or burn suits. Learn about Metro Parks’ Resource Management team and their role in the park district. We’ll take a look at the processes of land acquisition\, habitat restoration\, and maintaining our ecosystems. \nMeet at the Grove Lodge.
URL:https://www.metroparks.net/event/for-adults-50-jack-of-all-trades-metro-parks-resource-management/
LOCATION:Scioto Grove\, 5172 Jackson Pike\, Grove City\, OH\, 43123\, United States
END:VEVENT
BEGIN:VEVENT
DTSTART;TZID=America/New_York:20250111T130000
DTEND;TZID=America/New_York:20250111T140000
DTSTAMP:20260420T035043
CREATED:20241231T141317Z
LAST-MODIFIED:20241231T141317Z
UID:10002240-1736600400-1736604000@www.metroparks.net
SUMMARY:Adventure 101: Backcountry Knots
DESCRIPTION:Our “Adventure 101” educational series includes everything from guest speakers to interactive outdoor skill lessons! Participants are encouraged to take notes and ask questions\nLearn the best knots to use in the backcountry during this hands on class! Meet at the Arrowhead Picnic Shelter at Scioto Grove Metro Park (to the right when entering the park)
URL:https://www.metroparks.net/event/adventure-101-backcountry-knots/
LOCATION:Scioto Grove\, 5172 Jackson Pike\, Grove City\, OH\, 43123\, United States
END:VEVENT
BEGIN:VEVENT
DTSTART;TZID=America/New_York:20250109T180000
DTEND;TZID=America/New_York:20250109T190000
DTSTAMP:20260420T035043
CREATED:20241231T141113Z
LAST-MODIFIED:20241231T141113Z
UID:10002238-1736445600-1736449200@www.metroparks.net
SUMMARY:Speaker Series: Thru-hiking the Appalachian Trail
DESCRIPTION:Join us for our Speaker Series this winter\, at Scioto Grove Metro Park! We will be inside the The Grove lodge. \nOur January speaker is backpacker Maddy Wilson\, and she will be discussing her journey thru-hiking the Appalachian Trail. She will go over how she prepped for her trip\, and things she discovered along the way! \nSip on a hot beverage and enjoy some free snacks as you listen to Maddy’s adventure!
URL:https://www.metroparks.net/event/speaker-series-thru-hiking-the-appalachian-trail/
LOCATION:Scioto Grove\, 5172 Jackson Pike\, Grove City\, OH\, 43123\, United States
END:VEVENT
BEGIN:VEVENT
DTSTART;TZID=America/New_York:20250104T130000
DTEND;TZID=America/New_York:20250104T140000
DTSTAMP:20260420T035043
CREATED:20241231T140953Z
LAST-MODIFIED:20241231T140953Z
UID:10002236-1735995600-1735999200@www.metroparks.net
SUMMARY:Adventure 101: Shelter Building
DESCRIPTION:Our “Adventure 101” educational series includes everything from guest speakers to interactive outdoor skill lessons! Participants are encouraged to take notes and ask questions\nCome out and be build some tarp shelters! Learn about the different shelter styles and the different knots used for the perfect shelter. All equipment and instruction will be provided. meet at the arrowhead picnic area at scioto grove metro park
URL:https://www.metroparks.net/event/adventure-101-shelter-building-4/
LOCATION:Scioto Grove\, 5172 Jackson Pike\, Grove City\, OH\, 43123\, United States
END:VEVENT
BEGIN:VEVENT
DTSTART;TZID=America/New_York:20241228T130000
DTEND;TZID=America/New_York:20241228T140000
DTSTAMP:20260420T035043
CREATED:20241126T150726Z
LAST-MODIFIED:20241126T150726Z
UID:10002146-1735390800-1735394400@www.metroparks.net
SUMMARY:Adventure 101: Gear
DESCRIPTION:Our “Adventure 101” educational series includes everything from guest speakers to interactive outdoor skill lessons! Participants are encouraged to take notes and ask questions\nFrom clothing\, to backpacks\, sleeping bags\, and more\, learn what gear you might need while adventuring outdoors\, and get a chance to see what gear our instructors use! Meet at the Scioto Grove Arrowhead Picnic area.
URL:https://www.metroparks.net/event/adventure-101-gear/
LOCATION:Scioto Grove\, 5172 Jackson Pike\, Grove City\, OH\, 43123\, United States
END:VEVENT
BEGIN:VEVENT
DTSTART;TZID=America/New_York:20241221T130000
DTEND;TZID=America/New_York:20241221T140000
DTSTAMP:20260420T035043
CREATED:20241126T150313Z
LAST-MODIFIED:20241126T150313Z
UID:10002141-1734786000-1734789600@www.metroparks.net
SUMMARY:Adventure 101: Shelter Building
DESCRIPTION:Our “Adventure 101” educational series includes everything from guest speakers to interactive outdoor skill lessons! Participants are encouraged to take notes and ask questions\nLearn the best practices to safely adventure solo during this class! Instructors will discuss their own solo adventuring experiences\, and how they set themselves up for success on the trails!
URL:https://www.metroparks.net/event/adventure-101-shelter-building-3/
LOCATION:Scioto Grove\, 5172 Jackson Pike\, Grove City\, OH\, 43123\, United States
END:VEVENT
BEGIN:VEVENT
DTSTART;TZID=America/New_York:20241216T110000
DTEND;TZID=America/New_York:20241216T120000
DTSTAMP:20260420T035043
CREATED:20241126T142956Z
LAST-MODIFIED:20241126T142956Z
UID:10002119-1734346800-1734350400@www.metroparks.net
SUMMARY:Toddler Hike
DESCRIPTION:Bring your toddler to Scioto Grove Metro Park for a slow-paced hike through the park! Meet at Arrowhead Picnic Area. Trail is paved and stroller friendly. \nMetro Parks Outdoor Adventure is hosting a Toys for Tots toy drive!\nDonate a new toy at any Outdoor Adventure program between December 1st and December 17th and you’ll be entered into a raffle. The winner will be awarded a private Outdoor Adventure program of their choice for themselves and up to 9 guests! Program options include: Archery\, Rock Climbing\, Kayaking or Stand-up paddle boarding (seasonal). Date will be selected upon visitor and staff availability. \nDonation Guidelines\nConsider gifting to under served age groups such as infants and teens.\nSchool supplies are accepted as well!\nNO food or edible donations. NO realistic looking toy weapons. Such items will not be distributed.
URL:https://www.metroparks.net/event/toddler-hike-10/2024-12-16/
LOCATION:Scioto Grove\, 5172 Jackson Pike\, Grove City\, OH\, 43123\, United States
END:VEVENT
BEGIN:VEVENT
DTSTART;TZID=America/New_York:20241215T100000
DTEND;TZID=America/New_York:20241215T110000
DTSTAMP:20260420T035043
CREATED:20241126T143456Z
LAST-MODIFIED:20241126T145915Z
UID:10002138-1734256800-1734260400@www.metroparks.net
SUMMARY:Pie Iron Cooking
DESCRIPTION:Pie irons? Pudgy pies? Toastie irons? Regardless of what you grew up calling them\, or are brand new to using them\, join us to make recipes and learn tips and tricks. Meet at the campfire in Arrowhead Picnic Area at Scioto Grove Metro Park. \nMetro Parks Outdoor Adventure is hosting a Toys for Tots toy drive!\nDonate a new toy at any Outdoor Adventure program between December 1st and December 17th and you’ll be entered into a raffle. The winner will be awarded a private Outdoor Adventure program of their choice for themselves and up to 9 guests! Program options include: Archery\, Rock Climbing\, Kayaking or Stand-up paddle boarding (seasonal). Date will be selected upon visitor and staff availability. \nDonation Guidelines\nConsider gifting to under served age groups such as infants and teens.\nSchool supplies are accepted as well!\nNO food or edible donations. NO realistic looking toy weapons. Such items will not be distributed.
URL:https://www.metroparks.net/event/pie-iron-cooking-3/2024-12-15/
LOCATION:Scioto Grove\, 5172 Jackson Pike\, Grove City\, OH\, 43123\, United States
END:VEVENT
BEGIN:VEVENT
DTSTART;TZID=America/New_York:20241214T130000
DTEND;TZID=America/New_York:20241214T140000
DTSTAMP:20260420T035043
CREATED:20241126T145540Z
LAST-MODIFIED:20241126T145540Z
UID:10002134-1734181200-1734184800@www.metroparks.net
SUMMARY:Adventure 101: Creative Backpacking Meals
DESCRIPTION:Our “Adventure 101” educational series includes everything from guest speakers to interactive outdoor skill lessons! Participants are encouraged to take notes and ask questions\nFrom snacks\, to main courses\, learn how to put a creative spin on your backpacking food for your next trip! All equipment and instruction provided\, meet at the Arrowhead Picnic area at Scioto Grove Metro Park. \nMetro Parks Outdoor Adventure is hosting a Toys for Tots toy drive!\nDonate a new toy at any Outdoor Adventure program between December 1st and December 17th and you’ll be entered into a raffle. The winner will be awarded a private Outdoor Adventure program of their choice for themselves and up to 9 guests! Program options include: Archery\, Rock Climbing\, Kayaking or Stand-up paddle boarding (seasonal). Date will be selected upon visitor and staff availability. \nDonation Guidelines\nConsider gifting to under served age groups such as infants and teens.\nSchool supplies are accepted as well!\nNO food or edible donations. NO realistic looking toy weapons. Such items will not be distributed.
URL:https://www.metroparks.net/event/adventure-101-creative-backpacking-meals/
LOCATION:Scioto Grove\, 5172 Jackson Pike\, Grove City\, OH\, 43123\, United States
END:VEVENT
BEGIN:VEVENT
DTSTART;TZID=America/New_York:20241212T180000
DTEND;TZID=America/New_York:20241212T190000
DTSTAMP:20260420T035043
CREATED:20241126T144828Z
LAST-MODIFIED:20241126T144828Z
UID:10002131-1734026400-1734030000@www.metroparks.net
SUMMARY:Science of Fire Building
DESCRIPTION:Join us for an interactive classroom style program centered around the Science of Fire Building! Please wear comfortable clothing and avoid wearing hair down/loose fitting clothes. Meet at the arrowhead picnic area at Scioto Grove Metro Park. \nMetro Parks Outdoor Adventure is hosting a Toys for Tots toy drive!\nDonate a new toy at any Outdoor Adventure program between December 1st and December 17th and you’ll be entered into a raffle. The winner will be awarded a private Outdoor Adventure program of their choice for themselves and up to 9 guests! Program options include: Archery\, Rock Climbing\, Kayaking or Stand-up paddle boarding (seasonal). Date will be selected upon visitor and staff availability. \nDonation Guidelines\nConsider gifting to under served age groups such as infants and teens.\nSchool supplies are accepted as well!\nNO food or edible donations. NO realistic looking toy weapons. Such items will not be distributed.
URL:https://www.metroparks.net/event/science-of-fire-building/
LOCATION:Scioto Grove\, 5172 Jackson Pike\, Grove City\, OH\, 43123\, United States
END:VEVENT
END:VCALENDAR