BEGIN:VCALENDAR
VERSION:2.0
PRODID:-//Metro Parks - Central Ohio Park System - ECPv6.15.16.1//NONSGML v1.0//EN
CALSCALE:GREGORIAN
METHOD:PUBLISH
X-ORIGINAL-URL:https://www.metroparks.net
X-WR-CALDESC:Events for Metro Parks - Central Ohio Park System
REFRESH-INTERVAL;VALUE=DURATION:PT1H
X-Robots-Tag:noindex
X-PUBLISHED-TTL:PT1H
BEGIN:VTIMEZONE
TZID:America/New_York
BEGIN:DAYLIGHT
TZOFFSETFROM:-0500
TZOFFSETTO:-0400
TZNAME:EDT
DTSTART:20240310T070000
END:DAYLIGHT
BEGIN:STANDARD
TZOFFSETFROM:-0400
TZOFFSETTO:-0500
TZNAME:EST
DTSTART:20241103T060000
END:STANDARD
BEGIN:DAYLIGHT
TZOFFSETFROM:-0500
TZOFFSETTO:-0400
TZNAME:EDT
DTSTART:20250309T070000
END:DAYLIGHT
BEGIN:STANDARD
TZOFFSETFROM:-0400
TZOFFSETTO:-0500
TZNAME:EST
DTSTART:20251102T060000
END:STANDARD
BEGIN:DAYLIGHT
TZOFFSETFROM:-0500
TZOFFSETTO:-0400
TZNAME:EDT
DTSTART:20260308T070000
END:DAYLIGHT
BEGIN:STANDARD
TZOFFSETFROM:-0400
TZOFFSETTO:-0500
TZNAME:EST
DTSTART:20261101T060000
END:STANDARD
BEGIN:DAYLIGHT
TZOFFSETFROM:-0500
TZOFFSETTO:-0400
TZNAME:EDT
DTSTART:20270314T070000
END:DAYLIGHT
BEGIN:STANDARD
TZOFFSETFROM:-0400
TZOFFSETTO:-0500
TZNAME:EST
DTSTART:20271107T060000
END:STANDARD
END:VTIMEZONE
BEGIN:VEVENT
DTSTART;TZID=America/New_York:20260205T140000
DTEND;TZID=America/New_York:20260205T153000
DTSTAMP:20260419T115016
CREATED:20260128T135005Z
LAST-MODIFIED:20260128T135005Z
UID:10003809-1770300000-1770305400@www.metroparks.net
SUMMARY:Disc Golf Classes and Games
DESCRIPTION:Learn. Play. Connect.\nColumbus Metro Parks Outdoor Adventure and Vets Disc Golf Club of Central Ohio offer beginner instruction and interactive games designed for all ages and skill levels. Free\, indoor\, inclusive! All equipment and instruction provided. Meet at the Grove Lodge at Scioto Grove Metro Park.
URL:https://www.metroparks.net/event/disc-golf-classes-and-games-2/2026-02-05/
LOCATION:Scioto Grove\, 5172 Jackson Pike\, Grove City\, OH\, 43123\, United States
END:VEVENT
BEGIN:VEVENT
DTSTART;TZID=America/New_York:20260203T183000
DTEND;TZID=America/New_York:20260203T193000
DTSTAMP:20260419T115016
CREATED:20260128T135700Z
LAST-MODIFIED:20260128T135700Z
UID:10003817-1770143400-1770147000@www.metroparks.net
SUMMARY:Lantern Hike
DESCRIPTION:Join us for an after dark adventure on this approx. two-mile lantern hike! Some lanterns will be available to borrow on a first come\, first served basis. Meet at the Arrowhead Picnic Shelter.
URL:https://www.metroparks.net/event/lantern-hike-32/
LOCATION:Scioto Grove\, 5172 Jackson Pike\, Grove City\, OH\, 43123\, United States
END:VEVENT
BEGIN:VEVENT
DTSTART;TZID=America/New_York:20260202T170000
DTEND;TZID=America/New_York:20260202T180000
DTSTAMP:20260419T115016
CREATED:20260128T135601Z
LAST-MODIFIED:20260128T135601Z
UID:10003816-1770051600-1770055200@www.metroparks.net
SUMMARY:Groundhog Scavenger Hunt & Hike
DESCRIPTION:Go for a short hike while hunting for all of the missing items during this Groundhog Day-themed scavenger hunt! Meet at Arrowhead picnic shelter to get your activity sheet to start and prizes once you complete the hunt!
URL:https://www.metroparks.net/event/groundhog-scavenger-hunt-hike/
LOCATION:Scioto Grove\, 5172 Jackson Pike\, Grove City\, OH\, 43123\, United States
END:VEVENT
BEGIN:VEVENT
DTSTART;TZID=America/New_York:20260127T180000
DTEND;TZID=America/New_York:20260127T190000
DTSTAMP:20260419T115016
CREATED:20251224T154523Z
LAST-MODIFIED:20251224T154523Z
UID:10003679-1769536800-1769540400@www.metroparks.net
SUMMARY:Adventure Book Club!
DESCRIPTION:Join us for our Monthly Adventure Book Club! No registration necessary\, all are welcome. This month’s book is “When it All Burns: Fighting Fire in a Transformed World” by Jordan Thomas\nWe will meet at the end of each month to discuss a different book. Meet at The Grove Lodge at Scioto Grove Metro Park
URL:https://www.metroparks.net/event/adventure-book-club-11/
LOCATION:Scioto Grove\, 5172 Jackson Pike\, Grove City\, OH\, 43123\, United States
END:VEVENT
BEGIN:VEVENT
DTSTART;TZID=America/New_York:20260125T100000
DTEND;TZID=America/New_York:20260125T130000
DTSTAMP:20260419T115016
CREATED:20251201T172240Z
LAST-MODIFIED:20251201T172240Z
UID:10003613-1769335200-1769346000@www.metroparks.net
SUMMARY:Scioto Grove Winter Hike
DESCRIPTION:Gather your friends and family for a hike on any trail at Scioto Grove Metro Park. Refreshments and a treat will be served between 10am and 1pm. \nLearn more about winter hikes by clicking here.
URL:https://www.metroparks.net/event/scioto-grove-winter-hike-3/
LOCATION:Scioto Grove\, 5172 Jackson Pike\, Grove City\, OH\, 43123\, United States
ATTACH;FMTTYPE=image/png:https://www.metroparks.net/wp-content/uploads/2025/12/SGR.png
END:VEVENT
BEGIN:VEVENT
DTSTART;TZID=America/New_York:20260120T180000
DTEND;TZID=America/New_York:20260120T190000
DTSTAMP:20260419T115016
CREATED:20251224T160114Z
LAST-MODIFIED:20251224T160114Z
UID:10003699-1768932000-1768935600@www.metroparks.net
SUMMARY:Navigation Devices
DESCRIPTION:This class we will be learning about different navigation and communication devices! Meet at The Grove lodge at Scioto Grove Metro Park. This class will be indoors.
URL:https://www.metroparks.net/event/navigation-devices/
LOCATION:Scioto Grove\, 5172 Jackson Pike\, Grove City\, OH\, 43123\, United States
END:VEVENT
BEGIN:VEVENT
DTSTART;TZID=America/New_York:20260119T183000
DTEND;TZID=America/New_York:20260119T193000
DTSTAMP:20260419T115016
CREATED:20251224T154111Z
LAST-MODIFIED:20251224T154111Z
UID:10003672-1768847400-1768851000@www.metroparks.net
SUMMARY:Deep Stretch Yoga with Naomi
DESCRIPTION:Meet at the Grove Lodge for a deep stretch yoga flow\, perfect for all skill levels\, at Scioto Grove Metro Park! Yoga will be indoors\, bring your own mat!
URL:https://www.metroparks.net/event/deep-stretch-yoga-with-naomi/2026-01-19/
LOCATION:Scioto Grove\, 5172 Jackson Pike\, Grove City\, OH\, 43123\, United States
END:VEVENT
BEGIN:VEVENT
DTSTART;TZID=America/New_York:20260118T073000
DTEND;TZID=America/New_York:20260118T083000
DTSTAMP:20260419T115016
CREATED:20251224T160047Z
LAST-MODIFIED:20251224T160047Z
UID:10003698-1768721400-1768725000@www.metroparks.net
SUMMARY:Sunrise Hike
DESCRIPTION:Meet at the Arrowhead Picnic area at Scioto Grove Metro Park for a approx. 2-mile hike to watch the sun rise at the park. Trails are mostly paved.
URL:https://www.metroparks.net/event/sunrise-hike-4/
LOCATION:Scioto Grove\, 5172 Jackson Pike\, Grove City\, OH\, 43123\, United States
END:VEVENT
BEGIN:VEVENT
DTSTART;TZID=America/New_York:20260115T180000
DTEND;TZID=America/New_York:20260115T190000
DTSTAMP:20260419T115016
CREATED:20251224T155328Z
LAST-MODIFIED:20251224T155328Z
UID:10003690-1768500000-1768503600@www.metroparks.net
SUMMARY:Lantern Hike
DESCRIPTION:Join us for an after dark adventure on this approx. two-mile lantern hike! Some lanterns will be available to borrow on a first come first serve basis. Meet at the Arrowhead Picnic Shelter.
URL:https://www.metroparks.net/event/lantern-hike-31/2026-01-15/
LOCATION:Scioto Grove\, 5172 Jackson Pike\, Grove City\, OH\, 43123\, United States
END:VEVENT
BEGIN:VEVENT
DTSTART;TZID=America/New_York:20260113T170000
DTEND;TZID=America/New_York:20260113T190000
DTSTAMP:20260419T115016
CREATED:20251224T155831Z
LAST-MODIFIED:20251224T155831Z
UID:10003695-1768323600-1768330800@www.metroparks.net
SUMMARY:Boardgames and S'mores
DESCRIPTION:Join us for games next to a toasty campfire at Scioto Grove Metro Park! Meet at The Grove lodge!
URL:https://www.metroparks.net/event/boardgames-and-smores/
LOCATION:Scioto Grove\, 5172 Jackson Pike\, Grove City\, OH\, 43123\, United States
END:VEVENT
BEGIN:VEVENT
DTSTART;TZID=America/New_York:20260112T183000
DTEND;TZID=America/New_York:20260112T193000
DTSTAMP:20260419T115016
CREATED:20251224T155612Z
LAST-MODIFIED:20251224T155612Z
UID:10003693-1768242600-1768246200@www.metroparks.net
SUMMARY:Candlelight Yoga
DESCRIPTION:Enjoy a relaxing slow yoga flow at Scioto Grove Metro Park. Perfect for beginners\, and those who want a peaceful practice after a long day! Meet at The Grove Lodge indoors.
URL:https://www.metroparks.net/event/candlelight-yoga-3/
LOCATION:Scioto Grove\, 5172 Jackson Pike\, Grove City\, OH\, 43123\, United States
END:VEVENT
BEGIN:VEVENT
DTSTART;TZID=America/New_York:20260112T170000
DTEND;TZID=America/New_York:20260112T180000
DTSTAMP:20260419T115016
CREATED:20251224T155736Z
LAST-MODIFIED:20251224T155736Z
UID:10003694-1768237200-1768240800@www.metroparks.net
SUMMARY:DIY Yoga Mat Cleaner
DESCRIPTION:Join us for this free and fun DIY activity at Scioto Grove Metro Park! We will be making cleaning spray for yoga mats and other workout equipment. Meet at The Grove lodge at Scioto Grove Metro Park.
URL:https://www.metroparks.net/event/diy-yoga-mat-cleaner/
LOCATION:Scioto Grove\, 5172 Jackson Pike\, Grove City\, OH\, 43123\, United States
END:VEVENT
BEGIN:VEVENT
DTSTART;TZID=America/New_York:20260110T180000
DTEND;TZID=America/New_York:20260110T190000
DTSTAMP:20260419T115016
CREATED:20251224T155328Z
LAST-MODIFIED:20251224T155328Z
UID:10003689-1768068000-1768071600@www.metroparks.net
SUMMARY:Lantern Hike
DESCRIPTION:Join us for an after dark adventure on this approx. two-mile lantern hike! Some lanterns will be available to borrow on a first come first serve basis. Meet at the Arrowhead Picnic Shelter.
URL:https://www.metroparks.net/event/lantern-hike-31/2026-01-10/
LOCATION:Scioto Grove\, 5172 Jackson Pike\, Grove City\, OH\, 43123\, United States
END:VEVENT
BEGIN:VEVENT
DTSTART;TZID=America/New_York:20260106T180000
DTEND;TZID=America/New_York:20260106T190000
DTSTAMP:20260419T115016
CREATED:20251224T154946Z
LAST-MODIFIED:20251224T154946Z
UID:10003684-1767722400-1767726000@www.metroparks.net
SUMMARY:Trailside Bike Maintenance
DESCRIPTION:This class will go over trailside bike maintenance\, what you should carry for quick repairs\, and how to keep your bike in good condition! This class will take place inside The Grove lodge at Scioto Grove Metro Park.
URL:https://www.metroparks.net/event/trailside-bike-maintenance/
LOCATION:Scioto Grove\, 5172 Jackson Pike\, Grove City\, OH\, 43123\, United States
END:VEVENT
BEGIN:VEVENT
DTSTART;TZID=America/New_York:20260105T183000
DTEND;TZID=America/New_York:20260105T193000
DTSTAMP:20260419T115016
CREATED:20251224T154111Z
LAST-MODIFIED:20251224T154111Z
UID:10003671-1767637800-1767641400@www.metroparks.net
SUMMARY:Deep Stretch Yoga with Naomi
DESCRIPTION:Meet at the Grove Lodge for a deep stretch yoga flow\, perfect for all skill levels\, at Scioto Grove Metro Park! Yoga will be indoors\, bring your own mat!
URL:https://www.metroparks.net/event/deep-stretch-yoga-with-naomi/2026-01-05/
LOCATION:Scioto Grove\, 5172 Jackson Pike\, Grove City\, OH\, 43123\, United States
END:VEVENT
BEGIN:VEVENT
DTSTART;TZID=America/New_York:20251229T163000
DTEND;TZID=America/New_York:20251229T173000
DTSTAMP:20260419T115016
CREATED:20251126T134449Z
LAST-MODIFIED:20251126T134449Z
UID:10003578-1767025800-1767029400@www.metroparks.net
SUMMARY:Hot Cocoa and Hike
DESCRIPTION:Join us for a cozy cup of hot cocoa and go for a hike at Scioto Grove Metro Park! If you would like to join the staff-led hike\, please meet promptly at 4:30pm at the Arrowhead Picnic Area.
URL:https://www.metroparks.net/event/hot-cocoa-and-hike/
LOCATION:Scioto Grove\, 5172 Jackson Pike\, Grove City\, OH\, 43123\, United States
END:VEVENT
BEGIN:VEVENT
DTSTART;TZID=America/New_York:20251228T100000
DTEND;TZID=America/New_York:20251228T120000
DTSTAMP:20260419T115016
CREATED:20251126T134422Z
LAST-MODIFIED:20251126T134422Z
UID:10003577-1766916000-1766923200@www.metroparks.net
SUMMARY:Snowman Scavenger Hunt
DESCRIPTION:Look for Snowmen on the trail at Scioto Grove Metro Park\, and win a prize if you find them all! Meet at the Arrowhead Picnic Area for activity sheet and direction.
URL:https://www.metroparks.net/event/snowman-scavenger-hunt/
LOCATION:Scioto Grove\, 5172 Jackson Pike\, Grove City\, OH\, 43123\, United States
END:VEVENT
BEGIN:VEVENT
DTSTART;TZID=America/New_York:20251218T180000
DTEND;TZID=America/New_York:20251218T193000
DTSTAMP:20260419T115016
CREATED:20251126T133757Z
LAST-MODIFIED:20251126T133758Z
UID:10003570-1766080800-1766086200@www.metroparks.net
SUMMARY:Speaker Series - The Onion Bag Project
DESCRIPTION:Join us for the Outdoor Adventure – Speaker Series this winter! Each month we will have a new presenter\, diving into unique topics that involve our green spaces and recreation! \nThis month we will learn about The Onion Bag Litter Prevention Project from founder and president\, Curtis Casto\, and how he is helping enable the community to keep our waterways clean! Join us for snacks and beverages during the presentation at The Grove Lodge at Scioto Grove Metro Park.
URL:https://www.metroparks.net/event/speaker-series-the-onion-bag-project/
LOCATION:Scioto Grove\, 5172 Jackson Pike\, Grove City\, OH\, 43123\, United States
END:VEVENT
BEGIN:VEVENT
DTSTART;TZID=America/New_York:20251211T183000
DTEND;TZID=America/New_York:20251211T193000
DTSTAMP:20260419T115016
CREATED:20251125T173548Z
LAST-MODIFIED:20251125T173548Z
UID:10003558-1765477800-1765481400@www.metroparks.net
SUMMARY:Campfires and Card Games
DESCRIPTION:Join us for card games next to a toasty campfire at Scioto Grove Metro Park! Meet at the Arrowhead Picnic Area fire pit.
URL:https://www.metroparks.net/event/campfires-and-card-games/
LOCATION:Scioto Grove\, 5172 Jackson Pike\, Grove City\, OH\, 43123\, United States
END:VEVENT
BEGIN:VEVENT
DTSTART;TZID=America/New_York:20251208T173000
DTEND;TZID=America/New_York:20251208T183000
DTSTAMP:20260419T115016
CREATED:20251125T173819Z
LAST-MODIFIED:20251125T173819Z
UID:10003562-1765215000-1765218600@www.metroparks.net
SUMMARY:Yoga with Naomi
DESCRIPTION:Enjoy free yoga\, perfect for all skill levels\, at Scioto Grove Metro Park! Yoga will be indoors at The Grove lodge\, bring your own mat!
URL:https://www.metroparks.net/event/yoga-with-naomi-5/
LOCATION:Scioto Grove\, 5172 Jackson Pike\, Grove City\, OH\, 43123\, United States
END:VEVENT
BEGIN:VEVENT
DTSTART;TZID=America/New_York:20251204T180000
DTEND;TZID=America/New_York:20251204T190000
DTSTAMP:20260419T115016
CREATED:20251125T172257Z
LAST-MODIFIED:20251125T172257Z
UID:10003535-1764871200-1764874800@www.metroparks.net
SUMMARY:Candlelight Yoga
DESCRIPTION:Enjoy a relaxing slow yoga flow at Scioto Grove Metro Park. Perfect for beginners\, and those who want a peaceful practice after a long day! Free and fun. Meet at The Grove indoor facility.
URL:https://www.metroparks.net/event/candlelight-yoga-2/
LOCATION:Scioto Grove\, 5172 Jackson Pike\, Grove City\, OH\, 43123\, United States
END:VEVENT
BEGIN:VEVENT
DTSTART;TZID=America/New_York:20251202T180000
DTEND;TZID=America/New_York:20251202T190000
DTSTAMP:20260419T115016
CREATED:20251125T172218Z
LAST-MODIFIED:20251125T172218Z
UID:10003534-1764698400-1764702000@www.metroparks.net
SUMMARY:Lantern Hike
DESCRIPTION:Join us for an after dark adventure on this approx. two-mile lantern hike! Some lanterns will be available to borrow on a first come first serve basis. Meet at the Arrowhead Picnic Shelter.
URL:https://www.metroparks.net/event/lantern-hike-26/
LOCATION:Scioto Grove\, 5172 Jackson Pike\, Grove City\, OH\, 43123\, United States
END:VEVENT
BEGIN:VEVENT
DTSTART;TZID=America/New_York:20251130T140000
DTEND;TZID=America/New_York:20251130T153000
DTSTAMP:20260419T115016
CREATED:20251027T122642Z
LAST-MODIFIED:20251027T122642Z
UID:10003469-1764511200-1764516600@www.metroparks.net
SUMMARY:Adventure 101: Navigation Devices
DESCRIPTION:Join us for our Adventure 101 series and learn something new! This class we will be learning about different navigation devices\, and getting a chance to try them out on the trail! Meet at the Arrowhead picnic area at Scioto Grove Metro Park. This class will be outdoors\, so dress warm and cozy!
URL:https://www.metroparks.net/event/adventure-101-navigation-devices/
LOCATION:Scioto Grove\, 5172 Jackson Pike\, Grove City\, OH\, 43123\, United States
END:VEVENT
BEGIN:VEVENT
DTSTART;TZID=America/New_York:20251126T150000
DTEND;TZID=America/New_York:20251126T160000
DTSTAMP:20260419T115016
CREATED:20251027T122523Z
LAST-MODIFIED:20251027T122523Z
UID:10003467-1764169200-1764172800@www.metroparks.net
SUMMARY:Turkey Scavenger Hunt
DESCRIPTION:Search for Turkeys at Scioto Grove Metro Park! Find them all and win a treat! Meet at the Arrowhead Picnic area for activity sheet and instruction.
URL:https://www.metroparks.net/event/turkey-scavenger-hunt/
LOCATION:Scioto Grove\, 5172 Jackson Pike\, Grove City\, OH\, 43123\, United States
END:VEVENT
BEGIN:VEVENT
DTSTART;TZID=America/New_York:20251124T180000
DTEND;TZID=America/New_York:20251124T190000
DTSTAMP:20260419T115016
CREATED:20251027T122145Z
LAST-MODIFIED:20251027T122145Z
UID:10003464-1764007200-1764010800@www.metroparks.net
SUMMARY:Adventure 101: DIY Sundial
DESCRIPTION:Join us for our Adventure 101 series and learn something new! This class\, we will be learning about the history of sundials\, and making our own to take home! Meet at The Grove lodge at Scioto Grove Metro Park. This class will take place indoors.
URL:https://www.metroparks.net/event/adventure-101-diy-sundial/
LOCATION:Scioto Grove\, 5172 Jackson Pike\, Grove City\, OH\, 43123\, United States
END:VEVENT
BEGIN:VEVENT
DTSTART;TZID=America/New_York:20251121T180000
DTEND;TZID=America/New_York:20251121T190000
DTSTAMP:20260419T115016
CREATED:20251027T122004Z
LAST-MODIFIED:20251027T122004Z
UID:10003461-1763748000-1763751600@www.metroparks.net
SUMMARY:Candlelit Relaxation Yoga
DESCRIPTION:Enjoy a relaxing evening of yoga by candlelight at Scioto Grove Metro Park. We will be inside at The Grove lodge at Scioto Grove Metro Park. Free and fun for all levels! Bring your own mat
URL:https://www.metroparks.net/event/candlelit-relaxation-yoga/
LOCATION:Scioto Grove\, 5172 Jackson Pike\, Grove City\, OH\, 43123\, United States
END:VEVENT
BEGIN:VEVENT
DTSTART;TZID=America/New_York:20251118T180000
DTEND;TZID=America/New_York:20251118T190000
DTSTAMP:20260419T115016
CREATED:20251027T121720Z
LAST-MODIFIED:20251027T121720Z
UID:10003459-1763488800-1763492400@www.metroparks.net
SUMMARY:Backpacking Meals - Thanksgiving!
DESCRIPTION:Join us at Scioto Grove Metro Park to learn how to make a delicious Thanksgiving backpacking meal! All ingredients\, instruction\, and materials provided. Free and delicious! Meet at Arrowhead Picnic Area
URL:https://www.metroparks.net/event/backpacking-meals-thanksgiving/
LOCATION:Scioto Grove\, 5172 Jackson Pike\, Grove City\, OH\, 43123\, United States
END:VEVENT
BEGIN:VEVENT
DTSTART;TZID=America/New_York:20251117T180000
DTEND;TZID=America/New_York:20251117T193000
DTSTAMP:20260419T115016
CREATED:20251027T121545Z
LAST-MODIFIED:20251027T121545Z
UID:10003457-1763402400-1763407800@www.metroparks.net
SUMMARY:Adventure 101: Map Making
DESCRIPTION:Join us for our Adventure 101 series\, and learn something new! This class will discuss what goes into map making\, and the basics of orienteering! Meet at The Grove lodge\, the class will take place indoors.
URL:https://www.metroparks.net/event/adventure-101-map-making/
LOCATION:Scioto Grove\, 5172 Jackson Pike\, Grove City\, OH\, 43123\, United States
END:VEVENT
BEGIN:VEVENT
DTSTART;TZID=America/New_York:20251115T100000
DTEND;TZID=America/New_York:20251115T150000
DTSTAMP:20260419T115016
CREATED:20251022T132012Z
LAST-MODIFIED:20251022T132012Z
UID:10003404-1763200800-1763218800@www.metroparks.net
SUMMARY:For Adults 50+: Speaker Saturday!
DESCRIPTION:Bring your lunch and something to drink as we settle in for a day of engaging presentations. Metro Parks own Resource Management team will kick off the day as they share species and habitat management project updates. We’ll also be joined by Donald Althoff\, a Certified Wildlife Biologist and Professor Emeritus of Wildlife Conservation at the University of Rio Grande. He will delight us with tales of his southern flying squirrel research. Associate Professor Emeritus\, Robert Klips\, at Ohio State’s Department of Evolution\, Ecology and Organismal Biology will share the mysteries of mosses and lichens. We will end our day with live wild animals from the Ohio Wildlife Center! Admission is free!! \nMeet at the Grove Lodge.
URL:https://www.metroparks.net/event/for-adults-50-speaker-saturday/
LOCATION:Scioto Grove\, 5172 Jackson Pike\, Grove City\, OH\, 43123\, United States
END:VEVENT
BEGIN:VEVENT
DTSTART;TZID=America/New_York:20251114T150000
DTEND;TZID=America/New_York:20251114T163000
DTSTAMP:20260419T115016
CREATED:20251027T120919Z
LAST-MODIFIED:20251027T120919Z
UID:10003453-1763132400-1763137800@www.metroparks.net
SUMMARY:Adventure 101: Trailside Bike Maintenance
DESCRIPTION:Join us for our Adventure 101 series\, and learn a new outdoor skill! This Adventure 101 class will go over trailside bike maintenance\, what you should carry for quick repairs\, and how to keep your bike in good condition! This class will take place inside The Grove lodge at Scioto Grove Metro Park.
URL:https://www.metroparks.net/event/adventure-101-trailside-bike-maintenance/
LOCATION:Scioto Grove\, 5172 Jackson Pike\, Grove City\, OH\, 43123\, United States
END:VEVENT
END:VCALENDAR