BEGIN:VCALENDAR
VERSION:2.0
PRODID:-//Metro Parks - Central Ohio Park System - ECPv6.15.16.1//NONSGML v1.0//EN
CALSCALE:GREGORIAN
METHOD:PUBLISH
X-ORIGINAL-URL:https://www.metroparks.net
X-WR-CALDESC:Events for Metro Parks - Central Ohio Park System
REFRESH-INTERVAL;VALUE=DURATION:PT1H
X-Robots-Tag:noindex
X-PUBLISHED-TTL:PT1H
BEGIN:VTIMEZONE
TZID:America/New_York
BEGIN:DAYLIGHT
TZOFFSETFROM:-0500
TZOFFSETTO:-0400
TZNAME:EDT
DTSTART:20240310T070000
END:DAYLIGHT
BEGIN:STANDARD
TZOFFSETFROM:-0400
TZOFFSETTO:-0500
TZNAME:EST
DTSTART:20241103T060000
END:STANDARD
BEGIN:DAYLIGHT
TZOFFSETFROM:-0500
TZOFFSETTO:-0400
TZNAME:EDT
DTSTART:20250309T070000
END:DAYLIGHT
BEGIN:STANDARD
TZOFFSETFROM:-0400
TZOFFSETTO:-0500
TZNAME:EST
DTSTART:20251102T060000
END:STANDARD
BEGIN:DAYLIGHT
TZOFFSETFROM:-0500
TZOFFSETTO:-0400
TZNAME:EDT
DTSTART:20260308T070000
END:DAYLIGHT
BEGIN:STANDARD
TZOFFSETFROM:-0400
TZOFFSETTO:-0500
TZNAME:EST
DTSTART:20261101T060000
END:STANDARD
END:VTIMEZONE
BEGIN:VEVENT
DTSTART;TZID=America/New_York:20250707T190000
DTEND;TZID=America/New_York:20250707T200000
DTSTAMP:20260419T222332
CREATED:20250630T123311Z
LAST-MODIFIED:20250630T123311Z
UID:10003006-1751914800-1751918400@www.metroparks.net
SUMMARY:Yoga with Naomi
DESCRIPTION:Join us at Scioto Grove Metro Park for free yoga\, perfect for everyone! Yoga will take place at The Grove Lodge. We will be outdoors on the deck weather permitting. Bring your own mat!
URL:https://www.metroparks.net/event/yoga-with-naomi-2/
LOCATION:Scioto Grove\, 5172 Jackson Pike\, Grove City\, OH\, 43123\, United States
END:VEVENT
BEGIN:VEVENT
DTSTART;TZID=America/New_York:20250702T160000
DTEND;TZID=America/New_York:20250702T173000
DTSTAMP:20260419T222332
CREATED:20250630T121243Z
LAST-MODIFIED:20250630T121243Z
UID:10002989-1751472000-1751477400@www.metroparks.net
SUMMARY:Try it! Archery
DESCRIPTION:Come out to Scioto Grove Metro Park try your hand at this free archery program! Come out anytime between the times listed. All equipment and instruction provided. Ages 8+.
URL:https://www.metroparks.net/event/try-it-archery-20/2025-07-02/
LOCATION:Scioto Grove\, 5172 Jackson Pike\, Grove City\, OH\, 43123\, United States
END:VEVENT
BEGIN:VEVENT
DTSTART;TZID=America/New_York:20250628T140000
DTEND;TZID=America/New_York:20250628T160000
DTSTAMP:20260419T222332
CREATED:20250530T154553Z
LAST-MODIFIED:20250530T154553Z
UID:10002843-1751119200-1751126400@www.metroparks.net
SUMMARY:Campfire Cooking
DESCRIPTION:Join us for a meal around the campfire at Scioto Grove\, and learn how to make your own campfire treat! All materials and equipment will be provided\, free and fun! Meet at the Arrowhead Shelter.
URL:https://www.metroparks.net/event/campfire-cooking-6/
LOCATION:Scioto Grove\, 5172 Jackson Pike\, Grove City\, OH\, 43123\, United States
END:VEVENT
BEGIN:VEVENT
DTSTART;TZID=America/New_York:20250628T100000
DTEND;TZID=America/New_York:20250628T113000
DTSTAMP:20260419T222332
CREATED:20250530T154507Z
LAST-MODIFIED:20250530T154507Z
UID:10002842-1751104800-1751110200@www.metroparks.net
SUMMARY:Try it! Archery
DESCRIPTION:Come out to Scioto Grove Metro Park and try your hand at this free archery program! Come out anytime between the times listed. All equipment and instruction is provided. Recommended for Ages 8+.
URL:https://www.metroparks.net/event/try-it-archery-19/2025-06-28/
LOCATION:Scioto Grove\, 5172 Jackson Pike\, Grove City\, OH\, 43123\, United States
END:VEVENT
BEGIN:VEVENT
DTSTART;TZID=America/New_York:20250618T180000
DTEND;TZID=America/New_York:20250618T190000
DTSTAMP:20260419T222332
CREATED:20250530T155340Z
LAST-MODIFIED:20250530T155340Z
UID:10002853-1750269600-1750273200@www.metroparks.net
SUMMARY:Learn to Fish!
DESCRIPTION:Learn the basics of fishing with this free program at Scioto Grove Metro Park! All equipment provided – registration required to borrow a pole. Meet at Hickory Pond. \n  \nIf you need to borrow equipment\, register here.
URL:https://www.metroparks.net/event/learn-to-fish/
LOCATION:Scioto Grove\, 5172 Jackson Pike\, Grove City\, OH\, 43123\, United States
END:VEVENT
BEGIN:VEVENT
DTSTART;TZID=America/New_York:20250615T160000
DTEND;TZID=America/New_York:20250615T180000
DTSTAMP:20260419T222332
CREATED:20250530T155906Z
LAST-MODIFIED:20250530T155906Z
UID:10002859-1750003200-1750010400@www.metroparks.net
SUMMARY:Father's Day Fishing
DESCRIPTION:Celebrate the father in your life with this free fishing program at Scioto Grove Metro Park! All equipment provided – registration required to borrow a fishing pole. Meet at Hickory Pond. \n  \nRegister here to borrow equipment.
URL:https://www.metroparks.net/event/fathers-day-fishing-2/
LOCATION:Scioto Grove\, 5172 Jackson Pike\, Grove City\, OH\, 43123\, United States
END:VEVENT
BEGIN:VEVENT
DTSTART;TZID=America/New_York:20250615T080000
DTEND;TZID=America/New_York:20250615T093000
DTSTAMP:20260419T222332
CREATED:20250530T155951Z
LAST-MODIFIED:20250530T155951Z
UID:10002860-1749974400-1749979800@www.metroparks.net
SUMMARY:Morning Hike
DESCRIPTION:Wake up feeling refreshed with a nature hike through the beautiful Scioto Grove Metro Park! Meet at the Arrowhead Picnic Shelter.
URL:https://www.metroparks.net/event/morning-hike/
LOCATION:Scioto Grove\, 5172 Jackson Pike\, Grove City\, OH\, 43123\, United States
END:VEVENT
BEGIN:VEVENT
DTSTART;TZID=America/New_York:20250609T170000
DTEND;TZID=America/New_York:20250609T183000
DTSTAMP:20260419T222332
CREATED:20250530T154507Z
LAST-MODIFIED:20250530T154507Z
UID:10002841-1749488400-1749493800@www.metroparks.net
SUMMARY:Try it! Archery
DESCRIPTION:Come out to Scioto Grove Metro Park and try your hand at this free archery program! Come out anytime between the times listed. All equipment and instruction is provided. Recommended for Ages 8+.
URL:https://www.metroparks.net/event/try-it-archery-19/2025-06-09/
LOCATION:Scioto Grove\, 5172 Jackson Pike\, Grove City\, OH\, 43123\, United States
END:VEVENT
BEGIN:VEVENT
DTSTART;TZID=America/New_York:20250607T140000
DTEND;TZID=America/New_York:20250607T153000
DTSTAMP:20260419T222332
CREATED:20250530T154507Z
LAST-MODIFIED:20250530T154507Z
UID:10002840-1749304800-1749310200@www.metroparks.net
SUMMARY:Try it! Archery
DESCRIPTION:Come out to Scioto Grove Metro Park and try your hand at this free archery program! Come out anytime between the times listed. All equipment and instruction is provided. Recommended for Ages 8+.
URL:https://www.metroparks.net/event/try-it-archery-19/2025-06-07/
LOCATION:Scioto Grove\, 5172 Jackson Pike\, Grove City\, OH\, 43123\, United States
END:VEVENT
BEGIN:VEVENT
DTSTART;TZID=America/New_York:20250603T170000
DTEND;TZID=America/New_York:20250603T183000
DTSTAMP:20260419T222332
CREATED:20250530T154507Z
LAST-MODIFIED:20250530T154507Z
UID:10002839-1748970000-1748975400@www.metroparks.net
SUMMARY:Try it! Archery
DESCRIPTION:Come out to Scioto Grove Metro Park and try your hand at this free archery program! Come out anytime between the times listed. All equipment and instruction is provided. Recommended for Ages 8+.
URL:https://www.metroparks.net/event/try-it-archery-19/2025-06-03/
LOCATION:Scioto Grove\, 5172 Jackson Pike\, Grove City\, OH\, 43123\, United States
END:VEVENT
BEGIN:VEVENT
DTSTART;TZID=America/New_York:20250531T150000
DTEND;TZID=America/New_York:20250531T163000
DTSTAMP:20260419T222332
CREATED:20250429T124714Z
LAST-MODIFIED:20250429T124714Z
UID:10002691-1748703600-1748709000@www.metroparks.net
SUMMARY:Try It! Archery
DESCRIPTION:Join us at the Scioto Grove Metro Park Archery Range for a fun\, free day of archery! All equipment and instruction provided. Recommended for ages 8+\, but all ages are welcome to try with parental supervision.
URL:https://www.metroparks.net/event/try-it-archery-18/2025-05-31/
LOCATION:Scioto Grove\, 5172 Jackson Pike\, Grove City\, OH\, 43123\, United States
ATTACH;FMTTYPE=image/jpeg:https://www.metroparks.net/wp-content/uploads/2024/08/POK-Archery-JackRockwood-2024-05-31-1.jpg
END:VEVENT
BEGIN:VEVENT
DTSTART;TZID=America/New_York:20250529T180000
DTEND;TZID=America/New_York:20250529T190000
DTSTAMP:20260419T222332
CREATED:20250429T130617Z
LAST-MODIFIED:20250429T130617Z
UID:10002701-1748541600-1748545200@www.metroparks.net
SUMMARY:Family Fishing
DESCRIPTION:New to fishing\, or looking for a good spot to bring the family? Join us for Family Fishing! Fishing rods and bait are provided. Please register if you need to borrow a fishing rod.\nMeet at Hickory Pond at Scioto Grove Metro Park.
URL:https://www.metroparks.net/event/family-fishing/
LOCATION:Scioto Grove\, 5172 Jackson Pike\, Grove City\, OH\, 43123\, United States
END:VEVENT
BEGIN:VEVENT
DTSTART;TZID=America/New_York:20250520T170000
DTEND;TZID=America/New_York:20250520T183000
DTSTAMP:20260419T222332
CREATED:20250429T124714Z
LAST-MODIFIED:20250429T124714Z
UID:10002690-1747760400-1747765800@www.metroparks.net
SUMMARY:Try It! Archery
DESCRIPTION:Join us at the Scioto Grove Metro Park Archery Range for a fun\, free day of archery! All equipment and instruction provided. Recommended for ages 8+\, but all ages are welcome to try with parental supervision.
URL:https://www.metroparks.net/event/try-it-archery-18/2025-05-20/
LOCATION:Scioto Grove\, 5172 Jackson Pike\, Grove City\, OH\, 43123\, United States
ATTACH;FMTTYPE=image/jpeg:https://www.metroparks.net/wp-content/uploads/2024/08/POK-Archery-JackRockwood-2024-05-31-1.jpg
END:VEVENT
BEGIN:VEVENT
DTSTART;TZID=America/New_York:20250515T153000
DTEND;TZID=America/New_York:20250515T170000
DTSTAMP:20260419T222332
CREATED:20250429T124714Z
LAST-MODIFIED:20250429T124714Z
UID:10002689-1747323000-1747328400@www.metroparks.net
SUMMARY:Try It! Archery
DESCRIPTION:Join us at the Scioto Grove Metro Park Archery Range for a fun\, free day of archery! All equipment and instruction provided. Recommended for ages 8+\, but all ages are welcome to try with parental supervision.
URL:https://www.metroparks.net/event/try-it-archery-18/2025-05-15/
LOCATION:Scioto Grove\, 5172 Jackson Pike\, Grove City\, OH\, 43123\, United States
ATTACH;FMTTYPE=image/jpeg:https://www.metroparks.net/wp-content/uploads/2024/08/POK-Archery-JackRockwood-2024-05-31-1.jpg
END:VEVENT
BEGIN:VEVENT
DTSTART;TZID=America/New_York:20250512T143000
DTEND;TZID=America/New_York:20250512T160000
DTSTAMP:20260419T222332
CREATED:20250429T124832Z
LAST-MODIFIED:20250429T124832Z
UID:10002693-1747060200-1747065600@www.metroparks.net
SUMMARY:Mom and Me Archery
DESCRIPTION:Celebrate Mother’s Day by treating your parent\, or parental figure to a free and fun archery program! All equipment and basic instruction provided. Meet at the Scioto Grove Archery range! Ages 8+.
URL:https://www.metroparks.net/event/mom-and-me-archery-2/
LOCATION:Scioto Grove\, 5172 Jackson Pike\, Grove City\, OH\, 43123\, United States
END:VEVENT
BEGIN:VEVENT
DTSTART;TZID=America/New_York:20250509T160000
DTEND;TZID=America/New_York:20250509T173000
DTSTAMP:20260419T222332
CREATED:20250429T124714Z
LAST-MODIFIED:20250429T124714Z
UID:10002688-1746806400-1746811800@www.metroparks.net
SUMMARY:Try It! Archery
DESCRIPTION:Join us at the Scioto Grove Metro Park Archery Range for a fun\, free day of archery! All equipment and instruction provided. Recommended for ages 8+\, but all ages are welcome to try with parental supervision.
URL:https://www.metroparks.net/event/try-it-archery-18/2025-05-09/
LOCATION:Scioto Grove\, 5172 Jackson Pike\, Grove City\, OH\, 43123\, United States
ATTACH;FMTTYPE=image/jpeg:https://www.metroparks.net/wp-content/uploads/2024/08/POK-Archery-JackRockwood-2024-05-31-1.jpg
END:VEVENT
BEGIN:VEVENT
DTSTART;TZID=America/New_York:20250504T150000
DTEND;TZID=America/New_York:20250504T160000
DTSTAMP:20260419T222332
CREATED:20250429T130214Z
LAST-MODIFIED:20250429T130214Z
UID:10002697-1746370800-1746374400@www.metroparks.net
SUMMARY:Star Wars Archery
DESCRIPTION:May the 4th be with you! Enjoy Star Wars themed targets at the Scioto Grove Archery range. Equipment and basic instruction provided. Recommended for ages 8+ only.
URL:https://www.metroparks.net/event/star-wars-archery-2/
LOCATION:Scioto Grove\, 5172 Jackson Pike\, Grove City\, OH\, 43123\, United States
END:VEVENT
BEGIN:VEVENT
DTSTART;TZID=America/New_York:20250503T130000
DTEND;TZID=America/New_York:20250503T143000
DTSTAMP:20260419T222332
CREATED:20250328T123733Z
LAST-MODIFIED:20250328T123733Z
UID:10002597-1746277200-1746282600@www.metroparks.net
SUMMARY:Backpacking Series: Week 6 - Shakedown Hike
DESCRIPTION:Are you wanting to learn more about backpacking? Join us for a 6-week long series of interactive classes designed as an introduction to backpacking\, building up to an overnight trip at the end! Attendance at all classes is NOT required – however the overnight trip will only be open to those who attend at least one class. Each weeks topic will have two dates to choose from in that week so participants can pick the day that works best for them to attend\, you don’t need to attend both dates in the week. Meet at Arrowhead Picnic area at Scioto Grove Metro Park \nThis week we will be going on a backpacking preparation hike! Expect the hike to be approx. a mile in length. Bring a pack and equipment to test your strength and endurance on the trail in a real life backpacking senario! Meet at the Arrowhead Picnic Area at Scioto Grove Metro Park.
URL:https://www.metroparks.net/event/backpacking-series-week-6-shakedown-hike-2/2025-05-03/
LOCATION:Scioto Grove\, 5172 Jackson Pike\, Grove City\, OH\, 43123\, United States
END:VEVENT
BEGIN:VEVENT
DTSTART;TZID=America/New_York:20250428T180000
DTEND;TZID=America/New_York:20250428T193000
DTSTAMP:20260419T222332
CREATED:20250328T123733Z
LAST-MODIFIED:20250328T123733Z
UID:10002596-1745863200-1745868600@www.metroparks.net
SUMMARY:Backpacking Series: Week 6 - Shakedown Hike
DESCRIPTION:Are you wanting to learn more about backpacking? Join us for a 6-week long series of interactive classes designed as an introduction to backpacking\, building up to an overnight trip at the end! Attendance at all classes is NOT required – however the overnight trip will only be open to those who attend at least one class. Each weeks topic will have two dates to choose from in that week so participants can pick the day that works best for them to attend\, you don’t need to attend both dates in the week. Meet at Arrowhead Picnic area at Scioto Grove Metro Park \nThis week we will be going on a backpacking preparation hike! Expect the hike to be approx. a mile in length. Bring a pack and equipment to test your strength and endurance on the trail in a real life backpacking senario! Meet at the Arrowhead Picnic Area at Scioto Grove Metro Park.
URL:https://www.metroparks.net/event/backpacking-series-week-6-shakedown-hike-2/2025-04-28/
LOCATION:Scioto Grove\, 5172 Jackson Pike\, Grove City\, OH\, 43123\, United States
END:VEVENT
BEGIN:VEVENT
DTSTART;TZID=America/New_York:20250428T180000
DTEND;TZID=America/New_York:20250428T190000
DTSTAMP:20260419T222332
CREATED:20250328T123023Z
LAST-MODIFIED:20250328T123023Z
UID:10002585-1745863200-1745866800@www.metroparks.net
SUMMARY:Spring Into Yoga
DESCRIPTION:Celebrate the start of Spring with a relaxing yoga class at Scioto Grove Metro Park! Yoga will be at The Grove lodge. We will be outside on the deck\, weather permitting\, and inside in the case of rain. Bring your own mat! Free and fun!
URL:https://www.metroparks.net/event/spring-into-yoga-2/
LOCATION:Scioto Grove\, 5172 Jackson Pike\, Grove City\, OH\, 43123\, United States
END:VEVENT
BEGIN:VEVENT
DTSTART;TZID=America/New_York:20250428T153000
DTEND;TZID=America/New_York:20250428T170000
DTSTAMP:20260419T222332
CREATED:20250328T122945Z
LAST-MODIFIED:20250328T122945Z
UID:10002584-1745854200-1745859600@www.metroparks.net
SUMMARY:Try It! Archery
DESCRIPTION:Join us at the Scioto Grove Metro Park Archery Range for a fun\, free day of archery! All equipment provided. Recommended for ages 8+\, but all ages are welcome to try with parental supervision.
URL:https://www.metroparks.net/event/try-it-archery-17/2025-04-28/
LOCATION:Scioto Grove\, 5172 Jackson Pike\, Grove City\, OH\, 43123\, United States
END:VEVENT
BEGIN:VEVENT
DTSTART;TZID=America/New_York:20250426T130000
DTEND;TZID=America/New_York:20250426T143000
DTSTAMP:20260419T222332
CREATED:20250328T123638Z
LAST-MODIFIED:20250328T123638Z
UID:10002595-1745672400-1745677800@www.metroparks.net
SUMMARY:Backpacking Series: Week 5- Prep\, Safety and Outdoor Ethics
DESCRIPTION:Join us for a 6-week long series of interactive classes designed as an introduction to backpacking\, building up to an overnight trip at the end!\nAttendance at all classes is NOT required – however the overnight trip will only be open to those who attend at least one class.\n**Each weeks topic will have two dates to choose from in that week so participants can pick the day that works best for them to attend\, you don’t need to attend both dates in the week.\nWeek #5: Prep\, Safety and Outdoor Ethics. We will learn how to minimize the impact to our environment during this class\, and will prepare for our upcoming overnight trip! Plan for a short hike during this class\nMeet at Arrowhead Picnic Shelter at Scioto Grove Metro Park
URL:https://www.metroparks.net/event/backpacking-series-week-5-prep-safety-and-outdoor-ethics/2025-04-26/
LOCATION:Scioto Grove\, 5172 Jackson Pike\, Grove City\, OH\, 43123\, United States
END:VEVENT
BEGIN:VEVENT
DTSTART;TZID=America/New_York:20250426T100000
DTEND;TZID=America/New_York:20250426T110000
DTSTAMP:20260419T222332
CREATED:20250328T124646Z
LAST-MODIFIED:20250328T124646Z
UID:10002605-1745661600-1745665200@www.metroparks.net
SUMMARY:Adventure 101: Backpacking with your Dog
DESCRIPTION:Want to learn some tips and tricks for backpacking with your dog? Join us for this Adventure 101 class to learn how to safely explore with your pup! Dogs are welcome at this program! Meet at the Arrowhead Picnic Area at Scioto Grove Metro Park.
URL:https://www.metroparks.net/event/adventure-101-backpacking-with-your-dog/
LOCATION:Scioto Grove\, 5172 Jackson Pike\, Grove City\, OH\, 43123\, United States
END:VEVENT
BEGIN:VEVENT
DTSTART;TZID=America/New_York:20250424T163000
DTEND;TZID=America/New_York:20250424T180000
DTSTAMP:20260419T222332
CREATED:20250328T124542Z
LAST-MODIFIED:20250328T124542Z
UID:10002603-1745512200-1745517600@www.metroparks.net
SUMMARY:Invasive Species Archery!
DESCRIPTION:Learn about common invasive species that are found in the Metro Parks\, and take aim at themed targets during this Invasive Species Archery program! Hate honeysuckle? So do we! Free and fun! Ages 8+ recommended. Meet at the Scioto Grove Archery Range
URL:https://www.metroparks.net/event/invasive-species-archery/
LOCATION:Scioto Grove\, 5172 Jackson Pike\, Grove City\, OH\, 43123\, United States
END:VEVENT
BEGIN:VEVENT
DTSTART;TZID=America/New_York:20250421T180000
DTEND;TZID=America/New_York:20250421T193000
DTSTAMP:20260419T222332
CREATED:20250328T123638Z
LAST-MODIFIED:20250328T123638Z
UID:10002594-1745258400-1745263800@www.metroparks.net
SUMMARY:Backpacking Series: Week 5- Prep\, Safety and Outdoor Ethics
DESCRIPTION:Join us for a 6-week long series of interactive classes designed as an introduction to backpacking\, building up to an overnight trip at the end!\nAttendance at all classes is NOT required – however the overnight trip will only be open to those who attend at least one class.\n**Each weeks topic will have two dates to choose from in that week so participants can pick the day that works best for them to attend\, you don’t need to attend both dates in the week.\nWeek #5: Prep\, Safety and Outdoor Ethics. We will learn how to minimize the impact to our environment during this class\, and will prepare for our upcoming overnight trip! Plan for a short hike during this class\nMeet at Arrowhead Picnic Shelter at Scioto Grove Metro Park
URL:https://www.metroparks.net/event/backpacking-series-week-5-prep-safety-and-outdoor-ethics/2025-04-21/
LOCATION:Scioto Grove\, 5172 Jackson Pike\, Grove City\, OH\, 43123\, United States
END:VEVENT
BEGIN:VEVENT
DTSTART;TZID=America/New_York:20250419T130000
DTEND;TZID=America/New_York:20250419T143000
DTSTAMP:20260419T222332
CREATED:20250328T123542Z
LAST-MODIFIED:20250328T123542Z
UID:10002593-1745067600-1745073000@www.metroparks.net
SUMMARY:Backpacking Series: Week 4- Clothing and Foot Care
DESCRIPTION:Join us for a 6-week long series of interactive classes designed as an introduction to backpacking\, building up to an overnight trip at the end!\nAttendance at all classes is NOT required – however the overnight trip will only be open to those who attend at least one class.\n**Each weeks topic will have two dates to choose from in that week so participants can pick the day that works best for them to attend\, you don’t need to attend both dates in the week.\nWeek #4: Clothing and Foot Care. This week we will learn how to dress properly for being on the trails! We will also cover preventative foot care to keep pesky blisters away\, and how best to treat them if needed.\nMeet at Arrowhead Picnic Shelter at Scioto Grove Metro Park
URL:https://www.metroparks.net/event/backpacking-series-week-4-clothing-and-foot-care/2025-04-19/
LOCATION:Scioto Grove\, 5172 Jackson Pike\, Grove City\, OH\, 43123\, United States
END:VEVENT
BEGIN:VEVENT
DTSTART;TZID=America/New_York:20250414T180000
DTEND;TZID=America/New_York:20250414T193000
DTSTAMP:20260419T222332
CREATED:20250328T123542Z
LAST-MODIFIED:20250328T123542Z
UID:10002592-1744653600-1744659000@www.metroparks.net
SUMMARY:Backpacking Series: Week 4- Clothing and Foot Care
DESCRIPTION:Join us for a 6-week long series of interactive classes designed as an introduction to backpacking\, building up to an overnight trip at the end!\nAttendance at all classes is NOT required – however the overnight trip will only be open to those who attend at least one class.\n**Each weeks topic will have two dates to choose from in that week so participants can pick the day that works best for them to attend\, you don’t need to attend both dates in the week.\nWeek #4: Clothing and Foot Care. This week we will learn how to dress properly for being on the trails! We will also cover preventative foot care to keep pesky blisters away\, and how best to treat them if needed.\nMeet at Arrowhead Picnic Shelter at Scioto Grove Metro Park
URL:https://www.metroparks.net/event/backpacking-series-week-4-clothing-and-foot-care/2025-04-14/
LOCATION:Scioto Grove\, 5172 Jackson Pike\, Grove City\, OH\, 43123\, United States
END:VEVENT
BEGIN:VEVENT
DTSTART;TZID=America/New_York:20250414T180000
DTEND;TZID=America/New_York:20250414T190000
DTSTAMP:20260419T222332
CREATED:20250328T124031Z
LAST-MODIFIED:20250328T124031Z
UID:10002599-1744653600-1744657200@www.metroparks.net
SUMMARY:Yoga with Naomi
DESCRIPTION:Join us at Scioto Grove Metro Park for free yoga\, perfect for everyone! Yoga will take place at The Grove Lodge. We will be outdoors on the deck weather permitting\, or inside the lodge in the case of rain. Bring your own mat!
URL:https://www.metroparks.net/event/yoga-with-naomi/
LOCATION:Scioto Grove\, 5172 Jackson Pike\, Grove City\, OH\, 43123\, United States
END:VEVENT
BEGIN:VEVENT
DTSTART;TZID=America/New_York:20250412T130000
DTEND;TZID=America/New_York:20250412T143000
DTSTAMP:20260419T222332
CREATED:20250328T123203Z
LAST-MODIFIED:20250328T123203Z
UID:10002587-1744462800-1744468200@www.metroparks.net
SUMMARY:Backpacking Series: Week 3- Fuel\, Fire\, and Food
DESCRIPTION:Join us for a series of interactive classes designed as an introduction to backpacking! Classes will be held weekly for 6 weeks\, followed by an overnight trip. This series will be geared toward the upcoming spring backpacking season. Gear will be provided for demonstration purposes\, but you are highly encouraged to bring your own gear to improve your hands-on experience. Attendance at all classes is NOT required—you may attend as many or as few classes as you would like. The overnight trip will only be open to those who attend at least one class. Meet at Arrowhead picnic area unless otherwise stated. \nWhen it comes to preparing meals for backpacking\, there are several options to pick from. We will talk about the pros and cons of various types of backpacking stoves\, how much fuel to bring\, field maintenance\, and safety. We will also make a variety of backpacking meals\, and learn about proper nutrition when out on the trail. Bonus! You get to try some tasty meals!!
URL:https://www.metroparks.net/event/backpacking-series-week-3-fuel-fire-and-food/2025-04-12/
LOCATION:Scioto Grove\, 5172 Jackson Pike\, Grove City\, OH\, 43123\, United States
END:VEVENT
BEGIN:VEVENT
DTSTART;TZID=America/New_York:20250407T180000
DTEND;TZID=America/New_York:20250407T190000
DTSTAMP:20260419T222332
CREATED:20250328T123203Z
LAST-MODIFIED:20250328T123203Z
UID:10002586-1744048800-1744052400@www.metroparks.net
SUMMARY:Backpacking Series: Week 3- Fuel\, Fire\, and Food
DESCRIPTION:Join us for a series of interactive classes designed as an introduction to backpacking! Classes will be held weekly for 6 weeks\, followed by an overnight trip. This series will be geared toward the upcoming spring backpacking season. Gear will be provided for demonstration purposes\, but you are highly encouraged to bring your own gear to improve your hands-on experience. Attendance at all classes is NOT required—you may attend as many or as few classes as you would like. The overnight trip will only be open to those who attend at least one class. Meet at Arrowhead picnic area unless otherwise stated. \nWhen it comes to preparing meals for backpacking\, there are several options to pick from. We will talk about the pros and cons of various types of backpacking stoves\, how much fuel to bring\, field maintenance\, and safety. We will also make a variety of backpacking meals\, and learn about proper nutrition when out on the trail. Bonus! You get to try some tasty meals!!
URL:https://www.metroparks.net/event/backpacking-series-week-3-fuel-fire-and-food/2025-04-07/
LOCATION:Scioto Grove\, 5172 Jackson Pike\, Grove City\, OH\, 43123\, United States
END:VEVENT
END:VCALENDAR