BEGIN:VCALENDAR
VERSION:2.0
PRODID:-//Metro Parks - Central Ohio Park System - ECPv6.15.16.1//NONSGML v1.0//EN
CALSCALE:GREGORIAN
METHOD:PUBLISH
X-WR-CALNAME:Metro Parks - Central Ohio Park System
X-ORIGINAL-URL:https://www.metroparks.net
X-WR-CALDESC:Events for Metro Parks - Central Ohio Park System
REFRESH-INTERVAL;VALUE=DURATION:PT1H
X-Robots-Tag:noindex
X-PUBLISHED-TTL:PT1H
BEGIN:VTIMEZONE
TZID:America/New_York
BEGIN:DAYLIGHT
TZOFFSETFROM:-0500
TZOFFSETTO:-0400
TZNAME:EDT
DTSTART:20230312T070000
END:DAYLIGHT
BEGIN:STANDARD
TZOFFSETFROM:-0400
TZOFFSETTO:-0500
TZNAME:EST
DTSTART:20231105T060000
END:STANDARD
BEGIN:DAYLIGHT
TZOFFSETFROM:-0500
TZOFFSETTO:-0400
TZNAME:EDT
DTSTART:20240310T070000
END:DAYLIGHT
BEGIN:STANDARD
TZOFFSETFROM:-0400
TZOFFSETTO:-0500
TZNAME:EST
DTSTART:20241103T060000
END:STANDARD
BEGIN:DAYLIGHT
TZOFFSETFROM:-0500
TZOFFSETTO:-0400
TZNAME:EDT
DTSTART:20250309T070000
END:DAYLIGHT
BEGIN:STANDARD
TZOFFSETFROM:-0400
TZOFFSETTO:-0500
TZNAME:EST
DTSTART:20251102T060000
END:STANDARD
END:VTIMEZONE
BEGIN:VEVENT
DTSTART;TZID=America/New_York:20240921T100000
DTEND;TZID=America/New_York:20240921T113000
DTSTAMP:20260423T193328
CREATED:20240826T165559Z
LAST-MODIFIED:20240826T165559Z
UID:10001746-1726912800-1726918200@www.metroparks.net
SUMMARY:For Adults 50+: Off The Beaten Path at Camp Starview
DESCRIPTION:Hike 2-miles through ravines and over creek beds on an unimproved\, dirt\, grass and gravel trail. Be prepared\, we may get a little wet and muddy on this moderate to difficult trail. Bring water as there is no potable water available. \nMeet at Camp Starview at 9631 Neiswander Rd.\, Ashville 43103
URL:https://www.metroparks.net/event/for-adults-50-off-the-beaten-path-at-camp-starview/
LOCATION:Slate Run Day Camp\, 9631 Neiswander Road\, Ashville\, Ohio\, 43103
END:VEVENT
END:VCALENDAR