BEGIN:VCALENDAR
VERSION:2.0
PRODID:-//Metro Parks - Central Ohio Park System - ECPv6.15.16.1//NONSGML v1.0//EN
CALSCALE:GREGORIAN
METHOD:PUBLISH
X-ORIGINAL-URL:https://www.metroparks.net
X-WR-CALDESC:Events for Metro Parks - Central Ohio Park System
REFRESH-INTERVAL;VALUE=DURATION:PT1H
X-Robots-Tag:noindex
X-PUBLISHED-TTL:PT1H
BEGIN:VTIMEZONE
TZID:America/New_York
BEGIN:DAYLIGHT
TZOFFSETFROM:-0500
TZOFFSETTO:-0400
TZNAME:EDT
DTSTART:20220313T070000
END:DAYLIGHT
BEGIN:STANDARD
TZOFFSETFROM:-0400
TZOFFSETTO:-0500
TZNAME:EST
DTSTART:20221106T060000
END:STANDARD
BEGIN:DAYLIGHT
TZOFFSETFROM:-0500
TZOFFSETTO:-0400
TZNAME:EDT
DTSTART:20230312T070000
END:DAYLIGHT
BEGIN:STANDARD
TZOFFSETFROM:-0400
TZOFFSETTO:-0500
TZNAME:EST
DTSTART:20231105T060000
END:STANDARD
BEGIN:DAYLIGHT
TZOFFSETFROM:-0500
TZOFFSETTO:-0400
TZNAME:EDT
DTSTART:20240310T070000
END:DAYLIGHT
BEGIN:STANDARD
TZOFFSETFROM:-0400
TZOFFSETTO:-0500
TZNAME:EST
DTSTART:20241103T060000
END:STANDARD
BEGIN:DAYLIGHT
TZOFFSETFROM:-0500
TZOFFSETTO:-0400
TZNAME:EDT
DTSTART:20250309T070000
END:DAYLIGHT
BEGIN:STANDARD
TZOFFSETFROM:-0400
TZOFFSETTO:-0500
TZNAME:EST
DTSTART:20251102T060000
END:STANDARD
BEGIN:DAYLIGHT
TZOFFSETFROM:-0500
TZOFFSETTO:-0400
TZNAME:EDT
DTSTART:20260308T070000
END:DAYLIGHT
BEGIN:STANDARD
TZOFFSETFROM:-0400
TZOFFSETTO:-0500
TZNAME:EST
DTSTART:20261101T060000
END:STANDARD
END:VTIMEZONE
BEGIN:VEVENT
DTSTART;TZID=America/New_York:20251004T140000
DTEND;TZID=America/New_York:20251004T150000
DTSTAMP:20260420T171417
CREATED:20250930T130449Z
LAST-MODIFIED:20250930T130449Z
UID:10003358-1759586400-1759590000@www.metroparks.net
SUMMARY:Fall Foliage Hike
DESCRIPTION:Enjoy the beauty of fall and the leaves changing color at Slate Run Metro Park! Hike will be approx. 1.4 miles long over hilly terrain. Hiking boots recommended. Meet at the Buzzard’s Roost parking area.
URL:https://www.metroparks.net/event/fall-foliage-hike-4/2025-10-04/
LOCATION:Slate Run Park\, 1375 St. Rte. 674 North\, Canal Winchester\, 43110\, United States
END:VEVENT
BEGIN:VEVENT
DTSTART;TZID=America/New_York:20250501T183000
DTEND;TZID=America/New_York:20250501T203000
DTSTAMP:20260420T171417
CREATED:20250425T124051Z
LAST-MODIFIED:20250425T124051Z
UID:10002653-1746124200-1746131400@www.metroparks.net
SUMMARY:COSI Science Fest: Plant & Animal Exploration at Slate Run Metro Park
DESCRIPTION:Join COSI and Metro Parks for this hands on experience. Become a scientist by helping us record species in the park! We will look high and low for plants and animals\, from treetops to under rocks in the creek. Dress for the weather and wear footwear that can go for a 1.5-mile walk\, go off-trail some\, and maybe even get wet!\nProgram begins at 6:30pm with a quick intro. Running a few minutes late? Hike down the Five Oaks trail and you should find us. We hope to be actively recording species on- and off-trail until 8:30pm.\nDownload iNaturalist ahead of time if you plan on using that platform (cell service is spotty at Slate Run Metro Park.) Program is for all ages!
URL:https://www.metroparks.net/event/cosi-science-fest-plant-animal-exploration-at-slate-run-metro-park/
LOCATION:Slate Run Park\, 1375 St. Rte. 674 North\, Canal Winchester\, 43110\, United States
END:VEVENT
BEGIN:VEVENT
DTSTART;TZID=America/New_York:20250322T110000
DTEND;TZID=America/New_York:20250322T123000
DTSTAMP:20260420T171417
CREATED:20250226T135817Z
LAST-MODIFIED:20250226T135817Z
UID:10002445-1742641200-1742646600@www.metroparks.net
SUMMARY:For Adults 50+: Wetland Walk
DESCRIPTION:Take a 1.5-mile stroll through the wetlands in search of ducks\, sandhill cranes and other creatures enjoying the awakening of spring. Bring binoculars if you have them. The Kokomo trail is an easy grass\, dirt and boardwalk trail. \nMeet at the Slate Run Wetlands parking lot at 11140 Winchester Rd.\, Canal Winchester.
URL:https://www.metroparks.net/event/for-adults-50-wetland-walk-2/
LOCATION:Slate Run Park\, 1375 St. Rte. 674 North\, Canal Winchester\, 43110\, United States
END:VEVENT
BEGIN:VEVENT
DTSTART;TZID=America/New_York:20250210T100000
DTEND;TZID=America/New_York:20250210T113000
DTSTAMP:20260420T171417
CREATED:20250128T143743Z
LAST-MODIFIED:20250128T143743Z
UID:10002315-1739181600-1739187000@www.metroparks.net
SUMMARY:50+ Off-trail Hike
DESCRIPTION:Enjoy an off-trail hike through Slate Run Metro Park! Meet at the Buzzards Roost Picnic area. We will be hiking over uneven and unimproved terrain\, with steep incline. Hiking boots and trekking poles are recommended.
URL:https://www.metroparks.net/event/50-off-trail-hike/
LOCATION:Slate Run Park\, 1375 St. Rte. 674 North\, Canal Winchester\, 43110\, United States
END:VEVENT
BEGIN:VEVENT
DTSTART;TZID=America/New_York:20250131T100000
DTEND;TZID=America/New_York:20250131T110000
DTSTAMP:20260420T171417
CREATED:20241231T142225Z
LAST-MODIFIED:20241231T142225Z
UID:10002251-1738317600-1738321200@www.metroparks.net
SUMMARY:50+ Morning Hike
DESCRIPTION:Join us for a staff led 50+ morning hike at Slate Run Metro Park! Meet at the Buzzards Roost Picnic Area\, trails are gravel and dirt\, with areas of unevenness.
URL:https://www.metroparks.net/event/50-morning-hike/
LOCATION:Slate Run Park\, 1375 St. Rte. 674 North\, Canal Winchester\, 43110\, United States
END:VEVENT
BEGIN:VEVENT
DTSTART;TZID=America/New_York:20250124T140000
DTEND;TZID=America/New_York:20250124T150000
DTSTAMP:20260420T171417
CREATED:20241219T144446Z
LAST-MODIFIED:20241219T144446Z
UID:10002175-1737727200-1737730800@www.metroparks.net
SUMMARY:For Adults 50+: Hike the Sugar Maple
DESCRIPTION:Hike up and down hills on this moderate 1.5-mile trek through the forest. \nMeet at the Buzzard’s Roost Picnic Area bulletin board.
URL:https://www.metroparks.net/event/for-adults-50-hike-the-sugar-maple/
LOCATION:Slate Run Park\, 1375 St. Rte. 674 North\, Canal Winchester\, 43110\, United States
END:VEVENT
BEGIN:VEVENT
DTSTART;TZID=America/New_York:20250112T100000
DTEND;TZID=America/New_York:20250112T130000
DTSTAMP:20260420T171417
CREATED:20241023T151943Z
LAST-MODIFIED:20241023T152042Z
UID:10001949-1736676000-1736686800@www.metroparks.net
SUMMARY:Slate Run Winter Hike
DESCRIPTION:Gather your friends and family for a hike on any trail at Slate Run Metro Park. Refreshments and a treat will be served between 10am and 1pm at Buzzards Roost Picnic Area. \nLearn more about winter hikes by clicking here.
URL:https://www.metroparks.net/event/slate-run-winter-hike-2/
LOCATION:Slate Run Park\, 1375 St. Rte. 674 North\, Canal Winchester\, 43110\, United States
ATTACH;FMTTYPE=image/png:https://www.metroparks.net/wp-content/uploads/2024/10/23.png
END:VEVENT
BEGIN:VEVENT
DTSTART;TZID=America/New_York:20250111T090000
DTEND;TZID=America/New_York:20250111T103000
DTSTAMP:20260420T171417
CREATED:20241231T141228Z
LAST-MODIFIED:20241231T141228Z
UID:10002239-1736586000-1736591400@www.metroparks.net
SUMMARY:Off-Trail Hike
DESCRIPTION:Join us for a staff led Off-Trail Hike at Slate Run Metro Park! The hike will be approx. 2 miles\, navigating through rugged terrain\, hiking boots/tennis shoes are highly recommended. Meet at the Shady Grove Picnic Area
URL:https://www.metroparks.net/event/off-trail-hike/
LOCATION:Slate Run Park\, 1375 St. Rte. 674 North\, Canal Winchester\, 43110\, United States
END:VEVENT
BEGIN:VEVENT
DTSTART;TZID=America/New_York:20241012T110000
DTEND;TZID=America/New_York:20241012T150000
DTSTAMP:20260420T171417
CREATED:20240827T172919Z
LAST-MODIFIED:20240906T135747Z
UID:10001775-1728730800-1728745200@www.metroparks.net
SUMMARY:Fall Fest
DESCRIPTION:Join us at Slate Run Metro Park for hayrides\, pumpkins\, crafts\, archery\, s’mores and more! Slate Run Living Historical Farm will be there with 1880s games\, food trucks will be available for snacks\, and vendors will bring all of their fall fares. This is a day of family-friendly fall activities you don’t want to miss.
URL:https://www.metroparks.net/event/fall-fest-2/
LOCATION:Slate Run Park\, 1375 St. Rte. 674 North\, Canal Winchester\, 43110\, United States
ATTACH;FMTTYPE=image/png:https://www.metroparks.net/wp-content/uploads/2024/08/Metro-Parks-3.png
END:VEVENT
BEGIN:VEVENT
DTSTART;TZID=America/New_York:20240407T140000
DTEND;TZID=America/New_York:20240407T153000
DTSTAMP:20260420T171417
CREATED:20240325T134233Z
LAST-MODIFIED:20240325T134233Z
UID:10001141-1712498400-1712503800@www.metroparks.net
SUMMARY:For Adults 50+: Wetland Walk
DESCRIPTION:Take a 1.5-mile stroll through the wetlands in search of ducks\, sandhill cranes and other creatures enjoying the awakening of spring. Bring binoculars if you have them. The Kokomo trail is an easy grass\, dirt and boardwalk trail. \nMeet at the Slate Run Wetlands parking lot at 11140 Winchester Rd.\, Canal Winchester
URL:https://www.metroparks.net/event/for-adults-50-wetland-walk/
LOCATION:Slate Run Park\, 1375 St. Rte. 674 North\, Canal Winchester\, 43110\, United States
END:VEVENT
BEGIN:VEVENT
DTSTART;TZID=America/New_York:20240114T100000
DTEND;TZID=America/New_York:20240114T130000
DTSTAMP:20260420T171417
CREATED:20231115T175216Z
LAST-MODIFIED:20231207T150449Z
UID:10000731-1705226400-1705237200@www.metroparks.net
SUMMARY:Slate Run Winter Hike
DESCRIPTION:Gather your friends and family for a hike on any trail at Slate Run Metro Park. Refreshments and a treat will be served between 10am and 1pm at Buzzards Roost Picnic Area. \nLearn more about winter hikes by clicking here.
URL:https://www.metroparks.net/event/slate-run-winter-hike/
LOCATION:Slate Run Park\, 1375 St. Rte. 674 North\, Canal Winchester\, 43110\, United States
ATTACH;FMTTYPE=image/png:https://www.metroparks.net/wp-content/uploads/2023/11/SLR.png
END:VEVENT
BEGIN:VEVENT
DTSTART;TZID=America/New_York:20231113T120000
DTEND;TZID=America/New_York:20231113T130000
DTSTAMP:20260420T171417
CREATED:20231031T170018Z
LAST-MODIFIED:20231031T170018Z
UID:10000721-1699876800-1699880400@www.metroparks.net
SUMMARY:For Adults! Hike
DESCRIPTION:Enjoy a staff-led hike through the beautiful forests of Slate Run Metro Park. Meet at the Buzzards Roost Picnic Area. Hike will be approx. 1.4 miles over hilly terrain. Ages 18+.
URL:https://www.metroparks.net/event/for-adults-hike/
LOCATION:Slate Run Park\, 1375 St. Rte. 674 North\, Canal Winchester\, 43110\, United States
END:VEVENT
BEGIN:VEVENT
DTSTART;TZID=America/New_York:20231027T173000
DTEND;TZID=America/New_York:20231027T183000
DTSTAMP:20260420T171417
CREATED:20230929T185426Z
LAST-MODIFIED:20230929T185426Z
UID:10000674-1698427800-1698431400@www.metroparks.net
SUMMARY:Fall Foliage Hike
DESCRIPTION:Enjoy the beauty of fall and the leaves changing color at Slate Run Metro Park! Hike will be approx. 1.4 miles long over hilly terrain. Hiking boots recommended. Meet at the Buzzard’s Roost parking area.
URL:https://www.metroparks.net/event/fall-foliage-hike-2/
LOCATION:Slate Run Park\, 1375 St. Rte. 674 North\, Canal Winchester\, 43110\, United States
ATTACH;FMTTYPE=image/jpeg:https://www.metroparks.net/wp-content/uploads/2015/01/SLR_geese-on-Buzzards-Roost-Lake_KG.jpg
END:VEVENT
BEGIN:VEVENT
DTSTART;TZID=America/New_York:20231014T110000
DTEND;TZID=America/New_York:20231014T150000
DTSTAMP:20260420T171417
CREATED:20230818T140615Z
LAST-MODIFIED:20230919T162451Z
UID:10000592-1697281200-1697295600@www.metroparks.net
SUMMARY:Fall Fest
DESCRIPTION:Join us on October 14\, from 11am to 3pm for Fall Fest at Slate Run Metro Park! \nActivities include: corn maze\, hayrides\, pumpkin patch\, archery\, live music\, crafts\, games\, s’mores\, food trucks and more! \nThis is the event to get your 75-Year Challenge prizes\, so make sure you fill the form out before arriving!
URL:https://www.metroparks.net/event/fall-fest/
LOCATION:Slate Run Park\, 1375 St. Rte. 674 North\, Canal Winchester\, 43110\, United States
ATTACH;FMTTYPE=image/png:https://www.metroparks.net/wp-content/uploads/2023/08/music.png
END:VEVENT
END:VCALENDAR